BEGIN:VCALENDAR
VERSION:2.0
PRODID:-//Hiking Hound Adventures, LLC - ECPv6.15.20//NONSGML v1.0//EN
CALSCALE:GREGORIAN
METHOD:PUBLISH
X-ORIGINAL-URL:https://hikinghoundadventures.com
X-WR-CALDESC:Events for Hiking Hound Adventures, LLC
REFRESH-INTERVAL;VALUE=DURATION:PT1H
X-Robots-Tag:noindex
X-PUBLISHED-TTL:PT1H
BEGIN:VTIMEZONE
TZID:America/New_York
BEGIN:DAYLIGHT
TZOFFSETFROM:-0500
TZOFFSETTO:-0400
TZNAME:EDT
DTSTART:20250309T070000
END:DAYLIGHT
BEGIN:STANDARD
TZOFFSETFROM:-0400
TZOFFSETTO:-0500
TZNAME:EST
DTSTART:20251102T060000
END:STANDARD
BEGIN:DAYLIGHT
TZOFFSETFROM:-0500
TZOFFSETTO:-0400
TZNAME:EDT
DTSTART:20260308T070000
END:DAYLIGHT
BEGIN:STANDARD
TZOFFSETFROM:-0400
TZOFFSETTO:-0500
TZNAME:EST
DTSTART:20261101T060000
END:STANDARD
BEGIN:DAYLIGHT
TZOFFSETFROM:-0500
TZOFFSETTO:-0400
TZNAME:EDT
DTSTART:20270314T070000
END:DAYLIGHT
BEGIN:STANDARD
TZOFFSETFROM:-0400
TZOFFSETTO:-0500
TZNAME:EST
DTSTART:20271107T060000
END:STANDARD
END:VTIMEZONE
BEGIN:VEVENT
DTSTART;TZID=America/New_York:20260305T160000
DTEND;TZID=America/New_York:20260305T160000
DTSTAMP:20260423T132711
CREATED:20251118T164421Z
LAST-MODIFIED:20251229T185852Z
UID:5041-1772726400-1772726400@hikinghoundadventures.com
SUMMARY:Afterschool Program- Wayne Elementary
DESCRIPTION:
URL:https://hikinghoundadventures.com/event/afterschool-program-wayne-elementary-8/
CATEGORIES:Afterschool
END:VEVENT
BEGIN:VEVENT
DTSTART;TZID=America/New_York:20260312T160000
DTEND;TZID=America/New_York:20260312T160000
DTSTAMP:20260423T132711
CREATED:20251118T164421Z
LAST-MODIFIED:20251229T185852Z
UID:5042-1773331200-1773331200@hikinghoundadventures.com
SUMMARY:Afterschool Program- Wayne Elementary
DESCRIPTION:
URL:https://hikinghoundadventures.com/event/afterschool-program-wayne-elementary-9/
CATEGORIES:Afterschool
END:VEVENT
BEGIN:VEVENT
DTSTART;TZID=America/New_York:20260326T160000
DTEND;TZID=America/New_York:20260326T160000
DTSTAMP:20260423T132711
CREATED:20251118T164437Z
LAST-MODIFIED:20251229T185852Z
UID:5043-1774540800-1774540800@hikinghoundadventures.com
SUMMARY:Afterschool Program- Wayne Elementary
DESCRIPTION:
URL:https://hikinghoundadventures.com/event/afterschool-program-wayne-elementary-10/
CATEGORIES:Afterschool
END:VEVENT
END:VCALENDAR