BEGIN:VCALENDAR
VERSION:2.0
PRODID:-//Hiking Hound Adventures, LLC - ECPv6.15.20//NONSGML v1.0//EN
CALSCALE:GREGORIAN
METHOD:PUBLISH
X-WR-CALNAME:Hiking Hound Adventures, LLC
X-ORIGINAL-URL:https://hikinghoundadventures.com
X-WR-CALDESC:Events for Hiking Hound Adventures, LLC
REFRESH-INTERVAL;VALUE=DURATION:PT1H
X-Robots-Tag:noindex
X-PUBLISHED-TTL:PT1H
BEGIN:VTIMEZONE
TZID:America/New_York
BEGIN:DAYLIGHT
TZOFFSETFROM:-0500
TZOFFSETTO:-0400
TZNAME:EDT
DTSTART:20250309T070000
END:DAYLIGHT
BEGIN:STANDARD
TZOFFSETFROM:-0400
TZOFFSETTO:-0500
TZNAME:EST
DTSTART:20251102T060000
END:STANDARD
BEGIN:DAYLIGHT
TZOFFSETFROM:-0500
TZOFFSETTO:-0400
TZNAME:EDT
DTSTART:20260308T070000
END:DAYLIGHT
BEGIN:STANDARD
TZOFFSETFROM:-0400
TZOFFSETTO:-0500
TZNAME:EST
DTSTART:20261101T060000
END:STANDARD
BEGIN:DAYLIGHT
TZOFFSETFROM:-0500
TZOFFSETTO:-0400
TZNAME:EDT
DTSTART:20270314T070000
END:DAYLIGHT
BEGIN:STANDARD
TZOFFSETFROM:-0400
TZOFFSETTO:-0500
TZNAME:EST
DTSTART:20271107T060000
END:STANDARD
END:VTIMEZONE
BEGIN:VEVENT
DTSTART;TZID=America/New_York:20260314T090000
DTEND;TZID=America/New_York:20260314T090000
DTSTAMP:20260423T131941
CREATED:20251118T164800Z
LAST-MODIFIED:20251118T164800Z
UID:5131-1773478800-1773478800@hikinghoundadventures.com
SUMMARY:Pinchot Trial South: 2 Day\, 1 Night Backpacking Trip
DESCRIPTION:
URL:https://hikinghoundadventures.com/event/pinchot-trial-south-2-day-1-night-backpacking-trip-6/
CATEGORIES:Backpacking Trips
END:VEVENT
BEGIN:VEVENT
DTSTART;TZID=America/New_York:20260315T090000
DTEND;TZID=America/New_York:20260315T090000
DTSTAMP:20260423T131941
CREATED:20251118T164800Z
LAST-MODIFIED:20251118T164800Z
UID:5132-1773565200-1773565200@hikinghoundadventures.com
SUMMARY:Pinchot Trial South: 2 Day\, 1 Night Backpacking Trip
DESCRIPTION:
URL:https://hikinghoundadventures.com/event/pinchot-trial-south-2-day-1-night-backpacking-trip-7/
CATEGORIES:Backpacking Trips
END:VEVENT
BEGIN:VEVENT
DTSTART;TZID=America/New_York:20260328T090000
DTEND;TZID=America/New_York:20260328T090000
DTSTAMP:20260423T131941
CREATED:20260117T213809Z
LAST-MODIFIED:20260117T213809Z
UID:5752-1774688400-1774688400@hikinghoundadventures.com
SUMMARY:PRIVATE Pinchot Trial South: 2 Day\, 1 Night Backpacking Trip
DESCRIPTION:
URL:https://hikinghoundadventures.com/event/private-pinchot-trial-south-2-day-1-night-backpacking-trip/
CATEGORIES:Backpacking Trips,Private Event
END:VEVENT
BEGIN:VEVENT
DTSTART;TZID=America/New_York:20260329T100000
DTEND;TZID=America/New_York:20260329T100000
DTSTAMP:20260423T131941
CREATED:20260117T213810Z
LAST-MODIFIED:20260117T213810Z
UID:5753-1774778400-1774778400@hikinghoundadventures.com
SUMMARY:PRIVATE Pinchot Trial South: 2 Day\, 1 Night Backpacking Trip
DESCRIPTION:
URL:https://hikinghoundadventures.com/event/private-pinchot-trial-south-2-day-1-night-backpacking-trip-2/
CATEGORIES:Backpacking Trips,Private Event
END:VEVENT
END:VCALENDAR