BEGIN:VCALENDAR
VERSION:2.0
PRODID:-//Hiking Hound Adventures, LLC - ECPv6.15.20//NONSGML v1.0//EN
CALSCALE:GREGORIAN
METHOD:PUBLISH
X-ORIGINAL-URL:https://hikinghoundadventures.com
X-WR-CALDESC:Events for Hiking Hound Adventures, LLC
REFRESH-INTERVAL;VALUE=DURATION:PT1H
X-Robots-Tag:noindex
X-PUBLISHED-TTL:PT1H
BEGIN:VTIMEZONE
TZID:America/New_York
BEGIN:DAYLIGHT
TZOFFSETFROM:-0500
TZOFFSETTO:-0400
TZNAME:EDT
DTSTART:20250309T070000
END:DAYLIGHT
BEGIN:STANDARD
TZOFFSETFROM:-0400
TZOFFSETTO:-0500
TZNAME:EST
DTSTART:20251102T060000
END:STANDARD
BEGIN:DAYLIGHT
TZOFFSETFROM:-0500
TZOFFSETTO:-0400
TZNAME:EDT
DTSTART:20260308T070000
END:DAYLIGHT
BEGIN:STANDARD
TZOFFSETFROM:-0400
TZOFFSETTO:-0500
TZNAME:EST
DTSTART:20261101T060000
END:STANDARD
BEGIN:DAYLIGHT
TZOFFSETFROM:-0500
TZOFFSETTO:-0400
TZNAME:EDT
DTSTART:20270314T070000
END:DAYLIGHT
BEGIN:STANDARD
TZOFFSETFROM:-0400
TZOFFSETTO:-0500
TZNAME:EST
DTSTART:20271107T060000
END:STANDARD
END:VTIMEZONE
BEGIN:VEVENT
DTSTART;TZID=America/New_York:20260711T090000
DTEND;TZID=America/New_York:20260711T090000
DTSTAMP:20260423T161037
CREATED:20251118T164836Z
LAST-MODIFIED:20260217T190047Z
UID:5138-1783760400-1783760400@hikinghoundadventures.com
SUMMARY:HikerBabes Loyalsock- Link Loop: 2 Day\, 1 Night Backpacking Trip
DESCRIPTION:
URL:https://hikinghoundadventures.com/event/pinchot-trial-south-2-day-1-night-backpacking-trip-13/
CATEGORIES:Backpacking Trips
END:VEVENT
BEGIN:VEVENT
DTSTART;TZID=America/New_York:20260712T090000
DTEND;TZID=America/New_York:20260712T090000
DTSTAMP:20260423T161037
CREATED:20251118T164817Z
LAST-MODIFIED:20260217T190102Z
UID:5137-1783846800-1783846800@hikinghoundadventures.com
SUMMARY:HikerBabes Loyalsock-Link Loop: 2 Day\, 1 Night Backpacking Trip
DESCRIPTION:
URL:https://hikinghoundadventures.com/event/pinchot-trial-south-2-day-1-night-backpacking-trip-12/
CATEGORIES:Backpacking Trips
END:VEVENT
END:VCALENDAR