BEGIN:VCALENDAR
VERSION:2.0
PRODID:-//Hiking Hound Adventures, LLC - ECPv6.15.20//NONSGML v1.0//EN
CALSCALE:GREGORIAN
METHOD:PUBLISH
X-ORIGINAL-URL:https://hikinghoundadventures.com
X-WR-CALDESC:Events for Hiking Hound Adventures, LLC
REFRESH-INTERVAL;VALUE=DURATION:PT1H
X-Robots-Tag:noindex
X-PUBLISHED-TTL:PT1H
BEGIN:VTIMEZONE
TZID:America/New_York
BEGIN:DAYLIGHT
TZOFFSETFROM:-0500
TZOFFSETTO:-0400
TZNAME:EDT
DTSTART:20250309T070000
END:DAYLIGHT
BEGIN:STANDARD
TZOFFSETFROM:-0400
TZOFFSETTO:-0500
TZNAME:EST
DTSTART:20251102T060000
END:STANDARD
BEGIN:DAYLIGHT
TZOFFSETFROM:-0500
TZOFFSETTO:-0400
TZNAME:EDT
DTSTART:20260308T070000
END:DAYLIGHT
BEGIN:STANDARD
TZOFFSETFROM:-0400
TZOFFSETTO:-0500
TZNAME:EST
DTSTART:20261101T060000
END:STANDARD
BEGIN:DAYLIGHT
TZOFFSETFROM:-0500
TZOFFSETTO:-0400
TZNAME:EDT
DTSTART:20270314T070000
END:DAYLIGHT
BEGIN:STANDARD
TZOFFSETFROM:-0400
TZOFFSETTO:-0500
TZNAME:EST
DTSTART:20271107T060000
END:STANDARD
END:VTIMEZONE
BEGIN:VEVENT
DTSTART;TZID=America/New_York:20260808T090000
DTEND;TZID=America/New_York:20260808T090000
DTSTAMP:20260423T201802
CREATED:20251118T164836Z
LAST-MODIFIED:20251118T164836Z
UID:5139-1786179600-1786179600@hikinghoundadventures.com
SUMMARY:Pinchot Trial South: 2 Day\, 1 Night Backpacking Trip
DESCRIPTION:
URL:https://hikinghoundadventures.com/event/pinchot-trial-south-2-day-1-night-backpacking-trip-14/
CATEGORIES:Backpacking Trips
END:VEVENT
BEGIN:VEVENT
DTSTART;TZID=America/New_York:20260808T090000
DTEND;TZID=America/New_York:20260808T090000
DTSTAMP:20260423T201802
CREATED:20251229T190037Z
LAST-MODIFIED:20251229T190037Z
UID:5593-1786179600-1786179600@hikinghoundadventures.com
SUMMARY:John P. Saylor Trail: 2 Day\, 1 Night Backpacking Trip
DESCRIPTION:
URL:https://hikinghoundadventures.com/event/john-p-saylor-trail-2-day-1-night-backpacking-trip/
CATEGORIES:Backpacking Trips
END:VEVENT
BEGIN:VEVENT
DTSTART;TZID=America/New_York:20260809T090000
DTEND;TZID=America/New_York:20260809T090000
DTSTAMP:20260423T201802
CREATED:20251118T164836Z
LAST-MODIFIED:20251118T164836Z
UID:5140-1786266000-1786266000@hikinghoundadventures.com
SUMMARY:Pinchot Trial South: 2 Day\, 1 Night Backpacking Trip
DESCRIPTION:
URL:https://hikinghoundadventures.com/event/pinchot-trial-south-2-day-1-night-backpacking-trip-15/
CATEGORIES:Backpacking Trips
END:VEVENT
BEGIN:VEVENT
DTSTART;TZID=America/New_York:20260809T090000
DTEND;TZID=America/New_York:20260809T090000
DTSTAMP:20260423T201802
CREATED:20251229T190037Z
LAST-MODIFIED:20251229T190037Z
UID:5594-1786266000-1786266000@hikinghoundadventures.com
SUMMARY:John P. Saylor Trail: 2 Day\, 1 Night Backpacking Trip
DESCRIPTION:
URL:https://hikinghoundadventures.com/event/john-p-saylor-trail-2-day-1-night-backpacking-trip-2/
CATEGORIES:Backpacking Trips
END:VEVENT
BEGIN:VEVENT
DTSTART;TZID=America/New_York:20260919T090000
DTEND;TZID=America/New_York:20260919T090000
DTSTAMP:20260423T201802
CREATED:20260317T184625Z
LAST-MODIFIED:20260317T184625Z
UID:6166-1789808400-1789808400@hikinghoundadventures.com
SUMMARY:Thunder Swamp Trail: 2 Day\, 1 Night Backpacking Trip
DESCRIPTION:
URL:https://hikinghoundadventures.com/event/thunder-swamp-trail-2-day-1-night-backpacking-trip/
CATEGORIES:Backpacking Trips
END:VEVENT
BEGIN:VEVENT
DTSTART;TZID=America/New_York:20260920T090000
DTEND;TZID=America/New_York:20260920T090000
DTSTAMP:20260423T201802
CREATED:20260317T184625Z
LAST-MODIFIED:20260317T184625Z
UID:6167-1789894800-1789894800@hikinghoundadventures.com
SUMMARY:Thunder Swamp Trail: 2 Day\, 1 Night Backpacking Trip
DESCRIPTION:
URL:https://hikinghoundadventures.com/event/thunder-swamp-trail-2-day-1-night-backpacking-trip-2/
CATEGORIES:Backpacking Trips
END:VEVENT
BEGIN:VEVENT
DTSTART;TZID=America/New_York:20260926T090000
DTEND;TZID=America/New_York:20260926T090000
DTSTAMP:20260423T201802
CREATED:20251118T164836Z
LAST-MODIFIED:20251118T164836Z
UID:5141-1790413200-1790413200@hikinghoundadventures.com
SUMMARY:Pinchot Trial South: 2 Day\, 1 Night Backpacking Trip
DESCRIPTION:
URL:https://hikinghoundadventures.com/event/pinchot-trial-south-2-day-1-night-backpacking-trip-16/
CATEGORIES:Backpacking Trips
END:VEVENT
BEGIN:VEVENT
DTSTART;TZID=America/New_York:20260927T090000
DTEND;TZID=America/New_York:20260927T090000
DTSTAMP:20260423T201802
CREATED:20251118T164836Z
LAST-MODIFIED:20251118T164836Z
UID:5142-1790499600-1790499600@hikinghoundadventures.com
SUMMARY:Pinchot Trial South: 2 Day\, 1 Night Backpacking Trip
DESCRIPTION:
URL:https://hikinghoundadventures.com/event/pinchot-trial-south-2-day-1-night-backpacking-trip-17/
CATEGORIES:Backpacking Trips
END:VEVENT
BEGIN:VEVENT
DTSTART;TZID=America/New_York:20261009T090000
DTEND;TZID=America/New_York:20261009T090000
DTSTAMP:20260423T201802
CREATED:20251229T185937Z
LAST-MODIFIED:20251229T185937Z
UID:5573-1791536400-1791536400@hikinghoundadventures.com
SUMMARY:Black Forest Trail: 4 Day\, 3 Night Backpacking Trip
DESCRIPTION:
URL:https://hikinghoundadventures.com/event/black-forest-trail-4-day-3-night-backpacking-trip/
CATEGORIES:Backpacking Trips
END:VEVENT
BEGIN:VEVENT
DTSTART;TZID=America/New_York:20261010T090000
DTEND;TZID=America/New_York:20261010T090000
DTSTAMP:20260423T201802
CREATED:20251118T164800Z
LAST-MODIFIED:20251118T164800Z
UID:5128-1791622800-1791622800@hikinghoundadventures.com
SUMMARY:Pinchot Trail: 3 Day\, 2 Night Backpacking Trip
DESCRIPTION:
URL:https://hikinghoundadventures.com/event/pinchot-trail-3-day-2-night-backpacking-trip-5/
CATEGORIES:Backpacking Trips
END:VEVENT
BEGIN:VEVENT
DTSTART;TZID=America/New_York:20261010T090000
DTEND;TZID=America/New_York:20261010T090000
DTSTAMP:20260423T201802
CREATED:20251229T185937Z
LAST-MODIFIED:20251229T185937Z
UID:5574-1791622800-1791622800@hikinghoundadventures.com
SUMMARY:Black Forest Trail: 4 Day\, 3 Night Backpacking Trip
DESCRIPTION:
URL:https://hikinghoundadventures.com/event/black-forest-trail-4-day-3-night-backpacking-trip-2/
CATEGORIES:Backpacking Trips
END:VEVENT
BEGIN:VEVENT
DTSTART;TZID=America/New_York:20261011T090000
DTEND;TZID=America/New_York:20261011T090000
DTSTAMP:20260423T201802
CREATED:20251118T164800Z
LAST-MODIFIED:20251118T164800Z
UID:5129-1791709200-1791709200@hikinghoundadventures.com
SUMMARY:Pinchot Trail: 3 Day\, 2 Night Backpacking Trip
DESCRIPTION:
URL:https://hikinghoundadventures.com/event/pinchot-trail-3-day-2-night-backpacking-trip-6/
CATEGORIES:Backpacking Trips
END:VEVENT
BEGIN:VEVENT
DTSTART;TZID=America/New_York:20261011T090000
DTEND;TZID=America/New_York:20261011T090000
DTSTAMP:20260423T201802
CREATED:20251229T185937Z
LAST-MODIFIED:20251229T185937Z
UID:5575-1791709200-1791709200@hikinghoundadventures.com
SUMMARY:Black Forest Trail: 4 Day\, 3 Night Backpacking Trip
DESCRIPTION:
URL:https://hikinghoundadventures.com/event/black-forest-trail-4-day-3-night-backpacking-trip-3/
CATEGORIES:Backpacking Trips
END:VEVENT
BEGIN:VEVENT
DTSTART;TZID=America/New_York:20261012T090000
DTEND;TZID=America/New_York:20261012T090000
DTSTAMP:20260423T201802
CREATED:20251118T164800Z
LAST-MODIFIED:20251118T164800Z
UID:5130-1791795600-1791795600@hikinghoundadventures.com
SUMMARY:Pinchot Trail: 3 Day\, 2 Night Backpacking Trip
DESCRIPTION:
URL:https://hikinghoundadventures.com/event/pinchot-trail-3-day-2-night-backpacking-trip-7/
CATEGORIES:Backpacking Trips
END:VEVENT
BEGIN:VEVENT
DTSTART;TZID=America/New_York:20261012T090000
DTEND;TZID=America/New_York:20261012T090000
DTSTAMP:20260423T201802
CREATED:20251229T185937Z
LAST-MODIFIED:20251229T185937Z
UID:5576-1791795600-1791795600@hikinghoundadventures.com
SUMMARY:Black Forest Trail: 4 Day\, 3 Night Backpacking Trip
DESCRIPTION:
URL:https://hikinghoundadventures.com/event/black-forest-trail-4-day-3-night-backpacking-trip-4/
CATEGORIES:Backpacking Trips
END:VEVENT
BEGIN:VEVENT
DTSTART;TZID=America/New_York:20261120T090000
DTEND;TZID=America/New_York:20261120T090000
DTSTAMP:20260423T201802
CREATED:20251229T185907Z
LAST-MODIFIED:20251229T185907Z
UID:5565-1795165200-1795165200@hikinghoundadventures.com
SUMMARY:Allegheny Front Trail: 4 Day\, 3 Night Backpacking Trip
DESCRIPTION:
URL:https://hikinghoundadventures.com/event/allegheny-front-trail-4-day-3-night-backpacking-trip/
CATEGORIES:Backpacking Trips
END:VEVENT
BEGIN:VEVENT
DTSTART;TZID=America/New_York:20261121T090000
DTEND;TZID=America/New_York:20261121T090000
DTSTAMP:20260423T201802
CREATED:20251229T185907Z
LAST-MODIFIED:20251229T185907Z
UID:5566-1795251600-1795251600@hikinghoundadventures.com
SUMMARY:Allegheny Front Trail: 4 Day\, 3 Night Backpacking Trip
DESCRIPTION:
URL:https://hikinghoundadventures.com/event/allegheny-front-trail-4-day-3-night-backpacking-trip-2/
CATEGORIES:Backpacking Trips
END:VEVENT
BEGIN:VEVENT
DTSTART;TZID=America/New_York:20261122T090000
DTEND;TZID=America/New_York:20261122T090000
DTSTAMP:20260423T201802
CREATED:20251229T185922Z
LAST-MODIFIED:20251229T185922Z
UID:5567-1795338000-1795338000@hikinghoundadventures.com
SUMMARY:Allegheny Front Trail: 4 Day\, 3 Night Backpacking Trip
DESCRIPTION:
URL:https://hikinghoundadventures.com/event/allegheny-front-trail-4-day-3-night-backpacking-trip-3/
CATEGORIES:Backpacking Trips
END:VEVENT
BEGIN:VEVENT
DTSTART;TZID=America/New_York:20261123T090000
DTEND;TZID=America/New_York:20261123T090000
DTSTAMP:20260423T201802
CREATED:20251229T185922Z
LAST-MODIFIED:20251229T185922Z
UID:5568-1795424400-1795424400@hikinghoundadventures.com
SUMMARY:Allegheny Front Trail: 4 Day\, 3 Night Backpacking Trip
DESCRIPTION:
URL:https://hikinghoundadventures.com/event/allegheny-front-trail-4-day-3-night-backpacking-trip-4/
CATEGORIES:Backpacking Trips
END:VEVENT
BEGIN:VEVENT
DTSTART;TZID=America/New_York:20261211T090000
DTEND;TZID=America/New_York:20261211T090000
DTSTAMP:20260423T201802
CREATED:20260317T184207Z
LAST-MODIFIED:20260317T184207Z
UID:6152-1796979600-1796979600@hikinghoundadventures.com
SUMMARY:Old Loggers Path: 3 Day\, 2 Night Backpacking Trip
DESCRIPTION:
URL:https://hikinghoundadventures.com/event/old-loggers-path-3-day-2-night-backpacking-trip-3/
CATEGORIES:Backpacking Trips
END:VEVENT
BEGIN:VEVENT
DTSTART;TZID=America/New_York:20261212T090000
DTEND;TZID=America/New_York:20261212T090000
DTSTAMP:20260423T201802
CREATED:20260317T184207Z
LAST-MODIFIED:20260317T184207Z
UID:6153-1797066000-1797066000@hikinghoundadventures.com
SUMMARY:Old Loggers Path: 3 Day\, 2 Night Backpacking Trip
DESCRIPTION:
URL:https://hikinghoundadventures.com/event/old-loggers-path-3-day-2-night-backpacking-trip-4/
CATEGORIES:Backpacking Trips
END:VEVENT
BEGIN:VEVENT
DTSTART;TZID=America/New_York:20261213T090000
DTEND;TZID=America/New_York:20261213T090000
DTSTAMP:20260423T201802
CREATED:20260317T184207Z
LAST-MODIFIED:20260317T184207Z
UID:6154-1797152400-1797152400@hikinghoundadventures.com
SUMMARY:Old Loggers Path: 3 Day\, 2 Night Backpacking Trip
DESCRIPTION:
URL:https://hikinghoundadventures.com/event/old-loggers-path-3-day-2-night-backpacking-trip-5/
CATEGORIES:Backpacking Trips
END:VEVENT
END:VCALENDAR