BEGIN:VCALENDAR
VERSION:2.0
PRODID:-//Hiking Hound Adventures, LLC - ECPv6.15.20//NONSGML v1.0//EN
CALSCALE:GREGORIAN
METHOD:PUBLISH
X-WR-CALNAME:Hiking Hound Adventures, LLC
X-ORIGINAL-URL:https://hikinghoundadventures.com
X-WR-CALDESC:Events for Hiking Hound Adventures, LLC
REFRESH-INTERVAL;VALUE=DURATION:PT1H
X-Robots-Tag:noindex
X-PUBLISHED-TTL:PT1H
BEGIN:VTIMEZONE
TZID:America/New_York
BEGIN:DAYLIGHT
TZOFFSETFROM:-0500
TZOFFSETTO:-0400
TZNAME:EDT
DTSTART:20250309T070000
END:DAYLIGHT
BEGIN:STANDARD
TZOFFSETFROM:-0400
TZOFFSETTO:-0500
TZNAME:EST
DTSTART:20251102T060000
END:STANDARD
BEGIN:DAYLIGHT
TZOFFSETFROM:-0500
TZOFFSETTO:-0400
TZNAME:EDT
DTSTART:20260308T070000
END:DAYLIGHT
BEGIN:STANDARD
TZOFFSETFROM:-0400
TZOFFSETTO:-0500
TZNAME:EST
DTSTART:20261101T060000
END:STANDARD
BEGIN:DAYLIGHT
TZOFFSETFROM:-0500
TZOFFSETTO:-0400
TZNAME:EDT
DTSTART:20270314T070000
END:DAYLIGHT
BEGIN:STANDARD
TZOFFSETFROM:-0400
TZOFFSETTO:-0500
TZNAME:EST
DTSTART:20271107T060000
END:STANDARD
END:VTIMEZONE
BEGIN:VEVENT
DTSTART;TZID=America/New_York:20261212T090000
DTEND;TZID=America/New_York:20261212T090000
DTSTAMP:20260423T185531
CREATED:20260317T184207Z
LAST-MODIFIED:20260317T184207Z
UID:6153-1797066000-1797066000@hikinghoundadventures.com
SUMMARY:Old Loggers Path: 3 Day\, 2 Night Backpacking Trip
DESCRIPTION:
URL:https://hikinghoundadventures.com/event/old-loggers-path-3-day-2-night-backpacking-trip-4/
CATEGORIES:Backpacking Trips
END:VEVENT
BEGIN:VEVENT
DTSTART;TZID=America/New_York:20261213T090000
DTEND;TZID=America/New_York:20261213T090000
DTSTAMP:20260423T185531
CREATED:20260317T184207Z
LAST-MODIFIED:20260317T184207Z
UID:6154-1797152400-1797152400@hikinghoundadventures.com
SUMMARY:Old Loggers Path: 3 Day\, 2 Night Backpacking Trip
DESCRIPTION:
URL:https://hikinghoundadventures.com/event/old-loggers-path-3-day-2-night-backpacking-trip-5/
CATEGORIES:Backpacking Trips
END:VEVENT
END:VCALENDAR