BEGIN:VCALENDAR
VERSION:2.0
PRODID:-//Hiking Hound Adventures, LLC - ECPv6.15.20//NONSGML v1.0//EN
CALSCALE:GREGORIAN
METHOD:PUBLISH
X-WR-CALNAME:Hiking Hound Adventures, LLC
X-ORIGINAL-URL:https://hikinghoundadventures.com
X-WR-CALDESC:Events for Hiking Hound Adventures, LLC
REFRESH-INTERVAL;VALUE=DURATION:PT1H
X-Robots-Tag:noindex
X-PUBLISHED-TTL:PT1H
BEGIN:VTIMEZONE
TZID:America/New_York
BEGIN:DAYLIGHT
TZOFFSETFROM:-0500
TZOFFSETTO:-0400
TZNAME:EDT
DTSTART:20230312T070000
END:DAYLIGHT
BEGIN:STANDARD
TZOFFSETFROM:-0400
TZOFFSETTO:-0500
TZNAME:EST
DTSTART:20231105T060000
END:STANDARD
BEGIN:DAYLIGHT
TZOFFSETFROM:-0500
TZOFFSETTO:-0400
TZNAME:EDT
DTSTART:20240310T070000
END:DAYLIGHT
BEGIN:STANDARD
TZOFFSETFROM:-0400
TZOFFSETTO:-0500
TZNAME:EST
DTSTART:20241103T060000
END:STANDARD
BEGIN:DAYLIGHT
TZOFFSETFROM:-0500
TZOFFSETTO:-0400
TZNAME:EDT
DTSTART:20250309T070000
END:DAYLIGHT
BEGIN:STANDARD
TZOFFSETFROM:-0400
TZOFFSETTO:-0500
TZNAME:EST
DTSTART:20251102T060000
END:STANDARD
END:VTIMEZONE
BEGIN:VEVENT
DTSTART;TZID=America/New_York:20240907T080000
DTEND;TZID=America/New_York:20240907T170000
DTSTAMP:20260424T142035
CREATED:20240823T162450Z
LAST-MODIFIED:20240823T162450Z
UID:1556-1725696000-1725728400@hikinghoundadventures.com
SUMMARY:Edgmont Township Community Day
DESCRIPTION:Hiking Hound Adventures\, LLC is participating in the third annual Edgmont Township Community Day.  It will be a fun-filled\, family-friendly event.  It is held on Saturday\, September 7\, 2024 – 10:00 am to 3:00 pm at Arasapha Farms\, (1835 Middletown Road\, Glen Mills\, Pa). \nThe mission of the Edgmont Township Community Day is to bring together the community\, businesses\, the township staff and government officials; and to foster a deeper sense of community\, pride\, optimism\, positivity\, and inclusiveness within Edgmont Township.  There will be inclusive activities for the whole family to enjoy.
URL:https://hikinghoundadventures.com/event/edgmont-township-community-day/
LOCATION:Arasapha Farms\, 1835 Middletown Road\, Glen Mills\, PA\, 19342\, United States
CATEGORIES:Community Event
END:VEVENT
BEGIN:VEVENT
DTSTART;TZID=America/New_York:20240914T000000
DTEND;TZID=America/New_York:20240914T235959
DTSTAMP:20260424T142035
CREATED:20240823T172718Z
LAST-MODIFIED:20240823T172718Z
UID:1563-1726272000-1726358399@hikinghoundadventures.com
SUMMARY:Upper Providence Township Community Day
DESCRIPTION:Join Hiking Hound Adventures\, LLC at the Upper Providence Township Community Day at Rose Tree Park on September 14th! We’re thrilled to be part of this annual family-friendly event\, designed to bring our community together for a day of fun and connection. \nAt our booth\, you’ll discover a wealth of information about family-friendly hiking opportunities and outdoor adventures. Our team will provide expert advice on the best local trails suitable for families\, ensuring you and your loved ones can enjoy nature safely and comfortably. We’ll also showcase our guided hiking tours\, perfect for families looking to explore the great outdoors together. Engage with our interactive displays and learn how hiking can become a favorite family activity. \nCommunity Day is packed with activities that promise something for everyone. Kick off your day with the invigorating Giddy Up 5k Race\, a fantastic way to get active and energized. After the race\, dive into the food festival where you can savor a variety of delicious options from local vendors. The event also features live music performances that add a lively atmosphere to the day\, perfect for enjoying while you stroll around. \nKids will have a blast with numerous family-friendly games and interactive activities. From face painting to fun competitions\, there’s no shortage of entertainment to keep young ones engaged. Our team at Hiking Hound Adventures is dedicated to making the outdoors accessible and enjoyable for all ages\, so stop by to learn more about how we can enhance your family’s outdoor experiences. \nDon’t miss this opportunity to connect with us\, explore family-friendly hiking options\, and enjoy a day of community spirit. Mark your calendars for September 14th and join us at Rose Tree Park for a day filled with adventure\, music\, food\, and fun. We look forward to meeting you and sharing our passion for hiking with your family.
URL:https://hikinghoundadventures.com/event/upper-providence-township-community-day/
LOCATION:Rose Tree Park\, 1671 N Providence Rd\, Media\, PA\, 19063\, United States
CATEGORIES:Community Event
END:VEVENT
END:VCALENDAR