BEGIN:VCALENDAR
VERSION:2.0
PRODID:-//Hiking Hound Adventures, LLC - ECPv6.15.20//NONSGML v1.0//EN
CALSCALE:GREGORIAN
METHOD:PUBLISH
X-ORIGINAL-URL:https://hikinghoundadventures.com
X-WR-CALDESC:Events for Hiking Hound Adventures, LLC
REFRESH-INTERVAL;VALUE=DURATION:PT1H
X-Robots-Tag:noindex
X-PUBLISHED-TTL:PT1H
BEGIN:VTIMEZONE
TZID:America/New_York
BEGIN:DAYLIGHT
TZOFFSETFROM:-0500
TZOFFSETTO:-0400
TZNAME:EDT
DTSTART:20240310T070000
END:DAYLIGHT
BEGIN:STANDARD
TZOFFSETFROM:-0400
TZOFFSETTO:-0500
TZNAME:EST
DTSTART:20241103T060000
END:STANDARD
BEGIN:DAYLIGHT
TZOFFSETFROM:-0500
TZOFFSETTO:-0400
TZNAME:EDT
DTSTART:20250309T070000
END:DAYLIGHT
BEGIN:STANDARD
TZOFFSETFROM:-0400
TZOFFSETTO:-0500
TZNAME:EST
DTSTART:20251102T060000
END:STANDARD
BEGIN:DAYLIGHT
TZOFFSETFROM:-0500
TZOFFSETTO:-0400
TZNAME:EDT
DTSTART:20260308T070000
END:DAYLIGHT
BEGIN:STANDARD
TZOFFSETFROM:-0400
TZOFFSETTO:-0500
TZNAME:EST
DTSTART:20261101T060000
END:STANDARD
END:VTIMEZONE
BEGIN:VEVENT
DTSTART;TZID=America/New_York:20250102T120000
DTEND;TZID=America/New_York:20250103T170000
DTSTAMP:20260424T080016
CREATED:20241203T165337Z
LAST-MODIFIED:20241203T165337Z
UID:2295-1735819200-1735923600@hikinghoundadventures.com
SUMMARY:Leave No Trace Level 1 Instructor Course- Virtual
DESCRIPTION:What is a Leave No Trace Level 1 Instructor Course with Hiking Hound Adventures\, LLC?\n\n\n\n\n\n\n\n\n\n\nAt Hiking Hound Adventures\, LLC\, our Level 1 Instructor Course is designed to teach participants the essential Leave No Trace (LNT) skills\, ethics\, and techniques for educating others about responsible outdoor practices. Over the course of two consecutive days\, participants engage in more than half of their training outdoors\, putting theory into practice in real-world environments. \nUpon completion\, graduates are equipped to lead Leave No Trace Skills Courses and Workshops within their communities\, empowering them to share this vital knowledge with others. This course is especially valuable for staff members of organizations who are responsible for teaching Leave No Trace principles to the public\, as well as outdoor educators and guides. In essence\, you’ll be prepared to conduct your own LNT courses and workshops\, spreading sustainable outdoor practices far and wide. \nParticipants who successfully complete the course will receive certification from Leave No Trace (LNT) and must re-certify every two years. As a certified Level 1 Instructor\, you’ll also have the opportunity to serve as a co-instructor on both Level 1 and Level 2 courses and issue completion certificates for LNT Skills Courses and Workshops. \nCourse Structure and Requirements\nThe Level 1 Instructor Course includes 16 total hours of experiential learning\, with a mix of synchronous (live\, interactive) and asynchronous (self-paced) instruction. Specifically\, there are a minimum of 10 hours of synchronous instruction via Zoom and no more than 6 hours of asynchronous instruction. This structure ensures an engaging and effective experience for all participants. \nRequired Course Materials: \n\nDigital Level 1 Instructor Course Packet (Available for free online)\nPhysical Course Packet (Optional purchase available if desired- this is not required)\n\nRequired Equipment: \n\nA computer\, laptop\, or tablet with a stable internet connection\nA forward-facing camera\nA recording device (such as a smartphone) for presentation.\n\nParticipant Expectations\nTo successfully complete the course\, participants are required to: \n\nAttend all synchronous Zoom sessions\nComplete all course assignments\, both synchronous and asynchronous\nTeach a Leave No Trace lesson as part of the course\n\nParticipants must be 18 years or older to enroll. This course is open to anyone passionate about Leave No Trace\, especially outdoor instructors\, guides\, educators\, Scout leaders\, land managers\, and nature enthusiasts. Both US-based and international participants are welcome. \nCourse Registration and Pre-Course Work\nOnce registered\, participants will receive instructions\, pre-course assignments\, course materials\, and Zoom session links. Some assignments must be completed before the first Zoom session\, while others are due by the end of the course. Participants can begin their pre-course work at any time after registration. \nCertification and Outcomes\nUpon successful completion of the course\, participants will become certified Leave No Trace Level 1 Instructors. This certification prepares you to: \n\nDemonstrate and teach Leave No Trace techniques to friends\, family\, and community groups\nLead discussions on outdoor ethics and help others develop their personal outdoor ethics\nLead Leave No Trace Skills Courses and Workshops in a variety of settings\n\nCancellation and Refund Policy\n\nIf you cancel more than two weeks before the course begins\, you will receive a full refund\, minus processing fees.\nCancellations made more than one week before the course will receive a 50% refund.\nNo refunds will be issued for cancellations made within one week of the course start date.\n\nIf unforeseen circumstances require Hiking Hound Adventures\, LLC to cancel the course\, you will receive a full refund. \nMinimum and Maximum Enrollment:\nWe require a minimum of 4 participants to run the course\, with a maximum class size of 10. If the course doesn’t meet the minimum enrollment\, you will have the option to reschedule or receive a full refund.
URL:https://hikinghoundadventures.com/event/leave-no-trace-level-1-instructor-course-virtual-2/
LOCATION:Virtual
CATEGORIES:Course
ATTACH;FMTTYPE=image/png:https://hikinghoundadventures.com/wp-content/uploads/2024/11/2.png
ORGANIZER;CN="Hiking Hound Adventures%2C LLC":MAILTO:info@hikinghoundadventures.com
END:VEVENT
BEGIN:VEVENT
DTSTART;TZID=America/New_York:20250107T190000
DTEND;TZID=America/New_York:20250107T193000
DTSTAMP:20260424T080016
CREATED:20241228T215239Z
LAST-MODIFIED:20241228T215239Z
UID:2541-1736276400-1736278200@hikinghoundadventures.com
SUMMARY:Virtual Winter Hiking Class w/ West Chester Parks and Rec
DESCRIPTION:Free Class in Partnership with West Chester Parks and Recreation!\nJoin the Free Virtual Winter Hiking Class Hosted by Hiking Hound Adventures\, LLC and Presented by West Chester Parks and Recreation \nGet ready to embrace winter hiking with our Virtual Winter Hiking Class\, hosted by Hiking Hound Adventures\, LLC and presented by West Chester Parks and Recreation. This free online class is perfect for anyone interested in exploring the outdoors during the colder months. Whether you’re a seasoned hiker or a beginner\, you’ll gain valuable skills and insights to confidently tackle winter trails. \nIn this interactive virtual session\, you’ll learn: \n\nEssential Winter Hiking Gear: What to wear and bring\, including layers\, specialized footwear\, and accessories to keep you warm and dry.\nWinter Hiking Safety Tips: Best practices for staying safe on snow and ice\, understanding weather conditions\, and preparing for emergency situations.\nTechniques for Hiking in Winter Conditions: How to navigate icy or snowy trails with confidence\, improve your footing\, and stay comfortable in cold weather.\nScenic Winter Trails: Discover some of the best local hiking spots along with recommendations for beautiful winter hiking routes.\n\nWhether you’re new to hiking or a seasoned outdoor enthusiast\, this class will help you make the most of the winter season. Our goal is to equip you with the knowledge and confidence to enjoy safe\, fun\, and fulfilling winter hikes. \nThe Virtual Winter Hiking Class is available online\, so you can participate from anywhere and learn at your own pace. Don’t miss out on this great opportunity to enhance your winter hiking skills and connect with nature in a whole new way! \nSign up today for this free class\, hosted by Hiking Hound Adventures\, LLC and presented by West Chester Parks and Recreation.
URL:https://hikinghoundadventures.com/event/virtual-winter-hiking-class-w-west-chester-parks-and-rec/
LOCATION:Virtual
CATEGORIES:Course,Partnership Event
ORGANIZER;CN="Hiking Hound Adventures%2C LLC":MAILTO:info@hikinghoundadventures.com
END:VEVENT
BEGIN:VEVENT
DTSTART;TZID=America/New_York:20250112T113000
DTEND;TZID=America/New_York:20250112T130000
DTSTAMP:20260424T080016
CREATED:20241203T165759Z
LAST-MODIFIED:20241203T165759Z
UID:2297-1736681400-1736686800@hikinghoundadventures.com
SUMMARY:Wilderness Navigation w/ Borough of West Chester Parks & Rec.
DESCRIPTION:Join Hiking Hound Adventures\, LLC as we present an introduction to topographic map and compass- your gateway to mastering outdoor navigation! \nLearn the essentials of map reading and compass navigation in this 90 minute class. Together we will spend a half an hour in the classroom. There you will learn map components like scale and contour lines\, as well as compass parts and techniques such as taking bearings and finding your location on a map. \nWe will then spend a full hour with hands-on field instruction. Here we will put theory into practice and help you gain confidence navigating diverse terrain using your map and compass. \nJoin us to unlock the skills needed to confidently explore the great outdoors! \nCompasses and classroom materials will be provided for use during the course. If you would like a compass to take home\, we have them available for purchase. Add one to your cart and we will have it for you at the course. COMPASS \n  \n  \nDecember 14th- 1:30pm- Everhart Park \nJanuary 12th- 11:30am- Everhart Park \nFebruary 15th- 12pm- Everhart Park \n  \n  \n***Recommended age is 12 years and older- Anyone under 18 must be registered accompanied by a registered adult***
URL:https://hikinghoundadventures.com/event/wilderness-navigation-w-borough-of-west-chester-parks-rec-2/
LOCATION:Everhart Park\, 299 South Bradford AVE\, West Chester\, Pennsylvania\, 19382
CATEGORIES:Course
END:VEVENT
BEGIN:VEVENT
DTSTART;TZID=America/New_York:20250114T190000
DTEND;TZID=America/New_York:20250114T200000
DTSTAMP:20260424T080016
CREATED:20241203T170312Z
LAST-MODIFIED:20241203T172451Z
UID:2301-1736881200-1736884800@hikinghoundadventures.com
SUMMARY:Backcountry Gourmet: Wilderness Cooking Experience w/ Radnor Parks & Rec.
DESCRIPTION:Elevate your outdoor adventures with Hiking Hound Adventures\, LLC’s “Backcountry Gourmet: Wilderness Cooking Experience.” This immersive course is designed for outdoor enthusiasts who want to master the art of cooking gourmet meals in the wild. Whether you’re a seasoned camper or a novice adventurer\, our program will transform your outdoor dining experience with practical skills and expert guidance. \nIn this hands-on course\, you’ll learn to prepare a complete three-course meal in the backcountry\, ensuring you never have to compromise on flavor or nutrition while exploring nature. Our expert instructors will teach you the essentials of wilderness cooking\, including the selection and use of various stove types and cooking accessories tailored for outdoor environments. Discover the best techniques for preparing and cooking delicious meals in the great outdoors\, from appetizers to desserts. \nWe’ll cover key topics such as hygiene in the backcountry to ensure that your meals are both safe and enjoyable. Learn the principles of camp kitchen safety\, including proper handling of food and equipment to prevent accidents and contamination. Our course also emphasizes the importance of cleanup and adherence to Leave No Trace principles\, so you can enjoy your meals while minimizing your environmental impact. \nAdditionally\, we’ll delve into effective methods for dehydrating food and packing it for optimal freshness and convenience. Understanding nutrition and how to balance your meals for energy and health is another crucial aspect of our program. We’ll provide practical tips for managing food storage and waste\, ensuring a clean and efficient cooking process. \nJoin us for our “Backcountry Gourmet: Wilderness Cooking Experience” and transform the way you eat while camping. From mastering campfire cuisine to optimizing your outdoor kitchen setup\, this course equips you with the knowledge and skills to enjoy gourmet meals in the wild. Experience the satisfaction of cooking delicious\, nutritious meals amidst nature\, and enhance your outdoor adventures with Hiking Hound Adventures\, LLC. \n\nJanuary 14th- Menu:\nAppetizer: Grilled Feta and Dates\n\n\nCrumbled Feta Cheese\nPitted Dates\nOlive Oil\nSalt\nDukkha Seasoning\n\nMain Dish: Fusilli with Walnut Pesto\n\n\nChickpea Fusilli Pasta\nWalnuts\nItalian Seasoning (parsley\, oregano\, basil\, thyme)\nGarlic Powder\nOnion Power\nSalt\nPepper\nParmesan Cheese\nOlive Oil\nSun Dried Tomatoes\n\nDessert: Mixed Berry Cobbler Crumble\n\n\nBlueberries (Dried)\nStrawberries (Dried)\nRaspberries (Dried)\nCinnamon Graham Crackers\n\n\n \n\n\n\n\n\n\n*** Recommended for ages 12 and older- Price per person. Anyone under 18 must be registered and accompanied by a registered adult***
URL:https://hikinghoundadventures.com/event/introduction-to-backpacking-w-radnor-parks-rec/
LOCATION:Radnor Township Municipal Building\, 301 Iven Ave\, Radnor\, PA\, 19087
CATEGORIES:Course
ORGANIZER;CN="Radnor Township Parks and Recreation":MAILTO:recreation@radnor.org
END:VEVENT
BEGIN:VEVENT
DTSTART;TZID=America/New_York:20250115T120000
DTEND;TZID=America/New_York:20250117T150000
DTSTAMP:20260424T080016
CREATED:20241203T170625Z
LAST-MODIFIED:20241203T170625Z
UID:2304-1736942400-1737126000@hikinghoundadventures.com
SUMMARY:Leave No Trace Level 1 Instructor Course- Virtual
DESCRIPTION:What is a Leave No Trace Level 1 Instructor Course with Hiking Hound Adventures\, LLC?\n\n\n\n\n\n\n\n\n\n\nAt Hiking Hound Adventures\, LLC\, our Level 1 Instructor Course is designed to teach participants the essential Leave No Trace (LNT) skills\, ethics\, and techniques for educating others about responsible outdoor practices. Over the course of two consecutive days\, participants engage in more than half of their training outdoors\, putting theory into practice in real-world environments. \nUpon completion\, graduates are equipped to lead Leave No Trace Skills Courses and Workshops within their communities\, empowering them to share this vital knowledge with others. This course is especially valuable for staff members of organizations who are responsible for teaching Leave No Trace principles to the public\, as well as outdoor educators and guides. In essence\, you’ll be prepared to conduct your own LNT courses and workshops\, spreading sustainable outdoor practices far and wide. \nParticipants who successfully complete the course will receive certification from Leave No Trace (LNT) and must re-certify every two years. As a certified Level 1 Instructor\, you’ll also have the opportunity to serve as a co-instructor on both Level 1 and Level 2 courses and issue completion certificates for LNT Skills Courses and Workshops. \nCourse Structure and Requirements\nThe Level 1 Instructor Course includes 16 total hours of experiential learning\, with a mix of synchronous (live\, interactive) and asynchronous (self-paced) instruction. Specifically\, there are a minimum of 10 hours of synchronous instruction via Zoom and no more than 6 hours of asynchronous instruction. This structure ensures an engaging and effective experience for all participants. \nRequired Course Materials: \n\nDigital Level 1 Instructor Course Packet (Available for free online)\nPhysical Course Packet (Optional purchase available if desired- this is not required)\n\nRequired Equipment: \n\nA computer\, laptop\, or tablet with a stable internet connection\nA forward-facing camera\nA recording device (such as a smartphone) for presentation.\n\nParticipant Expectations\nTo successfully complete the course\, participants are required to: \n\nAttend all synchronous Zoom sessions\nComplete all course assignments\, both synchronous and asynchronous\nTeach a Leave No Trace lesson as part of the course\n\nParticipants must be 18 years or older to enroll. This course is open to anyone passionate about Leave No Trace\, especially outdoor instructors\, guides\, educators\, Scout leaders\, land managers\, and nature enthusiasts. Both US-based and international participants are welcome. \nCourse Registration and Pre-Course Work\nOnce registered\, participants will receive instructions\, pre-course assignments\, course materials\, and Zoom session links. Some assignments must be completed before the first Zoom session\, while others are due by the end of the course. Participants can begin their pre-course work at any time after registration. \nCertification and Outcomes\nUpon successful completion of the course\, participants will become certified Leave No Trace Level 1 Instructors. This certification prepares you to: \n\nDemonstrate and teach Leave No Trace techniques to friends\, family\, and community groups\nLead discussions on outdoor ethics and help others develop their personal outdoor ethics\nLead Leave No Trace Skills Courses and Workshops in a variety of settings\n\nCancellation and Refund Policy\n\nIf you cancel more than two weeks before the course begins\, you will receive a full refund\, minus processing fees.\nCancellations made more than one week before the course will receive a 50% refund.\nNo refunds will be issued for cancellations made within one week of the course start date.\n\nIf unforeseen circumstances require Hiking Hound Adventures\, LLC to cancel the course\, you will receive a full refund. \nMinimum and Maximum Enrollment:\nWe require a minimum of 4 participants to run the course\, with a maximum class size of 10. If the course doesn’t meet the minimum enrollment\, you will have the option to reschedule or receive a full refund.
URL:https://hikinghoundadventures.com/event/leave-no-trace-level-1-instructor-course-virtual-3/
LOCATION:Virtual
CATEGORIES:Course
ATTACH;FMTTYPE=image/png:https://hikinghoundadventures.com/wp-content/uploads/2024/11/3.png
ORGANIZER;CN="Hiking Hound Adventures%2C LLC":MAILTO:info@hikinghoundadventures.com
END:VEVENT
BEGIN:VEVENT
DTSTART;TZID=America/New_York:20250125T120000
DTEND;TZID=America/New_York:20250125T133000
DTSTAMP:20260424T080016
CREATED:20241203T171128Z
LAST-MODIFIED:20241203T171128Z
UID:2308-1737806400-1737811800@hikinghoundadventures.com
SUMMARY:Hikerbabes Wilderness Navigation: Learning Map and Compass
DESCRIPTION:Join Hiking Hound Adventures\, LLC as we present an introduction to topographic map and compass- your gateway to mastering outdoor navigation! \nLearn the essentials of map reading and compass navigation in this 90 minute class. Together we will spend a half an hour in the classroom. There you will learn map components like scale and contour lines\, as well as compass parts and techniques such as taking bearings and finding your location on a map. \nWe will then spend a full hour with hands-on field instruction. Here we will put theory into practice and help you gain confidence navigating diverse terrain using your map and compass. \nJoin us to unlock the skills needed to confidently explore the great outdoors! \nCompasses and classroom materials will be provided for use during the course. If you would like a compass to take home\, we have them available for purchase. Add one to your cart and we will have it for you at the course. COMPASS
URL:https://hikinghoundadventures.com/event/hikerbabes-wilderness-navigation-learning-map-and-compass/
LOCATION:Louis Scott Memorial Park\, 998 Ridley Creek Road\, Media\, PA\, 19063\, United States
CATEGORIES:Course
ORGANIZER;CN="Hiking Hound Adventures%2C LLC":MAILTO:info@hikinghoundadventures.com
END:VEVENT
BEGIN:VEVENT
DTSTART;TZID=America/New_York:20250127T120000
DTEND;TZID=America/New_York:20250128T170000
DTSTAMP:20260424T080016
CREATED:20241203T171310Z
LAST-MODIFIED:20241203T171310Z
UID:2310-1737979200-1738083600@hikinghoundadventures.com
SUMMARY:Leave No Trace Level 1 Instructor Course- Virtual
DESCRIPTION:What is a Leave No Trace Level 1 Instructor Course with Hiking Hound Adventures\, LLC?\n\n\n\n\n\n\n\n\n\n\nAt Hiking Hound Adventures\, LLC\, our Level 1 Instructor Course is designed to teach participants the essential Leave No Trace (LNT) skills\, ethics\, and techniques for educating others about responsible outdoor practices. Over the course of two consecutive days\, participants engage in more than half of their training outdoors\, putting theory into practice in real-world environments. \nUpon completion\, graduates are equipped to lead Leave No Trace Skills Courses and Workshops within their communities\, empowering them to share this vital knowledge with others. This course is especially valuable for staff members of organizations who are responsible for teaching Leave No Trace principles to the public\, as well as outdoor educators and guides. In essence\, you’ll be prepared to conduct your own LNT courses and workshops\, spreading sustainable outdoor practices far and wide. \nParticipants who successfully complete the course will receive certification from Leave No Trace (LNT) and must re-certify every two years. As a certified Level 1 Instructor\, you’ll also have the opportunity to serve as a co-instructor on both Level 1 and Level 2 courses and issue completion certificates for LNT Skills Courses and Workshops. \nCourse Structure and Requirements\nThe Level 1 Instructor Course includes 16 total hours of experiential learning\, with a mix of synchronous (live\, interactive) and asynchronous (self-paced) instruction. Specifically\, there are a minimum of 10 hours of synchronous instruction via Zoom and no more than 6 hours of asynchronous instruction. This structure ensures an engaging and effective experience for all participants. \nRequired Course Materials: \n\nDigital Level 1 Instructor Course Packet (Available for free online)\nPhysical Course Packet (Optional purchase available if desired- this is not required)\n\nRequired Equipment: \n\nA computer\, laptop\, or tablet with a stable internet connection\nA forward-facing camera\nA recording device (such as a smartphone) for presentation.\n\nParticipant Expectations\nTo successfully complete the course\, participants are required to: \n\nAttend all synchronous Zoom sessions\nComplete all course assignments\, both synchronous and asynchronous\nTeach a Leave No Trace lesson as part of the course\n\nParticipants must be 18 years or older to enroll. This course is open to anyone passionate about Leave No Trace\, especially outdoor instructors\, guides\, educators\, Scout leaders\, land managers\, and nature enthusiasts. Both US-based and international participants are welcome. \nCourse Registration and Pre-Course Work\nOnce registered\, participants will receive instructions\, pre-course assignments\, course materials\, and Zoom session links. Some assignments must be completed before the first Zoom session\, while others are due by the end of the course. Participants can begin their pre-course work at any time after registration. \nCertification and Outcomes\nUpon successful completion of the course\, participants will become certified Leave No Trace Level 1 Instructors. This certification prepares you to: \n\nDemonstrate and teach Leave No Trace techniques to friends\, family\, and community groups\nLead discussions on outdoor ethics and help others develop their personal outdoor ethics\nLead Leave No Trace Skills Courses and Workshops in a variety of settings\n\nCancellation and Refund Policy\n\nIf you cancel more than two weeks before the course begins\, you will receive a full refund\, minus processing fees.\nCancellations made more than one week before the course will receive a 50% refund.\nNo refunds will be issued for cancellations made within one week of the course start date.\n\nIf unforeseen circumstances require Hiking Hound Adventures\, LLC to cancel the course\, you will receive a full refund. \nMinimum and Maximum Enrollment:\nWe require a minimum of 4 participants to run the course\, with a maximum class size of 10. If the course doesn’t meet the minimum enrollment\, you will have the option to reschedule or receive a full refund. \n\nJoin Hiking Hound Adventures\, LLC for this amazing experience that will empower you to teach Leave No Trace principles and make a lasting impact on the way people experience and protect the outdoors!
URL:https://hikinghoundadventures.com/event/leave-no-trace-level-1-instructor-course-virtual-4/
LOCATION:Virtual
CATEGORIES:Course
ATTACH;FMTTYPE=image/png:https://hikinghoundadventures.com/wp-content/uploads/2024/11/2.png
ORGANIZER;CN="Hiking Hound Adventures%2C LLC":MAILTO:info@hikinghoundadventures.com
END:VEVENT
END:VCALENDAR