BEGIN:VCALENDAR
VERSION:2.0
PRODID:-//Hiking Hound Adventures, LLC - ECPv6.15.20//NONSGML v1.0//EN
CALSCALE:GREGORIAN
METHOD:PUBLISH
X-WR-CALNAME:Hiking Hound Adventures, LLC
X-ORIGINAL-URL:https://hikinghoundadventures.com
X-WR-CALDESC:Events for Hiking Hound Adventures, LLC
REFRESH-INTERVAL;VALUE=DURATION:PT1H
X-Robots-Tag:noindex
X-PUBLISHED-TTL:PT1H
BEGIN:VTIMEZONE
TZID:America/New_York
BEGIN:DAYLIGHT
TZOFFSETFROM:-0500
TZOFFSETTO:-0400
TZNAME:EDT
DTSTART:20250309T070000
END:DAYLIGHT
BEGIN:STANDARD
TZOFFSETFROM:-0400
TZOFFSETTO:-0500
TZNAME:EST
DTSTART:20251102T060000
END:STANDARD
BEGIN:DAYLIGHT
TZOFFSETFROM:-0500
TZOFFSETTO:-0400
TZNAME:EDT
DTSTART:20260308T070000
END:DAYLIGHT
BEGIN:STANDARD
TZOFFSETFROM:-0400
TZOFFSETTO:-0500
TZNAME:EST
DTSTART:20261101T060000
END:STANDARD
BEGIN:DAYLIGHT
TZOFFSETFROM:-0500
TZOFFSETTO:-0400
TZNAME:EDT
DTSTART:20270314T070000
END:DAYLIGHT
BEGIN:STANDARD
TZOFFSETFROM:-0400
TZOFFSETTO:-0500
TZNAME:EST
DTSTART:20271107T060000
END:STANDARD
END:VTIMEZONE
BEGIN:VEVENT
DTSTART;TZID=America/New_York:20260920T170000
DTEND;TZID=America/New_York:20260920T170000
DTSTAMP:20260423T201221
CREATED:20251118T164635Z
LAST-MODIFIED:20251229T190137Z
UID:5074-1789923600-1789923600@hikinghoundadventures.com
SUMMARY:Kids Introduction to Fishing- Radnor
DESCRIPTION:
URL:https://hikinghoundadventures.com/event/kids-introduction-to-fishing-radnor-7/
CATEGORIES:Fishing
END:VEVENT
BEGIN:VEVENT
DTSTART;TZID=America/New_York:20260924T180000
DTEND;TZID=America/New_York:20260924T180000
DTSTAMP:20260423T201221
CREATED:20251118T164640Z
LAST-MODIFIED:20251229T190152Z
UID:5081-1790272800-1790272800@hikinghoundadventures.com
SUMMARY:Kids Introduction to Fishing- Upper Providence
DESCRIPTION:
URL:https://hikinghoundadventures.com/event/kids-introduction-to-fishing-upper-providence-6/
CATEGORIES:Fishing
END:VEVENT
END:VCALENDAR