BEGIN:VCALENDAR
VERSION:2.0
PRODID:-//Hiking Hound Adventures, LLC - ECPv6.15.20//NONSGML v1.0//EN
CALSCALE:GREGORIAN
METHOD:PUBLISH
X-ORIGINAL-URL:https://hikinghoundadventures.com
X-WR-CALDESC:Events for Hiking Hound Adventures, LLC
REFRESH-INTERVAL;VALUE=DURATION:PT1H
X-Robots-Tag:noindex
X-PUBLISHED-TTL:PT1H
BEGIN:VTIMEZONE
TZID:UTC
BEGIN:STANDARD
TZOFFSETFROM:+0000
TZOFFSETTO:+0000
TZNAME:UTC
DTSTART:20230101T000000
END:STANDARD
END:VTIMEZONE
BEGIN:VEVENT
DTSTART;TZID=UTC:20240519T110000
DTEND;TZID=UTC:20240519T120000
DTSTAMP:20260424T183635
CREATED:20240517T165734Z
LAST-MODIFIED:20241121T181325Z
UID:815-1716116400-1716120000@hikinghoundadventures.com
SUMMARY:Nature BINGO! Hike
DESCRIPTION:Join Hiking Hound Adventures\, LLC for a fun filled morning of exploration and a game of Nature BINGO! \nAs we hike along the trail\, children and their guardians will be immersed in a world of discovery. Along the way\, we’ll engage in a lively game of Nature Bingo\, where keen eyes and curious minds will be put to the test. From identifying different plant species to spotting elusive wildlife\, every moment is an opportunity to learn something new about the natural world. \n  \nOur experienced guides will provide fascinating insights into the flora and fauna we encounter\, turning every step of the hike into a valuable lesson. As participants mark off items on their bingo cards\, they’ll not only compete for prizes but also deepen their understanding and appreciation for the environment around them. \n  \nAfter the hike\, we will gather to let the winners claim their prizes. \n  \nSo\, grab your binoculars and sense of wonder as we embark on a journey that’s as enriching as it is entertaining. Let’s discover the magic of nature together and create memories that will last a lifetime! \n  \n***Recommended ages: 3yrs-8yrs (but suitable for all ages)- Price is for 1 Adult and 1 Child; Each child must be accompanied by a guardian over 18 years of age)***
URL:https://hikinghoundadventures.com/event/nature-bingo-hike/
LOCATION:Louis Scott Memorial Park\, 998 Ridley Creek Road\, Media\, PA\, 19063\, United States
CATEGORIES:Hike
ORGANIZER;CN="Hiking Hound Adventures%2C LLC":MAILTO:info@hikinghoundadventures.com
END:VEVENT
END:VCALENDAR