BEGIN:VCALENDAR
VERSION:2.0
PRODID:-//Hiking Hound Adventures, LLC - ECPv6.15.20//NONSGML v1.0//EN
CALSCALE:GREGORIAN
METHOD:PUBLISH
X-ORIGINAL-URL:https://hikinghoundadventures.com
X-WR-CALDESC:Events for Hiking Hound Adventures, LLC
REFRESH-INTERVAL;VALUE=DURATION:PT1H
X-Robots-Tag:noindex
X-PUBLISHED-TTL:PT1H
BEGIN:VTIMEZONE
TZID:America/New_York
BEGIN:DAYLIGHT
TZOFFSETFROM:-0500
TZOFFSETTO:-0400
TZNAME:EDT
DTSTART:20240310T070000
END:DAYLIGHT
BEGIN:STANDARD
TZOFFSETFROM:-0400
TZOFFSETTO:-0500
TZNAME:EST
DTSTART:20241103T060000
END:STANDARD
BEGIN:DAYLIGHT
TZOFFSETFROM:-0500
TZOFFSETTO:-0400
TZNAME:EDT
DTSTART:20250309T070000
END:DAYLIGHT
BEGIN:STANDARD
TZOFFSETFROM:-0400
TZOFFSETTO:-0500
TZNAME:EST
DTSTART:20251102T060000
END:STANDARD
BEGIN:DAYLIGHT
TZOFFSETFROM:-0500
TZOFFSETTO:-0400
TZNAME:EDT
DTSTART:20260308T070000
END:DAYLIGHT
BEGIN:STANDARD
TZOFFSETFROM:-0400
TZOFFSETTO:-0500
TZNAME:EST
DTSTART:20261101T060000
END:STANDARD
END:VTIMEZONE
BEGIN:VEVENT
DTSTART;TZID=America/New_York:20250215T140000
DTEND;TZID=America/New_York:20250215T150000
DTSTAMP:20260424T065952
CREATED:20241203T172900Z
LAST-MODIFIED:20241203T172900Z
UID:2323-1739628000-1739631600@hikinghoundadventures.com
SUMMARY:Little Tykes go on Hikes! w/ Borough of West Chester Parks & Rec.
DESCRIPTION:Hiking with kids can be an intimidating topic. During this 45 minute course\, Hiking Hound Adventures\, LLC will be on the trail with little ones and their guardians to tackle some of the most asked questions surrounding taking kids into the woods. Through fun games and hands-on activities\, we cover safety\, choosing the right trail\, packing considerations\, and much more!  \nMain Topics: \n\nSafety- each child will get a safety whistle to keep\nPacking\nFun on-trail games and activities\nLeave No Trace\n\n***Recommended age is  3-12 years old\, but all ages are welcome- Price is per child. Children must be accompanied by an adult. Children under 3 years old are free when accompanying another registered child*** \nDecember 14th- 12pm- Trailblazers Treasure Hunt\nJanuary 12th- 1:30pm- Hot Chocolate Hike\nFebruary 15th- 2pm- Winter Wonderland Storybook Hike
URL:https://hikinghoundadventures.com/event/little-tykes-go-on-hikes-w-borough-of-west-chester-parks-rec-3/
LOCATION:Everhart Park\, 299 South Bradford AVE\, West Chester\, Pennsylvania\, 19382
CATEGORIES:Hike
END:VEVENT
BEGIN:VEVENT
DTSTART;TZID=America/New_York:20250222T120000
DTEND;TZID=America/New_York:20250222T130000
DTSTAMP:20260424T065952
CREATED:20241203T173633Z
LAST-MODIFIED:20241203T173633Z
UID:2325-1740225600-1740229200@hikinghoundadventures.com
SUMMARY:Little Tykes go on Hikes! w/ Lower Makefield Township
DESCRIPTION:Hiking with kids can be an intimidating topic. During this 45 minute course\, Hiking Hound Adventures\, LLC will be on the trail with little ones and their guardians to tackle some of the most asked questions surrounding taking kids into the woods. Through fun games and hands-on activities\, we cover safety\, choosing the right trail\, packing considerations\, and much more!  \nMain Topics: \n\nSafety- each child will get a safety whistle to keep\nPacking\nFun on-trail games and activities\nLeave No Trace\n\n***Recommended age is  3-12 years old\, but all ages are welcome- Price is per child. Children must be accompanied by an adult. Children under 3 years old are free when accompanying another registered child***
URL:https://hikinghoundadventures.com/event/little-tykes-go-on-hikes-w-lower-makefield-township/
LOCATION:Five Mile Woods\, 1305 Big Oak Rd\, Yardley\, PA\, 19067
CATEGORIES:Hike
END:VEVENT
END:VCALENDAR