BEGIN:VCALENDAR
VERSION:2.0
PRODID:-//Hiking Hound Adventures, LLC - ECPv6.15.20//NONSGML v1.0//EN
CALSCALE:GREGORIAN
METHOD:PUBLISH
X-ORIGINAL-URL:https://hikinghoundadventures.com
X-WR-CALDESC:Events for Hiking Hound Adventures, LLC
REFRESH-INTERVAL;VALUE=DURATION:PT1H
X-Robots-Tag:noindex
X-PUBLISHED-TTL:PT1H
BEGIN:VTIMEZONE
TZID:America/New_York
BEGIN:DAYLIGHT
TZOFFSETFROM:-0500
TZOFFSETTO:-0400
TZNAME:EDT
DTSTART:20240310T070000
END:DAYLIGHT
BEGIN:STANDARD
TZOFFSETFROM:-0400
TZOFFSETTO:-0500
TZNAME:EST
DTSTART:20241103T060000
END:STANDARD
BEGIN:DAYLIGHT
TZOFFSETFROM:-0500
TZOFFSETTO:-0400
TZNAME:EDT
DTSTART:20250309T070000
END:DAYLIGHT
BEGIN:STANDARD
TZOFFSETFROM:-0400
TZOFFSETTO:-0500
TZNAME:EST
DTSTART:20251102T060000
END:STANDARD
BEGIN:DAYLIGHT
TZOFFSETFROM:-0500
TZOFFSETTO:-0400
TZNAME:EDT
DTSTART:20260308T070000
END:DAYLIGHT
BEGIN:STANDARD
TZOFFSETFROM:-0400
TZOFFSETTO:-0500
TZNAME:EST
DTSTART:20261101T060000
END:STANDARD
BEGIN:DAYLIGHT
TZOFFSETFROM:-0500
TZOFFSETTO:-0400
TZNAME:EDT
DTSTART:20270314T070000
END:DAYLIGHT
BEGIN:STANDARD
TZOFFSETFROM:-0400
TZOFFSETTO:-0500
TZNAME:EST
DTSTART:20271107T060000
END:STANDARD
END:VTIMEZONE
BEGIN:VEVENT
DTSTART;TZID=America/New_York:20251115T120000
DTEND;TZID=America/New_York:20251115T120000
DTSTAMP:20260424T200500
CREATED:20251013T173303Z
LAST-MODIFIED:20251015T170017Z
UID:4590-1763208000-1763208000@hikinghoundadventures.com
SUMMARY:Guided Nature Hike- Lower Merion
DESCRIPTION:Fall Colors
URL:https://hikinghoundadventures.com/event/guided-nature-hike-lower-merion/
LOCATION:PA
CATEGORIES:Hike
END:VEVENT
BEGIN:VEVENT
DTSTART;TZID=America/New_York:20260321T090000
DTEND;TZID=America/New_York:20260321T090000
DTSTAMP:20260424T200500
CREATED:20251118T164519Z
LAST-MODIFIED:20251229T190007Z
UID:5049-1774083600-1774083600@hikinghoundadventures.com
SUMMARY:French Creek Hike- Upper Darby Township
DESCRIPTION:
URL:https://hikinghoundadventures.com/event/french-creek-hike-upper-darby-township/
LOCATION:PA
CATEGORIES:Hike
END:VEVENT
BEGIN:VEVENT
DTSTART;TZID=America/New_York:20260328T120000
DTEND;TZID=America/New_York:20260328T120000
DTSTAMP:20260424T200500
CREATED:20260317T184608Z
LAST-MODIFIED:20260317T184608Z
UID:6164-1774699200-1774699200@hikinghoundadventures.com
SUMMARY:Sensory Walk- Haverford Township
DESCRIPTION:
URL:https://hikinghoundadventures.com/event/sensory-walk-haverford-township/
LOCATION:PA
CATEGORIES:Hike
END:VEVENT
BEGIN:VEVENT
DTSTART;TZID=America/New_York:20260502T090000
DTEND;TZID=America/New_York:20260502T100000
DTSTAMP:20260424T200500
CREATED:20260204T160132Z
LAST-MODIFIED:20260204T160132Z
UID:5830-1777712400-1777716000@hikinghoundadventures.com
SUMMARY:Guided Birding Hike
DESCRIPTION:John Heinz
URL:https://hikinghoundadventures.com/event/guided-birding-hike/
LOCATION:PA
CATEGORIES:Hike,Nature Hikes
END:VEVENT
BEGIN:VEVENT
DTSTART;TZID=America/New_York:20260509T120000
DTEND;TZID=America/New_York:20260509T120000
DTSTAMP:20260424T200500
CREATED:20260317T184608Z
LAST-MODIFIED:20260317T184608Z
UID:6165-1778328000-1778328000@hikinghoundadventures.com
SUMMARY:Sensory Walk- Haverford Township
DESCRIPTION:
URL:https://hikinghoundadventures.com/event/sensory-walk-haverford-township-2/
LOCATION:PA
CATEGORIES:Hike
END:VEVENT
END:VCALENDAR