BEGIN:VCALENDAR
VERSION:2.0
PRODID:-//Hiking Hound Adventures, LLC - ECPv6.15.20//NONSGML v1.0//EN
CALSCALE:GREGORIAN
METHOD:PUBLISH
X-ORIGINAL-URL:https://hikinghoundadventures.com
X-WR-CALDESC:Events for Hiking Hound Adventures, LLC
REFRESH-INTERVAL;VALUE=DURATION:PT1H
X-Robots-Tag:noindex
X-PUBLISHED-TTL:PT1H
BEGIN:VTIMEZONE
TZID:America/New_York
BEGIN:DAYLIGHT
TZOFFSETFROM:-0500
TZOFFSETTO:-0400
TZNAME:EDT
DTSTART:20240310T070000
END:DAYLIGHT
BEGIN:STANDARD
TZOFFSETFROM:-0400
TZOFFSETTO:-0500
TZNAME:EST
DTSTART:20241103T060000
END:STANDARD
BEGIN:DAYLIGHT
TZOFFSETFROM:-0500
TZOFFSETTO:-0400
TZNAME:EDT
DTSTART:20250309T070000
END:DAYLIGHT
BEGIN:STANDARD
TZOFFSETFROM:-0400
TZOFFSETTO:-0500
TZNAME:EST
DTSTART:20251102T060000
END:STANDARD
BEGIN:DAYLIGHT
TZOFFSETFROM:-0500
TZOFFSETTO:-0400
TZNAME:EDT
DTSTART:20260308T070000
END:DAYLIGHT
BEGIN:STANDARD
TZOFFSETFROM:-0400
TZOFFSETTO:-0500
TZNAME:EST
DTSTART:20261101T060000
END:STANDARD
END:VTIMEZONE
BEGIN:VEVENT
DTSTART;TZID=America/New_York:20251102T110000
DTEND;TZID=America/New_York:20251102T110000
DTSTAMP:20260423T190101
CREATED:20250706T141910Z
LAST-MODIFIED:20251015T165450Z
UID:4238-1762081200-1762081200@hikinghoundadventures.com
SUMMARY:Little Tykes go on Hikes- Springfield (MontCo)
DESCRIPTION:Storybook
URL:https://hikinghoundadventures.com/event/springfield-montco-little-tykes-2/
CATEGORIES:Little Tykes
END:VEVENT
BEGIN:VEVENT
DTSTART;TZID=America/New_York:20251104T110000
DTEND;TZID=America/New_York:20251104T110000
DTSTAMP:20260423T190101
CREATED:20250804T152644Z
LAST-MODIFIED:20251015T165509Z
UID:4350-1762254000-1762254000@hikinghoundadventures.com
SUMMARY:Little Tykes go on Hikes - Westtown Township
DESCRIPTION:Fall Colors
URL:https://hikinghoundadventures.com/event/little-tykes-go-on-hikes-westtown-township-8/
CATEGORIES:Little Tykes
END:VEVENT
BEGIN:VEVENT
DTSTART;TZID=America/New_York:20251115T104500
DTEND;TZID=America/New_York:20251115T104500
DTSTAMP:20260423T190101
CREATED:20251013T173304Z
LAST-MODIFIED:20251015T165641Z
UID:4591-1763203500-1763203500@hikinghoundadventures.com
SUMMARY:Little Tykes go on Hikes - Haverford Township
DESCRIPTION:BINGO!
URL:https://hikinghoundadventures.com/event/little-tykes-go-on-hikes-haverford-township/
CATEGORIES:Little Tykes
END:VEVENT
BEGIN:VEVENT
DTSTART;TZID=America/New_York:20251115T120000
DTEND;TZID=America/New_York:20251115T120000
DTSTAMP:20260423T190101
CREATED:20251013T173301Z
LAST-MODIFIED:20251015T165653Z
UID:4589-1763208000-1763208000@hikinghoundadventures.com
SUMMARY:Little Tykes go on Hikes - Lower Makefield
DESCRIPTION:Storybook
URL:https://hikinghoundadventures.com/event/little-tykes-go-on-hikes-lower-makefield/
CATEGORIES:Little Tykes
END:VEVENT
BEGIN:VEVENT
DTSTART;TZID=America/New_York:20251115T150000
DTEND;TZID=America/New_York:20251115T150000
DTSTAMP:20260423T190101
CREATED:20250902T183118Z
LAST-MODIFIED:20251015T165745Z
UID:4453-1763218800-1763218800@hikinghoundadventures.com
SUMMARY:Little Tykes go on Hikes - Radnor Township
DESCRIPTION:Storybook
URL:https://hikinghoundadventures.com/event/little-tykes-go-on-hikes-radnor-township-8/
CATEGORIES:Little Tykes
END:VEVENT
BEGIN:VEVENT
DTSTART;TZID=America/New_York:20251116T150000
DTEND;TZID=America/New_York:20251116T150000
DTSTAMP:20260423T190101
CREATED:20251013T173316Z
LAST-MODIFIED:20251015T170027Z
UID:4592-1763305200-1763305200@hikinghoundadventures.com
SUMMARY:Little Tykes go on Hikes - Lower Merion
DESCRIPTION:Storybook
URL:https://hikinghoundadventures.com/event/little-tykes-go-on-hikes-lower-merion/
CATEGORIES:Little Tykes
END:VEVENT
BEGIN:VEVENT
DTSTART;TZID=America/New_York:20251122T110000
DTEND;TZID=America/New_York:20251122T110000
DTSTAMP:20260423T190101
CREATED:20250804T152821Z
LAST-MODIFIED:20251015T170045Z
UID:4359-1763809200-1763809200@hikinghoundadventures.com
SUMMARY:Little Tykes go on Hikes - Westtown Township
DESCRIPTION:Hot Chocolate
URL:https://hikinghoundadventures.com/event/little-tykes-go-on-hikes-westtown-township-9/
CATEGORIES:Little Tykes
END:VEVENT
END:VCALENDAR