BEGIN:VCALENDAR
VERSION:2.0
PRODID:-//Hiking Hound Adventures, LLC - ECPv6.15.20//NONSGML v1.0//EN
CALSCALE:GREGORIAN
METHOD:PUBLISH
X-WR-CALNAME:Hiking Hound Adventures, LLC
X-ORIGINAL-URL:https://hikinghoundadventures.com
X-WR-CALDESC:Events for Hiking Hound Adventures, LLC
REFRESH-INTERVAL;VALUE=DURATION:PT1H
X-Robots-Tag:noindex
X-PUBLISHED-TTL:PT1H
BEGIN:VTIMEZONE
TZID:America/New_York
BEGIN:DAYLIGHT
TZOFFSETFROM:-0500
TZOFFSETTO:-0400
TZNAME:EDT
DTSTART:20250309T070000
END:DAYLIGHT
BEGIN:STANDARD
TZOFFSETFROM:-0400
TZOFFSETTO:-0500
TZNAME:EST
DTSTART:20251102T060000
END:STANDARD
BEGIN:DAYLIGHT
TZOFFSETFROM:-0500
TZOFFSETTO:-0400
TZNAME:EDT
DTSTART:20260308T070000
END:DAYLIGHT
BEGIN:STANDARD
TZOFFSETFROM:-0400
TZOFFSETTO:-0500
TZNAME:EST
DTSTART:20261101T060000
END:STANDARD
BEGIN:DAYLIGHT
TZOFFSETFROM:-0500
TZOFFSETTO:-0400
TZNAME:EDT
DTSTART:20270314T070000
END:DAYLIGHT
BEGIN:STANDARD
TZOFFSETFROM:-0400
TZOFFSETTO:-0500
TZNAME:EST
DTSTART:20271107T060000
END:STANDARD
END:VTIMEZONE
BEGIN:VEVENT
DTSTART;TZID=America/New_York:20260307T140000
DTEND;TZID=America/New_York:20260307T140000
DTSTAMP:20260423T131947
CREATED:20251118T164720Z
LAST-MODIFIED:20251229T190812Z
UID:5105-1772892000-1772892000@hikinghoundadventures.com
SUMMARY:Little Tykes go on Hikes - Westtown Township
DESCRIPTION:Treasure Hunt
URL:https://hikinghoundadventures.com/event/little-tykes-go-on-hikes-westtown-township-11/
CATEGORIES:Little Tykes
END:VEVENT
BEGIN:VEVENT
DTSTART;TZID=America/New_York:20260315T090000
DTEND;TZID=America/New_York:20260315T090000
DTSTAMP:20260423T131947
CREATED:20251118T164654Z
LAST-MODIFIED:20251229T190208Z
UID:5084-1773565200-1773565200@hikinghoundadventures.com
SUMMARY:Little Tykes go on Hikes - Phoenixville
DESCRIPTION:Storybook
URL:https://hikinghoundadventures.com/event/little-tykes-go-on-hikes-phoenixville-5/
CATEGORIES:Little Tykes
END:VEVENT
BEGIN:VEVENT
DTSTART;TZID=America/New_York:20260315T120000
DTEND;TZID=America/New_York:20260315T120000
DTSTAMP:20260423T131947
CREATED:20251118T164712Z
LAST-MODIFIED:20251229T190811Z
UID:5101-1773576000-1773576000@hikinghoundadventures.com
SUMMARY:Little Tykes go on Hikes - Upper Providence
DESCRIPTION:Treasure Hunt
URL:https://hikinghoundadventures.com/event/little-tykes-go-on-hikes-upper-providence-7/
CATEGORIES:Little Tykes
END:VEVENT
BEGIN:VEVENT
DTSTART;TZID=America/New_York:20260321T100000
DTEND;TZID=America/New_York:20260321T100000
DTSTAMP:20260423T131947
CREATED:20251118T164725Z
LAST-MODIFIED:20251229T191213Z
UID:5108-1774087200-1774087200@hikinghoundadventures.com
SUMMARY:Little Tykes go on Hikes- Lansdale Township
DESCRIPTION:Storybook
URL:https://hikinghoundadventures.com/event/little-tykes-go-on-hikes-lansdale-township-3/
CATEGORIES:Little Tykes
END:VEVENT
BEGIN:VEVENT
DTSTART;TZID=America/New_York:20260321T120000
DTEND;TZID=America/New_York:20260321T120000
DTSTAMP:20260423T131947
CREATED:20251118T164710Z
LAST-MODIFIED:20251229T190409Z
UID:5094-1774094400-1774094400@hikinghoundadventures.com
SUMMARY:Little Tykes go on Hikes - Radnor Township
DESCRIPTION:Storybook
URL:https://hikinghoundadventures.com/event/little-tykes-go-on-hikes-radnor-township-11/
CATEGORIES:Little Tykes
END:VEVENT
BEGIN:VEVENT
DTSTART;TZID=America/New_York:20260328T103000
DTEND;TZID=America/New_York:20260328T103000
DTSTAMP:20260423T131947
CREATED:20251229T191013Z
LAST-MODIFIED:20251229T191013Z
UID:5642-1774693800-1774693800@hikinghoundadventures.com
SUMMARY:Little Tykes go on Hikes- Haverford Township
DESCRIPTION:Geochache
URL:https://hikinghoundadventures.com/event/little-tykes-go-on-hikes-haverford-township-4/
CATEGORIES:Little Tykes
END:VEVENT
BEGIN:VEVENT
DTSTART;TZID=America/New_York:20260328T120000
DTEND;TZID=America/New_York:20260328T120000
DTSTAMP:20260423T131947
CREATED:20251118T164725Z
LAST-MODIFIED:20251118T164725Z
UID:5109-1774699200-1774699200@hikinghoundadventures.com
SUMMARY:Little Tykes go on Hikes- Lower Merion
DESCRIPTION:Storybook
URL:https://hikinghoundadventures.com/event/little-tykes-go-on-hikes-lower-merion-4/
CATEGORIES:Little Tykes
END:VEVENT
END:VCALENDAR