BEGIN:VCALENDAR
VERSION:2.0
PRODID:-//Hiking Hound Adventures, LLC - ECPv6.15.20//NONSGML v1.0//EN
CALSCALE:GREGORIAN
METHOD:PUBLISH
X-WR-CALNAME:Hiking Hound Adventures, LLC
X-ORIGINAL-URL:https://hikinghoundadventures.com
X-WR-CALDESC:Events for Hiking Hound Adventures, LLC
REFRESH-INTERVAL;VALUE=DURATION:PT1H
X-Robots-Tag:noindex
X-PUBLISHED-TTL:PT1H
BEGIN:VTIMEZONE
TZID:America/New_York
BEGIN:DAYLIGHT
TZOFFSETFROM:-0500
TZOFFSETTO:-0400
TZNAME:EDT
DTSTART:20250309T070000
END:DAYLIGHT
BEGIN:STANDARD
TZOFFSETFROM:-0400
TZOFFSETTO:-0500
TZNAME:EST
DTSTART:20251102T060000
END:STANDARD
BEGIN:DAYLIGHT
TZOFFSETFROM:-0500
TZOFFSETTO:-0400
TZNAME:EDT
DTSTART:20260308T070000
END:DAYLIGHT
BEGIN:STANDARD
TZOFFSETFROM:-0400
TZOFFSETTO:-0500
TZNAME:EST
DTSTART:20261101T060000
END:STANDARD
BEGIN:DAYLIGHT
TZOFFSETFROM:-0500
TZOFFSETTO:-0400
TZNAME:EDT
DTSTART:20270314T070000
END:DAYLIGHT
BEGIN:STANDARD
TZOFFSETFROM:-0400
TZOFFSETTO:-0500
TZNAME:EST
DTSTART:20271107T060000
END:STANDARD
END:VTIMEZONE
BEGIN:VEVENT
DTSTART;TZID=America/New_York:20260501T090000
DTEND;TZID=America/New_York:20260501T090000
DTSTAMP:20260423T132305
CREATED:20251229T190152Z
LAST-MODIFIED:20251229T190152Z
UID:5621-1777626000-1777626000@hikinghoundadventures.com
SUMMARY:Leave No Trace Level 1 Instructor Course- 2 Day Backpacking Trip
DESCRIPTION:
URL:https://hikinghoundadventures.com/event/leave-no-trace-level-1-instructor-course-2-day-backpacking-trip/
CATEGORIES:Backpacking Trips,LNT
END:VEVENT
BEGIN:VEVENT
DTSTART;TZID=America/New_York:20260502T090000
DTEND;TZID=America/New_York:20260502T090000
DTSTAMP:20260423T132305
CREATED:20251229T190208Z
LAST-MODIFIED:20251229T190208Z
UID:5622-1777712400-1777712400@hikinghoundadventures.com
SUMMARY:Leave No Trace Level 1 Instructor Course- 2 Day Backpacking Trip
DESCRIPTION:
URL:https://hikinghoundadventures.com/event/leave-no-trace-level-1-instructor-course-2-day-backpacking-trip-2/
CATEGORIES:Backpacking Trips,LNT
END:VEVENT
BEGIN:VEVENT
DTSTART;TZID=America/New_York:20260518T100000
DTEND;TZID=America/New_York:20260518T100000
DTSTAMP:20260423T132305
CREATED:20251118T164304Z
LAST-MODIFIED:20251229T185641Z
UID:5009-1779098400-1779098400@hikinghoundadventures.com
SUMMARY:2 Day Virtual Leave No Trace Level 1 Instructor Course
DESCRIPTION:
URL:https://hikinghoundadventures.com/event/2-day-virtual-leave-no-trace-level-1-instructor-course-16/
CATEGORIES:LNT
END:VEVENT
BEGIN:VEVENT
DTSTART;TZID=America/New_York:20260519T100000
DTEND;TZID=America/New_York:20260519T100000
DTSTAMP:20260423T132305
CREATED:20251118T164304Z
LAST-MODIFIED:20251229T185641Z
UID:5010-1779184800-1779184800@hikinghoundadventures.com
SUMMARY:2 Day Virtual Leave No Trace Level 1 Instructor Course
DESCRIPTION:
URL:https://hikinghoundadventures.com/event/2-day-virtual-leave-no-trace-level-1-instructor-course-17/
CATEGORIES:LNT
END:VEVENT
END:VCALENDAR