BEGIN:VCALENDAR
VERSION:2.0
PRODID:-//Hiking Hound Adventures, LLC - ECPv6.15.20//NONSGML v1.0//EN
CALSCALE:GREGORIAN
METHOD:PUBLISH
X-ORIGINAL-URL:https://hikinghoundadventures.com
X-WR-CALDESC:Events for Hiking Hound Adventures, LLC
REFRESH-INTERVAL;VALUE=DURATION:PT1H
X-Robots-Tag:noindex
X-PUBLISHED-TTL:PT1H
BEGIN:VTIMEZONE
TZID:America/New_York
BEGIN:DAYLIGHT
TZOFFSETFROM:-0500
TZOFFSETTO:-0400
TZNAME:EDT
DTSTART:20240310T070000
END:DAYLIGHT
BEGIN:STANDARD
TZOFFSETFROM:-0400
TZOFFSETTO:-0500
TZNAME:EST
DTSTART:20241103T060000
END:STANDARD
BEGIN:DAYLIGHT
TZOFFSETFROM:-0500
TZOFFSETTO:-0400
TZNAME:EDT
DTSTART:20250309T070000
END:DAYLIGHT
BEGIN:STANDARD
TZOFFSETFROM:-0400
TZOFFSETTO:-0500
TZNAME:EST
DTSTART:20251102T060000
END:STANDARD
BEGIN:DAYLIGHT
TZOFFSETFROM:-0500
TZOFFSETTO:-0400
TZNAME:EDT
DTSTART:20260308T070000
END:DAYLIGHT
BEGIN:STANDARD
TZOFFSETFROM:-0400
TZOFFSETTO:-0500
TZNAME:EST
DTSTART:20261101T060000
END:STANDARD
BEGIN:DAYLIGHT
TZOFFSETFROM:-0500
TZOFFSETTO:-0400
TZNAME:EDT
DTSTART:20270314T070000
END:DAYLIGHT
BEGIN:STANDARD
TZOFFSETFROM:-0400
TZOFFSETTO:-0500
TZNAME:EST
DTSTART:20271107T060000
END:STANDARD
END:VTIMEZONE
BEGIN:VEVENT
DTSTART;TZID=America/New_York:20260417T100000
DTEND;TZID=America/New_York:20260417T100000
DTSTAMP:20260423T144626
CREATED:20251118T164304Z
LAST-MODIFIED:20251229T185641Z
UID:5008-1776420000-1776420000@hikinghoundadventures.com
SUMMARY:2 Day Virtual Leave No Trace Level 1 Instructor Course
DESCRIPTION:
URL:https://hikinghoundadventures.com/event/2-day-virtual-leave-no-trace-level-1-instructor-course-15/
CATEGORIES:LNT
END:VEVENT
BEGIN:VEVENT
DTSTART;TZID=America/New_York:20260416T100000
DTEND;TZID=America/New_York:20260416T100000
DTSTAMP:20260423T144626
CREATED:20251118T164302Z
LAST-MODIFIED:20251229T185639Z
UID:5007-1776333600-1776333600@hikinghoundadventures.com
SUMMARY:2 Day Virtual Leave No Trace Level 1 Instructor Course
DESCRIPTION:
URL:https://hikinghoundadventures.com/event/2-day-virtual-leave-no-trace-level-1-instructor-course-14/
CATEGORIES:LNT
END:VEVENT
BEGIN:VEVENT
DTSTART;TZID=America/New_York:20260320T170000
DTEND;TZID=America/New_York:20260320T170000
DTSTAMP:20260423T144626
CREATED:20251118T164350Z
LAST-MODIFIED:20251229T185713Z
UID:5030-1774026000-1774026000@hikinghoundadventures.com
SUMMARY:3 Day Virtual Leave No Trace Level 1 Instructor Course
DESCRIPTION:
URL:https://hikinghoundadventures.com/event/3-day-virtual-leave-no-trace-level-1-instructor-course-5/
CATEGORIES:LNT
END:VEVENT
BEGIN:VEVENT
DTSTART;TZID=America/New_York:20260319T170000
DTEND;TZID=America/New_York:20260319T170000
DTSTAMP:20260423T144626
CREATED:20251118T164350Z
LAST-MODIFIED:20251229T185713Z
UID:5029-1773939600-1773939600@hikinghoundadventures.com
SUMMARY:3 Day Virtual Leave No Trace Level 1 Instructor Course
DESCRIPTION:
URL:https://hikinghoundadventures.com/event/3-day-virtual-leave-no-trace-level-1-instructor-course-4/
CATEGORIES:LNT
END:VEVENT
BEGIN:VEVENT
DTSTART;TZID=America/New_York:20260318T170000
DTEND;TZID=America/New_York:20260318T170000
DTSTAMP:20260423T144626
CREATED:20251118T164350Z
LAST-MODIFIED:20251229T185713Z
UID:5028-1773853200-1773853200@hikinghoundadventures.com
SUMMARY:3 Day Virtual Leave No Trace Level 1 Instructor Course
DESCRIPTION:
URL:https://hikinghoundadventures.com/event/3-day-virtual-leave-no-trace-level-1-instructor-course-3/
CATEGORIES:LNT
END:VEVENT
BEGIN:VEVENT
DTSTART;TZID=America/New_York:20260220T100000
DTEND;TZID=America/New_York:20260220T100000
DTSTAMP:20260423T144626
CREATED:20251118T164302Z
LAST-MODIFIED:20251229T185639Z
UID:5006-1771581600-1771581600@hikinghoundadventures.com
SUMMARY:2 Day Virtual Leave No Trace Level 1 Instructor Course
DESCRIPTION:
URL:https://hikinghoundadventures.com/event/2-day-virtual-leave-no-trace-level-1-instructor-course-13/
CATEGORIES:LNT
END:VEVENT
BEGIN:VEVENT
DTSTART;TZID=America/New_York:20260219T100000
DTEND;TZID=America/New_York:20260219T100000
DTSTAMP:20260423T144626
CREATED:20251118T164302Z
LAST-MODIFIED:20251229T185639Z
UID:5005-1771495200-1771495200@hikinghoundadventures.com
SUMMARY:2 Day Virtual Leave No Trace Level 1 Instructor Course
DESCRIPTION:
URL:https://hikinghoundadventures.com/event/2-day-virtual-leave-no-trace-level-1-instructor-course-12/
CATEGORIES:LNT
END:VEVENT
BEGIN:VEVENT
DTSTART;TZID=America/New_York:20260123T100000
DTEND;TZID=America/New_York:20260123T100000
DTSTAMP:20260423T144626
CREATED:20251118T164302Z
LAST-MODIFIED:20251229T185639Z
UID:5004-1769162400-1769162400@hikinghoundadventures.com
SUMMARY:2 Day Virtual Leave No Trace Level 1 Instructor Course
DESCRIPTION:
URL:https://hikinghoundadventures.com/event/2-day-virtual-leave-no-trace-level-1-instructor-course-11/
CATEGORIES:LNT
END:VEVENT
BEGIN:VEVENT
DTSTART;TZID=America/New_York:20260122T100000
DTEND;TZID=America/New_York:20260122T100000
DTSTAMP:20260423T144626
CREATED:20251118T164301Z
LAST-MODIFIED:20251229T185639Z
UID:5003-1769076000-1769076000@hikinghoundadventures.com
SUMMARY:2 Day Virtual Leave No Trace Level 1 Instructor Course
DESCRIPTION:
URL:https://hikinghoundadventures.com/event/2-day-virtual-leave-no-trace-level-1-instructor-course-10/
CATEGORIES:LNT
END:VEVENT
BEGIN:VEVENT
DTSTART;TZID=America/New_York:20251212T100000
DTEND;TZID=America/New_York:20251212T100000
DTSTAMP:20260423T144626
CREATED:20251013T173326Z
LAST-MODIFIED:20251013T174042Z
UID:4595-1765533600-1765533600@hikinghoundadventures.com
SUMMARY:2 Day Virtual Leave No Trace Level 1 Instructor Course
DESCRIPTION:
URL:https://hikinghoundadventures.com/event/2-day-virtual-leave-no-trace-level-1-instructor-course-8/
CATEGORIES:LNT
END:VEVENT
BEGIN:VEVENT
DTSTART;TZID=America/New_York:20251211T100000
DTEND;TZID=America/New_York:20251211T100000
DTSTAMP:20260423T144626
CREATED:20251013T173325Z
LAST-MODIFIED:20251013T173325Z
UID:4594-1765447200-1765447200@hikinghoundadventures.com
SUMMARY:2 Day Virtual Leave No Trace Level 1 Instructor Course
DESCRIPTION:
URL:https://hikinghoundadventures.com/event/2-day-virtual-leave-no-trace-level-1-instructor-course-7/
CATEGORIES:LNT
END:VEVENT
BEGIN:VEVENT
DTSTART;TZID=America/New_York:20251114T100000
DTEND;TZID=America/New_York:20251114T100000
DTSTAMP:20260423T144626
CREATED:20251013T174352Z
LAST-MODIFIED:20251013T174352Z
UID:4605-1763114400-1763114400@hikinghoundadventures.com
SUMMARY:2 Day Virtual Leave No Trace Level 1 Instructor Course
DESCRIPTION:
URL:https://hikinghoundadventures.com/event/2-day-virtual-leave-no-trace-level-1-instructor-course-9/
CATEGORIES:LNT
END:VEVENT
BEGIN:VEVENT
DTSTART;TZID=America/New_York:20251113T100000
DTEND;TZID=America/New_York:20251113T100000
DTSTAMP:20260423T144626
CREATED:20251013T173253Z
LAST-MODIFIED:20251013T173300Z
UID:4587-1763028000-1763028000@hikinghoundadventures.com
SUMMARY:2 Day Virtual Leave No Trace Level 1 Instructor Course
DESCRIPTION:
URL:https://hikinghoundadventures.com/event/2-day-virtual-leave-no-trace-level-1-instructor-course-6/
CATEGORIES:LNT
END:VEVENT
BEGIN:VEVENT
DTSTART;TZID=America/New_York:20251021T100000
DTEND;TZID=America/New_York:20251021T100000
DTSTAMP:20260423T144626
CREATED:20251013T173231Z
LAST-MODIFIED:20251013T174046Z
UID:4579-1761040800-1761040800@hikinghoundadventures.com
SUMMARY:2 Day Virtual Leave No Trace Level 1 Instructor Course
DESCRIPTION:
URL:https://hikinghoundadventures.com/event/2-day-virtual-leave-no-trace-level-1-instructor-course-5/
CATEGORIES:LNT
END:VEVENT
BEGIN:VEVENT
DTSTART;TZID=America/New_York:20251020T100000
DTEND;TZID=America/New_York:20251020T100000
DTSTAMP:20260423T144626
CREATED:20251013T173229Z
LAST-MODIFIED:20251013T173229Z
UID:4578-1760954400-1760954400@hikinghoundadventures.com
SUMMARY:2 Day Virtual Leave No Trace Level 1 Instructor Course
DESCRIPTION:
URL:https://hikinghoundadventures.com/event/2-day-virtual-leave-no-trace-level-1-instructor-course-4/
CATEGORIES:LNT
END:VEVENT
END:VCALENDAR