BEGIN:VCALENDAR
VERSION:2.0
PRODID:-//Hiking Hound Adventures, LLC - ECPv6.15.20//NONSGML v1.0//EN
CALSCALE:GREGORIAN
METHOD:PUBLISH
X-WR-CALNAME:Hiking Hound Adventures, LLC
X-ORIGINAL-URL:https://hikinghoundadventures.com
X-WR-CALDESC:Events for Hiking Hound Adventures, LLC
REFRESH-INTERVAL;VALUE=DURATION:PT1H
X-Robots-Tag:noindex
X-PUBLISHED-TTL:PT1H
BEGIN:VTIMEZONE
TZID:America/New_York
BEGIN:DAYLIGHT
TZOFFSETFROM:-0500
TZOFFSETTO:-0400
TZNAME:EDT
DTSTART:20230312T070000
END:DAYLIGHT
BEGIN:STANDARD
TZOFFSETFROM:-0400
TZOFFSETTO:-0500
TZNAME:EST
DTSTART:20231105T060000
END:STANDARD
BEGIN:DAYLIGHT
TZOFFSETFROM:-0500
TZOFFSETTO:-0400
TZNAME:EDT
DTSTART:20240310T070000
END:DAYLIGHT
BEGIN:STANDARD
TZOFFSETFROM:-0400
TZOFFSETTO:-0500
TZNAME:EST
DTSTART:20241103T060000
END:STANDARD
BEGIN:DAYLIGHT
TZOFFSETFROM:-0500
TZOFFSETTO:-0400
TZNAME:EDT
DTSTART:20250309T070000
END:DAYLIGHT
BEGIN:STANDARD
TZOFFSETFROM:-0400
TZOFFSETTO:-0500
TZNAME:EST
DTSTART:20251102T060000
END:STANDARD
END:VTIMEZONE
BEGIN:VEVENT
DTSTART;TZID=America/New_York:20240804T060000
DTEND;TZID=America/New_York:20240804T120000
DTSTAMP:20260423T173319
CREATED:20240630T151457Z
LAST-MODIFIED:20241121T155707Z
UID:1178-1722751200-1722772800@hikinghoundadventures.com
SUMMARY:Half-Day Fishing Trip
DESCRIPTION:Join Hiking Hound Adventures\, LLC and licensed PA fishing guide\, Andy\, and float the Susquehanna River. Enjoy this incredible river as we target smallmouth bass. \n  \nUp to 3 people. Boats and tackle included. \n  \nPennsylvania fishing license required and is not included in the price. Purchase a fishing license here.
URL:https://hikinghoundadventures.com/event/half-day-fishing-trip-3/
LOCATION:Susquehanna River\, 32 Ferry Ln\, Liverpool\, PA\, 19070\, United States
CATEGORIES:Paddle
ORGANIZER;CN="Hiking Hound Adventures%2C LLC":MAILTO:info@hikinghoundadventures.com
END:VEVENT
BEGIN:VEVENT
DTSTART;TZID=America/New_York:20240803T110000
DTEND;TZID=America/New_York:20240803T130000
DTSTAMP:20260423T173319
CREATED:20240630T152144Z
LAST-MODIFIED:20241127T214924Z
UID:1180-1722682800-1722690000@hikinghoundadventures.com
SUMMARY:SUP Float
DESCRIPTION:Have you ever wanted to try standup paddle boarding? All skill levels welcome and we will help you get your sea legs. Float with us on the Susquehanna River and experience what it has to offer. SUPs available for rent on a first come\, first served basis. \n*Participants under 18 must be registered and accompanied by a registered adult.
URL:https://hikinghoundadventures.com/event/evening-sup-float-2/
LOCATION:Susquehanna River\, 32 Ferry Ln\, Liverpool\, PA\, 19070\, United States
CATEGORIES:Paddle
ORGANIZER;CN="Hiking Hound Adventures%2C LLC":MAILTO:info@hikinghoundadventures.com
END:VEVENT
BEGIN:VEVENT
DTSTART;TZID=America/New_York:20240801T193000
DTEND;TZID=America/New_York:20240801T210000
DTSTAMP:20260423T173319
CREATED:20240715T145645Z
LAST-MODIFIED:20241121T192255Z
UID:1280-1722540600-1722546000@hikinghoundadventures.com
SUMMARY:Sunset SUP Float
DESCRIPTION:Join us for a relaxing float and paddle on Darby Creek in and around the John Heinz National Wildlife Refuge. Enjoy the water and watch for the numerous species of birds within the refuge. Have you ever wanted to try standup paddle boarding? All skill levels welcome and we will help you get your sea legs. . SUPs available for rent on a first come\, first served basis. \n*Participants under 18 must be registered and accompanied by a registered adult.
URL:https://hikinghoundadventures.com/event/sunset-sup-float/
LOCATION:Montgomery Park- Darby Creek\, Taylor Dr\, Folcroft\, PA\, 19032\, United States
CATEGORIES:Paddle
ORGANIZER;CN="Hiking Hound Adventures%2C LLC":MAILTO:info@hikinghoundadventures.com
END:VEVENT
BEGIN:VEVENT
DTSTART;TZID=America/New_York:20240727T110000
DTEND;TZID=America/New_York:20240727T130000
DTSTAMP:20260423T173319
CREATED:20240715T143844Z
LAST-MODIFIED:20241121T192820Z
UID:1275-1722078000-1722085200@hikinghoundadventures.com
SUMMARY:SUP Float
DESCRIPTION:Join us for a relaxing float and paddle on Brandywine Creek. Have you ever wanted to try standup paddle boarding? All skill levels welcome and we will help you get your sea legs. . SUPs available for rent on a first come\, first served basis. \n*Participants under 18 must be registered and accompanied by a registered adult.
URL:https://hikinghoundadventures.com/event/sup-float/
LOCATION:Natural Lands’ Stroud Preserve\, 454 N Creek Rd\, West Chester\, PA\, 19382\, United States
CATEGORIES:Paddle
ORGANIZER;CN="Hiking Hound Adventures%2C LLC":MAILTO:info@hikinghoundadventures.com
END:VEVENT
BEGIN:VEVENT
DTSTART;TZID=America/New_York:20240726T183000
DTEND;TZID=America/New_York:20240726T200000
DTSTAMP:20260423T173319
CREATED:20240715T143208Z
LAST-MODIFIED:20241121T151229Z
UID:1273-1722018600-1722024000@hikinghoundadventures.com
SUMMARY:Evening SUP Float
DESCRIPTION:Join us for a relaxing float and paddle on Darby Creek in and around the John Heinz National Wildlife Refuge. Enjoy the water and watch for the numerous species of birds within the refuge. Have you ever wanted to try standup paddle boarding? All skill levels welcome and we will help you get your sea legs. . SUPs available for rent on a first come\, first served basis. \n*Participants under 18 must be registered and accompanied by a registered adult.
URL:https://hikinghoundadventures.com/event/evening-sup-float-4/
LOCATION:Montgomery Park- Darby Creek\, Taylor Dr\, Folcroft\, PA\, 19032\, United States
CATEGORIES:Paddle
ORGANIZER;CN="Hiking Hound Adventures%2C LLC":MAILTO:info@hikinghoundadventures.com
END:VEVENT
BEGIN:VEVENT
DTSTART;TZID=America/New_York:20240725T183000
DTEND;TZID=America/New_York:20240725T200000
DTSTAMP:20260423T173319
CREATED:20240715T142950Z
LAST-MODIFIED:20241121T192228Z
UID:1271-1721932200-1721937600@hikinghoundadventures.com
SUMMARY:Evening SUP Float
DESCRIPTION:Join us for a relaxing float and paddle on Darby Creek in and around the John Heinz National Wildlife Refuge. Enjoy the water and watch for the numerous species of birds within the refuge. Have you ever wanted to try standup paddle boarding? All skill levels welcome and we will help you get your sea legs. . SUPs available for rent on a first come\, first served basis. \n*Participants under 18 must be registered and accompanied by a registered adult.
URL:https://hikinghoundadventures.com/event/evening-sup-float-3/
LOCATION:Montgomery Park- Darby Creek\, Taylor Dr\, Folcroft\, PA\, 19032\, United States
CATEGORIES:Paddle
ORGANIZER;CN="Hiking Hound Adventures%2C LLC":MAILTO:info@hikinghoundadventures.com
END:VEVENT
BEGIN:VEVENT
DTSTART;TZID=America/New_York:20240712T190000
DTEND;TZID=America/New_York:20240712T203000
DTSTAMP:20260423T173319
CREATED:20240628T003852Z
LAST-MODIFIED:20241121T151124Z
UID:1138-1720810800-1720816200@hikinghoundadventures.com
SUMMARY:Evening SUP Float
DESCRIPTION:Join us for a relaxing float and paddle on Darby Creek in and around the John Heinz National Wildlife Refuge. Enjoy the water and watch for the numerous species of birds within the refuge. Have you ever wanted to try standup paddle boarding? All skill levels welcome and we will help you get your sea legs. . SUPs available for rent on a first come\, first served basis. \n*Participants under 18 must be registered and accompanied by a registered adult.
URL:https://hikinghoundadventures.com/event/evening-sup-float/
LOCATION:Montgomery Park- Darby Creek\, Taylor Dr\, Folcroft\, PA\, 19032\, United States
CATEGORIES:Paddle
ORGANIZER;CN="Hiking Hound Adventures%2C LLC":MAILTO:info@hikinghoundadventures.com
END:VEVENT
BEGIN:VEVENT
DTSTART;TZID=America/New_York:20240707T060000
DTEND;TZID=America/New_York:20240707T120000
DTSTAMP:20260423T173319
CREATED:20240630T150824Z
LAST-MODIFIED:20240827T023324Z
UID:1175-1720332000-1720353600@hikinghoundadventures.com
SUMMARY:Half-Day Fishing Trip
DESCRIPTION:Join Hiking Hound Adventures\, LLC and licensed PA fishing guide\, Andy\, and float the Susquehanna River. Enjoy this incredible river as we target smallmouth bass. \n  \nUp to 3 people. Boats and tackle included. \n  \nPennsylvania fishing license required and is not included in the price. Purchase a fishing license here.
URL:https://hikinghoundadventures.com/event/half-day-fishing-trip-2/
LOCATION:Susquehanna River\, 32 Ferry Ln\, Liverpool\, PA\, 19070\, United States
CATEGORIES:Paddle
ORGANIZER;CN="Hiking Hound Adventures%2C LLC":MAILTO:info@hikinghoundadventures.com
END:VEVENT
BEGIN:VEVENT
DTSTART;TZID=America/New_York:20240706T060000
DTEND;TZID=America/New_York:20240706T120000
DTSTAMP:20260423T173319
CREATED:20240628T004313Z
LAST-MODIFIED:20241121T155633Z
UID:1141-1720245600-1720267200@hikinghoundadventures.com
SUMMARY:Half-Day Fishing Trip
DESCRIPTION:Join Hiking Hound Adventures\, LLC and licensed PA fishing guide\, Andy\, and float the Susquehanna River. Enjoy this incredible river as we target smallmouth bass. \n  \nUp to 3 people. Boats and tackle included. \n  \nPennsylvania fishing license required and is not included in the price. Purchase a fishing license here.
URL:https://hikinghoundadventures.com/event/half-day-fishing-trip/
LOCATION:Susquehanna River\, 32 Ferry Ln\, Liverpool\, PA\, 19070\, United States
CATEGORIES:Paddle
ORGANIZER;CN="Hiking Hound Adventures%2C LLC":MAILTO:info@hikinghoundadventures.com
END:VEVENT
END:VCALENDAR