BEGIN:VCALENDAR
VERSION:2.0
PRODID:-//Hiking Hound Adventures, LLC - ECPv6.15.20//NONSGML v1.0//EN
CALSCALE:GREGORIAN
METHOD:PUBLISH
X-WR-CALNAME:Hiking Hound Adventures, LLC
X-ORIGINAL-URL:https://hikinghoundadventures.com
X-WR-CALDESC:Events for Hiking Hound Adventures, LLC
REFRESH-INTERVAL;VALUE=DURATION:PT1H
X-Robots-Tag:noindex
X-PUBLISHED-TTL:PT1H
BEGIN:VTIMEZONE
TZID:America/New_York
BEGIN:DAYLIGHT
TZOFFSETFROM:-0500
TZOFFSETTO:-0400
TZNAME:EDT
DTSTART:20250309T070000
END:DAYLIGHT
BEGIN:STANDARD
TZOFFSETFROM:-0400
TZOFFSETTO:-0500
TZNAME:EST
DTSTART:20251102T060000
END:STANDARD
BEGIN:DAYLIGHT
TZOFFSETFROM:-0500
TZOFFSETTO:-0400
TZNAME:EDT
DTSTART:20260308T070000
END:DAYLIGHT
BEGIN:STANDARD
TZOFFSETFROM:-0400
TZOFFSETTO:-0500
TZNAME:EST
DTSTART:20261101T060000
END:STANDARD
BEGIN:DAYLIGHT
TZOFFSETFROM:-0500
TZOFFSETTO:-0400
TZNAME:EDT
DTSTART:20270314T070000
END:DAYLIGHT
BEGIN:STANDARD
TZOFFSETFROM:-0400
TZOFFSETTO:-0500
TZNAME:EST
DTSTART:20271107T060000
END:STANDARD
END:VTIMEZONE
BEGIN:VEVENT
DTSTART;TZID=America/New_York:20260820T190000
DTEND;TZID=America/New_York:20260820T190000
DTSTAMP:20260423T173817
CREATED:20260117T213829Z
LAST-MODIFIED:20260117T213829Z
UID:5771-1787252400-1787252400@hikinghoundadventures.com
SUMMARY:SUP Yoga- Schuylkill River
DESCRIPTION:
URL:https://hikinghoundadventures.com/event/sup-yoga-schuylkill-river-28/
CATEGORIES:Paddle,Yoga
END:VEVENT
BEGIN:VEVENT
DTSTART;TZID=America/New_York:20260826T190000
DTEND;TZID=America/New_York:20260826T190000
DTSTAMP:20260423T173817
CREATED:20260117T214029Z
LAST-MODIFIED:20260117T214029Z
UID:5772-1787770800-1787770800@hikinghoundadventures.com
SUMMARY:SUP Yoga- Schuylkill River
DESCRIPTION:
URL:https://hikinghoundadventures.com/event/sup-yoga-schuylkill-river-29/
CATEGORIES:Paddle,Yoga
END:VEVENT
END:VCALENDAR