BEGIN:VCALENDAR
VERSION:2.0
PRODID:-//Hiking Hound Adventures, LLC - ECPv6.15.20//NONSGML v1.0//EN
CALSCALE:GREGORIAN
METHOD:PUBLISH
X-WR-CALNAME:Hiking Hound Adventures, LLC
X-ORIGINAL-URL:https://hikinghoundadventures.com
X-WR-CALDESC:Events for Hiking Hound Adventures, LLC
REFRESH-INTERVAL;VALUE=DURATION:PT1H
X-Robots-Tag:noindex
X-PUBLISHED-TTL:PT1H
BEGIN:VTIMEZONE
TZID:America/New_York
BEGIN:DAYLIGHT
TZOFFSETFROM:-0500
TZOFFSETTO:-0400
TZNAME:EDT
DTSTART:20250309T070000
END:DAYLIGHT
BEGIN:STANDARD
TZOFFSETFROM:-0400
TZOFFSETTO:-0500
TZNAME:EST
DTSTART:20251102T060000
END:STANDARD
BEGIN:DAYLIGHT
TZOFFSETFROM:-0500
TZOFFSETTO:-0400
TZNAME:EDT
DTSTART:20260308T070000
END:DAYLIGHT
BEGIN:STANDARD
TZOFFSETFROM:-0400
TZOFFSETTO:-0500
TZNAME:EST
DTSTART:20261101T060000
END:STANDARD
BEGIN:DAYLIGHT
TZOFFSETFROM:-0500
TZOFFSETTO:-0400
TZNAME:EDT
DTSTART:20270314T070000
END:DAYLIGHT
BEGIN:STANDARD
TZOFFSETFROM:-0400
TZOFFSETTO:-0500
TZNAME:EST
DTSTART:20271107T060000
END:STANDARD
END:VTIMEZONE
BEGIN:VEVENT
DTSTART;TZID=America/New_York:20260504T090000
DTEND;TZID=America/New_York:20260504T090000
DTSTAMP:20260423T133437
CREATED:20251118T164953Z
LAST-MODIFIED:20251118T164953Z
UID:5181-1777885200-1777885200@hikinghoundadventures.com
SUMMARY:Wilderness First Aid- 2 Day Canoe Based
DESCRIPTION:
URL:https://hikinghoundadventures.com/event/wilderness-first-aid-2-day-canoe-based/
CATEGORIES:paddling trips,WFA
END:VEVENT
BEGIN:VEVENT
DTSTART;TZID=America/New_York:20260505T090000
DTEND;TZID=America/New_York:20260505T090000
DTSTAMP:20260423T133437
CREATED:20251118T164953Z
LAST-MODIFIED:20251118T164953Z
UID:5182-1777971600-1777971600@hikinghoundadventures.com
SUMMARY:Wilderness First Aid- 2 Day Canoe Based
DESCRIPTION:
URL:https://hikinghoundadventures.com/event/wilderness-first-aid-2-day-canoe-based-2/
CATEGORIES:paddling trips,WFA
END:VEVENT
END:VCALENDAR