BEGIN:VCALENDAR
VERSION:2.0
PRODID:-//Hiking Hound Adventures, LLC - ECPv6.15.20//NONSGML v1.0//EN
CALSCALE:GREGORIAN
METHOD:PUBLISH
X-ORIGINAL-URL:https://hikinghoundadventures.com
X-WR-CALDESC:Events for Hiking Hound Adventures, LLC
REFRESH-INTERVAL;VALUE=DURATION:PT1H
X-Robots-Tag:noindex
X-PUBLISHED-TTL:PT1H
BEGIN:VTIMEZONE
TZID:America/New_York
BEGIN:DAYLIGHT
TZOFFSETFROM:-0500
TZOFFSETTO:-0400
TZNAME:EDT
DTSTART:20240310T070000
END:DAYLIGHT
BEGIN:STANDARD
TZOFFSETFROM:-0400
TZOFFSETTO:-0500
TZNAME:EST
DTSTART:20241103T060000
END:STANDARD
BEGIN:DAYLIGHT
TZOFFSETFROM:-0500
TZOFFSETTO:-0400
TZNAME:EDT
DTSTART:20250309T070000
END:DAYLIGHT
BEGIN:STANDARD
TZOFFSETFROM:-0400
TZOFFSETTO:-0500
TZNAME:EST
DTSTART:20251102T060000
END:STANDARD
BEGIN:DAYLIGHT
TZOFFSETFROM:-0500
TZOFFSETTO:-0400
TZNAME:EDT
DTSTART:20260308T070000
END:DAYLIGHT
BEGIN:STANDARD
TZOFFSETFROM:-0400
TZOFFSETTO:-0500
TZNAME:EST
DTSTART:20261101T060000
END:STANDARD
END:VTIMEZONE
BEGIN:VEVENT
DTSTART;TZID=America/New_York:20250308T140000
DTEND;TZID=America/New_York:20250308T150000
DTSTAMP:20260424T081204
CREATED:20250225T195643Z
LAST-MODIFIED:20250225T195643Z
UID:3012-1741442400-1741446000@hikinghoundadventures.com
SUMMARY:Outdoor Essentials at the Media-UP Free Library
DESCRIPTION:Outdoor Essentials \nHIKE SMARTER\, TREAD LIGHTER \nJoin Hiking Hound Adventures\, LLC as they review the basics of enjoying the outdoors safely and responsibly in this one-hour session. They’ll cover key Leave No Trace principles\, including how to minimize your impact on nature\, and discuss essential skills for safe and sustainable outdoor adventures. Perfect for beginner hikers and nature enthusiasts alike! \n\n\nDate:\nSaturday\, March 8\, 2025\nTime:\n2:00pm – 3:00pm\nLocation:\nCommunity Large Meeting\nMedia-Upper Providence Free Library\nAudience:\n  All Ages \nCategories:\n  Travel 
URL:https://hikinghoundadventures.com/event/outdoor-essentials-at-the-media-up-free-library/
LOCATION:Media- Upper Providence Free Library\, 1 E Front St\, Media\, PA\, 19063\, United States
CATEGORIES:Course,Partnership Event
END:VEVENT
BEGIN:VEVENT
DTSTART;TZID=America/New_York:20250309T110000
DTEND;TZID=America/New_York:20250309T120000
DTSTAMP:20260424T081204
CREATED:20250117T045208Z
LAST-MODIFIED:20250307T204750Z
UID:2693-1741518000-1741521600@hikinghoundadventures.com
SUMMARY:Little Tykes go on Hikes w/ Upper Providence Township
DESCRIPTION:Hiking with kids can be an intimidating topic. During this 45 minute course\, Hiking Hound Adventures\, LLC will be on the trail with little ones and their guardians to tackle some of the most asked questions surrounding taking kids into the woods. Through fun games and hands-on activities\, we cover safety\, choosing the right trail\, packing considerations\, and much more!  \nMain Topics: \n\nSafety\nPacking\nFun on-trail games and activities\nLeave No Trace\n\n***Recommended age is  3-12 years old\, but all ages are welcome- Price is per child. Children must be accompanied by an adult. Children under 3 years old are free when accompanying another registered child***
URL:https://hikinghoundadventures.com/event/little-tykes-go-on-hikes-w-upper-providence-township/
LOCATION:Louis Scott Memorial Park\, 998 Ridley Creek Road\, Media\, PA\, 19063\, United States
CATEGORIES:Hike,Partnership Event
END:VEVENT
BEGIN:VEVENT
DTSTART;TZID=America/New_York:20250322T120000
DTEND;TZID=America/New_York:20250322T130000
DTSTAMP:20260424T081204
CREATED:20241203T175754Z
LAST-MODIFIED:20250127T190200Z
UID:2338-1742644800-1742648400@hikinghoundadventures.com
SUMMARY:Little Tykes go on Hikes! w/ Lower Makefield Township
DESCRIPTION:Hiking with kids can be an intimidating topic. During this 45 minute course\, Hiking Hound Adventures\, LLC will be on the trail with little ones and their guardians to tackle some of the most asked questions surrounding taking kids into the woods. Through fun games and hands-on activities\, we cover safety\, choosing the right trail\, packing considerations\, and much more!  \nMain Topics: \n\nSafety- each child will get a safety whistle to keep\nPacking\nFun on-trail games and activities\nLeave No Trace\n\n***Recommended age is  3-12 years old\, but all ages are welcome- Price is per child. Children must be accompanied by an adult. Children under 3 years old are free when accompanying another registered child***
URL:https://hikinghoundadventures.com/event/little-tykes-go-on-hikes-w-lower-makefield-township-2/
LOCATION:Five Mile Woods\, 1305 Big Oak Rd\, Yardley\, PA\, 19067
CATEGORIES:Hike,Partnership Event
END:VEVENT
BEGIN:VEVENT
DTSTART;TZID=America/New_York:20250330T130000
DTEND;TZID=America/New_York:20250330T143000
DTSTAMP:20260424T081204
CREATED:20250117T045456Z
LAST-MODIFIED:20250307T204934Z
UID:2695-1743339600-1743345000@hikinghoundadventures.com
SUMMARY:Wilderness Navigation w/ Upper Providence Township
DESCRIPTION:Learn the basics of topographic maps and compass navigation in this 90-minute class. The session includes both classroom instruction and hands-on field practice to build confidence in navigating the outdoors.\nAges: 12+ (under 18 must registered and be accompanied by a registered adult)\nDates: 3/30/25- 1pm | 5/17/25- 5pm | 7/12/25- 6pm | 9/16/25- 5pm
URL:https://hikinghoundadventures.com/event/wilderness-navigation-w-upper-providence-township/
LOCATION:Louis Scott Memorial Park\, 998 Ridley Creek Road\, Media\, PA\, 19063\, United States
CATEGORIES:Course,Partnership Event
END:VEVENT
END:VCALENDAR