BEGIN:VCALENDAR
VERSION:2.0
PRODID:-//Hiking Hound Adventures, LLC - ECPv6.15.20//NONSGML v1.0//EN
CALSCALE:GREGORIAN
METHOD:PUBLISH
X-WR-CALNAME:Hiking Hound Adventures, LLC
X-ORIGINAL-URL:https://hikinghoundadventures.com
X-WR-CALDESC:Events for Hiking Hound Adventures, LLC
REFRESH-INTERVAL;VALUE=DURATION:PT1H
X-Robots-Tag:noindex
X-PUBLISHED-TTL:PT1H
BEGIN:VTIMEZONE
TZID:America/New_York
BEGIN:DAYLIGHT
TZOFFSETFROM:-0500
TZOFFSETTO:-0400
TZNAME:EDT
DTSTART:20230312T070000
END:DAYLIGHT
BEGIN:STANDARD
TZOFFSETFROM:-0400
TZOFFSETTO:-0500
TZNAME:EST
DTSTART:20231105T060000
END:STANDARD
BEGIN:DAYLIGHT
TZOFFSETFROM:-0500
TZOFFSETTO:-0400
TZNAME:EDT
DTSTART:20240310T070000
END:DAYLIGHT
BEGIN:STANDARD
TZOFFSETFROM:-0400
TZOFFSETTO:-0500
TZNAME:EST
DTSTART:20241103T060000
END:STANDARD
BEGIN:DAYLIGHT
TZOFFSETFROM:-0500
TZOFFSETTO:-0400
TZNAME:EDT
DTSTART:20250309T070000
END:DAYLIGHT
BEGIN:STANDARD
TZOFFSETFROM:-0400
TZOFFSETTO:-0500
TZNAME:EST
DTSTART:20251102T060000
END:STANDARD
BEGIN:DAYLIGHT
TZOFFSETFROM:-0500
TZOFFSETTO:-0400
TZNAME:EDT
DTSTART:20260308T070000
END:DAYLIGHT
BEGIN:STANDARD
TZOFFSETFROM:-0400
TZOFFSETTO:-0500
TZNAME:EST
DTSTART:20261101T060000
END:STANDARD
END:VTIMEZONE
BEGIN:VTIMEZONE
TZID:UTC
BEGIN:STANDARD
TZOFFSETFROM:+0000
TZOFFSETTO:+0000
TZNAME:UTC
DTSTART:20230101T000000
END:STANDARD
END:VTIMEZONE
BEGIN:VEVENT
DTSTART;TZID=America/New_York:20250206T190000
DTEND;TZID=America/New_York:20250206T200000
DTSTAMP:20260423T185940
CREATED:20241203T172308Z
LAST-MODIFIED:20241203T181658Z
UID:2318-1738868400-1738872000@hikinghoundadventures.com
SUMMARY:Introduction to Backpacking w/ Radnor Parks & Rec.
DESCRIPTION:Free Class in Partnership with Radnor Township Parks and Recreation!\nReady to turn your hiking dreams into real adventures? Join us at Hiking Hound Adventures\, LLC for an Introduction to Backpacking class that’s fun\, informative\, and perfect for outdoor lovers of all ages! Whether you’re looking to dip your toes into the world of backpacking or you just need a refresher on how to plan your next big trip\, this class has you covered. Our relaxed\, lecture-style format will walk you through everything from choosing the right gear to planning a safe\, enjoyable\, and sustainable backpacking experience. \nBackpacking is all about getting out into nature and enjoying the wilderness—but to do it right\, a little preparation goes a long way. In this class\, we’ll cover how to plan your trip from start to finish. We’ll dive into gear essentials (and how to pack it all efficiently!)\, meal planning (because the right food makes all the difference!)\, and the critical topic of Leave No Trace principles\, so you can adventure responsibly while preserving the beautiful environments we love. \nPlanning a backpacking trip can be intimidating\, but we break it down step by step. You’ll learn how to map out a trail that fits your skills and your timeframe\, and how to decide what’s essential to bring (and what you can leave behind). You’ll also get practical tips on preparing for weather changes\, how to stay warm and dry\, and how to keep your spirits high while out on the trail. \nBy the end of the class\, you’ll feel ready to confidently plan and embark on your own backpacking adventure\, knowing that you have the skills\, knowledge\, and sustainable mindset to make it an unforgettable—and responsible—experience. \nClass Highlights: \n\nStep-by-step guidance on trip planning: route selection\, gear\, and prep\nHow to pack smart for a multi-day trip (including the right food\, tools\, and clothing)\nTips for maintaining safety\, comfort\, and morale while backpacking\nLearn the Leave No Trace principles to preserve nature for future adventurers\nMeet other passionate hikers and share tips for your next adventure\n\nNo experience? No problem! This class is designed for everyone\, from first-timers to seasoned outdoorspeople who just need a little help fine-tuning their planning process. \nCome along and let’s get you ready for your next backpacking journey. We’ll help you plan\, pack\, and embark with confidence\, all while having a blast along the way!
URL:https://hikinghoundadventures.com/event/introduction-to-backpacking-w-radnor-parks-rec-2/
LOCATION:Radnor Township Municipal Building\, 301 Iven Ave\, Radnor\, PA\, 19087
CATEGORIES:Course,Partnership Event
ORGANIZER;CN="Radnor Township Parks and Recreation":MAILTO:recreation@radnor.org
END:VEVENT
BEGIN:VEVENT
DTSTART;TZID=America/New_York:20250107T190000
DTEND;TZID=America/New_York:20250107T193000
DTSTAMP:20260423T185940
CREATED:20241228T215239Z
LAST-MODIFIED:20241228T215239Z
UID:2541-1736276400-1736278200@hikinghoundadventures.com
SUMMARY:Virtual Winter Hiking Class w/ West Chester Parks and Rec
DESCRIPTION:Free Class in Partnership with West Chester Parks and Recreation!\nJoin the Free Virtual Winter Hiking Class Hosted by Hiking Hound Adventures\, LLC and Presented by West Chester Parks and Recreation \nGet ready to embrace winter hiking with our Virtual Winter Hiking Class\, hosted by Hiking Hound Adventures\, LLC and presented by West Chester Parks and Recreation. This free online class is perfect for anyone interested in exploring the outdoors during the colder months. Whether you’re a seasoned hiker or a beginner\, you’ll gain valuable skills and insights to confidently tackle winter trails. \nIn this interactive virtual session\, you’ll learn: \n\nEssential Winter Hiking Gear: What to wear and bring\, including layers\, specialized footwear\, and accessories to keep you warm and dry.\nWinter Hiking Safety Tips: Best practices for staying safe on snow and ice\, understanding weather conditions\, and preparing for emergency situations.\nTechniques for Hiking in Winter Conditions: How to navigate icy or snowy trails with confidence\, improve your footing\, and stay comfortable in cold weather.\nScenic Winter Trails: Discover some of the best local hiking spots along with recommendations for beautiful winter hiking routes.\n\nWhether you’re new to hiking or a seasoned outdoor enthusiast\, this class will help you make the most of the winter season. Our goal is to equip you with the knowledge and confidence to enjoy safe\, fun\, and fulfilling winter hikes. \nThe Virtual Winter Hiking Class is available online\, so you can participate from anywhere and learn at your own pace. Don’t miss out on this great opportunity to enhance your winter hiking skills and connect with nature in a whole new way! \nSign up today for this free class\, hosted by Hiking Hound Adventures\, LLC and presented by West Chester Parks and Recreation.
URL:https://hikinghoundadventures.com/event/virtual-winter-hiking-class-w-west-chester-parks-and-rec/
LOCATION:Virtual
CATEGORIES:Course,Partnership Event
ORGANIZER;CN="Hiking Hound Adventures%2C LLC":MAILTO:info@hikinghoundadventures.com
END:VEVENT
BEGIN:VEVENT
DTSTART;TZID=America/New_York:20241116T150000
DTEND;TZID=America/New_York:20241116T160000
DTSTAMP:20260423T185940
CREATED:20240823T154058Z
LAST-MODIFIED:20240823T154058Z
UID:1551-1731769200-1731772800@hikinghoundadventures.com
SUMMARY:Little Tykes Go on Hikes: An Introduction to Hiking with Kids + Puzzle Pursuit: A Geocache Quest
DESCRIPTION:Radnor Township Parks & Recreation is excited to partner with Hiking Hound Adventures\, LLC to present Little Tykes go on Hikes a local\, outdoor\, family-friendly activity to do with kids! During this 45-minute course\, Hiking Hound Adventures\, LLC will be on the trail with little ones and their guardians to tackle some of the most asked questions surrounding taking kids into the woods. Through fun games and hands-on activities\, we’ll cover safety (each child will get a safety whistle)\, choosing the right trail\, packing considerations\, leave no trace\, and more\, all while enjoying the trails and nature between the Willows Park and Skunk Hollow Trails. \nAugust 28th 6:00-7:00 – Treats on the Trail: An Ice Cream Adventure \nSeptember 5th 6:00-7:00 – Trailblazers Treasure Hunt \nSeptember 15th 4:00-5:00 – Wander and Wade: A Creekside Expedition \nOctober 6th 4:00-5:00 – Tales on the Trail: A Storybook Journey \nOctober 22nd 5:45-6:45 – Trick or Treat Trek \nNovember 3rd 1:00-2:00 – Nature BINGO! Hike \nNovember 16th 3:00-4:00 – Puzzle Pursuit: A Geocache Quest
URL:https://hikinghoundadventures.com/event/little-tykes-go-on-hikes-an-introduction-to-hiking-with-kids-puzzle-pursuit-a-geocache-quest/
LOCATION:The Willows Park\, 490 Darby Paoli Road\, Villanova\, PA\, 19085\, United States
CATEGORIES:Hike,Partnership Event
ORGANIZER;CN="Radnor Township Parks and Recreation":MAILTO:recreation@radnor.org
END:VEVENT
BEGIN:VEVENT
DTSTART;TZID=America/New_York:20241103T130000
DTEND;TZID=America/New_York:20241103T140000
DTSTAMP:20260423T185940
CREATED:20240823T153639Z
LAST-MODIFIED:20240823T153639Z
UID:1549-1730638800-1730642400@hikinghoundadventures.com
SUMMARY:Little Tykes Go on Hikes: An Introduction to Hiking with Kids + Nature BINGO! Hike
DESCRIPTION:Radnor Township Parks & Recreation is excited to partner with Hiking Hound Adventures\, LLC to present Little Tykes go on Hikes a local\, outdoor\, family-friendly activity to do with kids! During this 45-minute course\, Hiking Hound Adventures\, LLC will be on the trail with little ones and their guardians to tackle some of the most asked questions surrounding taking kids into the woods. Through fun games and hands-on activities\, we’ll cover safety (each child will get a safety whistle)\, choosing the right trail\, packing considerations\, leave no trace\, and more\, all while enjoying the trails and nature between the Willows Park and Skunk Hollow Trails. \nAugust 28th 6:00-7:00 – Treats on the Trail: An Ice Cream Adventure \nSeptember 5th 6:00-7:00 – Trailblazers Treasure Hunt \nSeptember 15th 4:00-5:00 – Wander and Wade: A Creekside Expedition \nOctober 6th 4:00-5:00 – Tales on the Trail: A Storybook Journey \nOctober 22nd 5:45-6:45 – Trick or Treat Trek \nNovember 3rd 1:00-2:00 – Nature BINGO! Hike \nNovember 16th 3:00-4:00 – Puzzle Pursuit: A Geocache Quest
URL:https://hikinghoundadventures.com/event/little-tykes-go-on-hikes-an-introduction-to-hiking-with-kids-nature-bingo-hike/
LOCATION:The Willows Park\, 490 Darby Paoli Road\, Villanova\, PA\, 19085\, United States
CATEGORIES:Hike,Partnership Event
ORGANIZER;CN="Radnor Township Parks and Recreation":MAILTO:recreation@radnor.org
END:VEVENT
BEGIN:VEVENT
DTSTART;TZID=America/New_York:20241022T173000
DTEND;TZID=America/New_York:20241022T183000
DTSTAMP:20260423T185940
CREATED:20240823T153425Z
LAST-MODIFIED:20240823T153425Z
UID:1546-1729618200-1729621800@hikinghoundadventures.com
SUMMARY:Little Tykes Go on Hikes: An Introduction to Hiking with Kids + Trick or Treat Trek
DESCRIPTION:Radnor Township Parks & Recreation is excited to partner with Hiking Hound Adventures\, LLC to present Little Tykes go on Hikes a local\, outdoor\, family-friendly activity to do with kids! During this 45-minute course\, Hiking Hound Adventures\, LLC will be on the trail with little ones and their guardians to tackle some of the most asked questions surrounding taking kids into the woods. Through fun games and hands-on activities\, we’ll cover safety (each child will get a safety whistle)\, choosing the right trail\, packing considerations\, leave no trace\, and more\, all while enjoying the trails and nature between the Willows Park and Skunk Hollow Trails. \nAugust 28th 6:00-7:00 – Treats on the Trail: An Ice Cream Adventure \nSeptember 5th 6:00-7:00 – Trailblazers Treasure Hunt \nSeptember 15th 4:00-5:00 – Wander and Wade: A Creekside Expedition \nOctober 6th 4:00-5:00 – Tales on the Trail: A Storybook Journey \nOctober 22nd 5:45-6:45 – Trick or Treat Trek \nNovember 3rd 1:00-2:00 – Nature BINGO! Hike \nNovember 16th 3:00-4:00 – Puzzle Pursuit: A Geocache Quest
URL:https://hikinghoundadventures.com/event/little-tykes-go-on-hikes-an-introduction-to-hiking-with-kids-trick-or-treat-trek/
LOCATION:The Willows Park\, 490 Darby Paoli Road\, Villanova\, PA\, 19085\, United States
CATEGORIES:Hike,Partnership Event
ORGANIZER;CN="Radnor Township Parks and Recreation":MAILTO:recreation@radnor.org
END:VEVENT
BEGIN:VEVENT
DTSTART;TZID=America/New_York:20241006T160000
DTEND;TZID=America/New_York:20241006T170000
DTSTAMP:20260423T185940
CREATED:20240823T154628Z
LAST-MODIFIED:20240823T154628Z
UID:1553-1728230400-1728234000@hikinghoundadventures.com
SUMMARY:Little Tykes Go on Hikes: An Introduction to Hiking with Kids + Tales on the Trail: A Storybook Journey
DESCRIPTION:Radnor Township Parks & Recreation is excited to partner with Hiking Hound Adventures\, LLC to present Little Tykes go on Hikes a local\, outdoor\, family-friendly activity to do with kids! During this 45-minute course\, Hiking Hound Adventures\, LLC will be on the trail with little ones and their guardians to tackle some of the most asked questions surrounding taking kids into the woods. Through fun games and hands-on activities\, we’ll cover safety (each child will get a safety whistle)\, choosing the right trail\, packing considerations\, leave no trace\, and more\, all while enjoying the trails and nature between the Willows Park and Skunk Hollow Trails. \nAugust 28th 6:00-7:00 – Treats on the Trail: An Ice Cream Adventure \nSeptember 5th 6:00-7:00 – Trailblazers Treasure Hunt \nSeptember 15th 4:00-5:00 – Wander and Wade: A Creekside Expedition \nOctober 6th 4:00-5:00 – Tales on the Trail: A Storybook Journey \nOctober 22nd 5:45-6:45 – Trick or Treat Trek \nNovember 3rd 1:00-2:00 – Nature BINGO! Hike \nNovember 16th 3:00-4:00 – Puzzle Pursuit: A Geocache Quest
URL:https://hikinghoundadventures.com/event/little-tykes-go-on-hikes-an-introduction-to-hiking-with-kids-tales-on-the-trail-a-storybook-journey/
LOCATION:The Willows Park\, 490 Darby Paoli Road\, Villanova\, PA\, 19085\, United States
CATEGORIES:Hike,Partnership Event
ORGANIZER;CN="Radnor Township Parks and Recreation":MAILTO:recreation@radnor.org
END:VEVENT
BEGIN:VEVENT
DTSTART;TZID=America/New_York:20240915T160000
DTEND;TZID=America/New_York:20240915T170000
DTSTAMP:20260423T185940
CREATED:20240823T153010Z
LAST-MODIFIED:20240823T153010Z
UID:1540-1726416000-1726419600@hikinghoundadventures.com
SUMMARY:Little Tykes Go on Hikes: An Introduction to Hiking with Kids + Wander and Wade: A Creekside Expedition
DESCRIPTION:Radnor Township Parks & Recreation is excited to partner with Hiking Hound Adventures\, LLC to present Little Tykes go on Hikes a local\, outdoor\, family-friendly activity to do with kids! During this 45-minute course\, Hiking Hound Adventures\, LLC will be on the trail with little ones and their guardians to tackle some of the most asked questions surrounding taking kids into the woods. Through fun games and hands-on activities\, we’ll cover safety (each child will get a safety whistle)\, choosing the right trail\, packing considerations\, leave no trace\, and more\, all while enjoying the trails and nature between the Willows Park and Skunk Hollow Trails. \nAugust 28th 6:00-7:00 – Treats on the Trail: An Ice Cream Adventure \nSeptember 5th 6:00-7:00 – Trailblazers Treasure Hunt \nSeptember 15th 4:00-5:00 – Wander and Wade: A Creekside Expedition \nOctober 6th 4:00-5:00 – Tales on the Trail: A Storybook Journey \nOctober 22nd 5:45-6:45 – Trick or Treat Trek \nNovember 3rd 1:00-2:00 – Nature BINGO! Hike \nNovember 16th 3:00-4:00 – Puzzle Pursuit: A Geocache Quest
URL:https://hikinghoundadventures.com/event/little-tykes-go-on-hikes-an-introduction-to-hiking-with-kids-wander-and-wade-a-creekside-expedition/
LOCATION:The Willows Park\, 490 Darby Paoli Road\, Villanova\, PA\, 19085\, United States
CATEGORIES:Hike,Partnership Event
ORGANIZER;CN="Radnor Township Parks and Recreation":MAILTO:recreation@radnor.org
END:VEVENT
BEGIN:VEVENT
DTSTART;TZID=America/New_York:20240905T180000
DTEND;TZID=America/New_York:20240905T190000
DTSTAMP:20260423T185940
CREATED:20240823T151832Z
LAST-MODIFIED:20240823T151832Z
UID:1537-1725559200-1725562800@hikinghoundadventures.com
SUMMARY:Little Tykes go on Hikes: An Introduction to Hiking with Kids + Trailblazers Treasure Hunt
DESCRIPTION:Radnor Township Parks & Recreation is excited to partner with Hiking Hound Adventures\, LLC to present Little Tykes go on Hikes a local\, outdoor\, family-friendly activity to do with kids! During this 45-minute course\, Hiking Hound Adventures\, LLC will be on the trail with little ones and their guardians to tackle some of the most asked questions surrounding taking kids into the woods. Through fun games and hands-on activities\, we’ll cover safety (each child will get a safety whistle)\, choosing the right trail\, packing considerations\, leave no trace\, and more\, all while enjoying the trails and nature between the Willows Park and Skunk Hollow Trails. \nAugust 28th 6:00-7:00 – Treats on the Trail: An Ice Cream Adventure \nSeptember 5th 6:00-7:00 – Trailblazers Treasure Hunt \nSeptember 15th 4:00-5:00 – Wander and Wade: A Creekside Expedition \nOctober 6th 4:00-5:00 – Tales on the Trail: A Storybook Journey \nOctober 22nd 5:45-6:45 – Trick or Treat Trek \nNovember 3rd 1:00-2:00 – Nature BINGO! Hike \nNovember 16th 3:00-4:00 – Puzzle Pursuit: A Geocache Quest
URL:https://hikinghoundadventures.com/event/little-tykes-go-on-hikes-an-introduction-to-hiking-with-kids-trailblazers-treasure-hunt/
LOCATION:The Willows Park\, 490 Darby Paoli Road\, Villanova\, PA\, 19085\, United States
CATEGORIES:Hike,Partnership Event
ORGANIZER;CN="Radnor Township Parks and Recreation":MAILTO:recreation@radnor.org
END:VEVENT
BEGIN:VEVENT
DTSTART;TZID=America/New_York:20240812T183000
DTEND;TZID=America/New_York:20240812T193000
DTSTAMP:20260423T185940
CREATED:20240630T145004Z
LAST-MODIFIED:20241121T161945Z
UID:1168-1723487400-1723491000@hikinghoundadventures.com
SUMMARY:Introduction to Backpacking- Springfield Library
DESCRIPTION:Join Hiking Hound Adventures\, LLC as we offer a FREE Introduction to Backpacking Class at the Springfield Township Public Library. \nWanting to take a backpacking trip and your not sure where to begin? We will take you though the steps of planning a trip\, picking gear\, and staying safe on the trail. \nRegistration is done through the Springfield Township Library.
URL:https://hikinghoundadventures.com/event/introduction-to-backpacking-springfield-library/
LOCATION:Springfield Township Library\, 70 Powell Road\, Springfield\, PA\, 19064\, United States
CATEGORIES:Course,Partnership Event
END:VEVENT
BEGIN:VEVENT
DTSTART;TZID=UTC:20240728T170000
DTEND;TZID=UTC:20240728T190000
DTSTAMP:20260423T185940
CREATED:20240531T041910Z
LAST-MODIFIED:20241121T160352Z
UID:918-1722186000-1722193200@hikinghoundadventures.com
SUMMARY:Backpacking Skills: A Hands-On Learning Hike
DESCRIPTION:Looking to develop your backpacking skills without an overnight stay? Join Hiking Hound Adventures\, LLC as we hit the trail for a hands-on course where we learn the essential skills needed to be successful on your next multi-day trip! We will build your skillset and confidence for your backcountry adventures! Group gear will be provided for use during this hands on clinic. Some topics we’ll cover include: \n\nTrail Safety\nWater Filtration\nGear\nStream Crossings\nCampsite Selection and Setup\nFood Storage\nCamp Hygiene\nLeave No Trace\n\n\n\nDate & Time: July 28\, 5:00 to 7:00 PM \nLocation: Skunk Hollow Park & Trails\, 490 Darby Paoli Road\, Villanova\, PA \nParticipants: Youth & Adults ages 12+ minors under the age of 18 must be accompanied by a parent/guardian \n 
URL:https://hikinghoundadventures.com/event/backpacking-skills-a-hands-on-learning-hike/
LOCATION:The Willows Park\, 490 Darby Paoli Road\, Villanova\, PA\, 19085\, United States
CATEGORIES:Course,Partnership Event
ORGANIZER;CN="Radnor Township Parks and Recreation":MAILTO:recreation@radnor.org
END:VEVENT
BEGIN:VEVENT
DTSTART;TZID=America/New_York:20240721T130000
DTEND;TZID=America/New_York:20240721T140000
DTSTAMP:20260423T185940
CREATED:20240531T041015Z
LAST-MODIFIED:20241121T162202Z
UID:916-1721566800-1721570400@hikinghoundadventures.com
SUMMARY:Little Tykes go on Hikes: An Introduction to Hiking with Kids + Ice Cream Hike
DESCRIPTION:Radnor Township Parks & Recreation is excited to partner with Hiking Hound Adventures\, LLC to present Little Tykes go on Hikes! During this 45-minute course\, Hiking Hound Adventures\, LLC will be on the trail with little ones and their guardians to tackle some of the most asked questions surrounding taking kids into the woods. Through fun games and hands-on activities\, we’ll cover safety (each child will get a safety whistle)\, choosing the right trail\, packing considerations\, leave no trace\, and more\, all while enjoying the trails and nature between the Willows Park and Skunk Hollow Trails. \nJune 13\, 5:45-6:30 PM – Nature Bingo \nJune 30\, 4:00-4:45 PM – Treasure Hunt \nJuly 11\, 7:00-7:45 PM – Follow the Leader/Simon Says \nJuly 21\, 1:00-1:45 PM – Ice Cream Hike (National Ice Cream Day!) \nLOCATION Skunk Hollow Park & Trails 490 Darby Paoli Rd\, Villanova \nPARTICIPANTS Children ages 3-8 and their parent/guardian* \nREGISTRATION $20 per Child per Hike Register online at www.radnorrecreation.com \n*Children must be accompanied by a parent/guardian. We ask that there be no more than 2 children to 1 guardian ratio in order to provide a safe and successful program. Each hike is limited to 10 children + their parent/guardian. \nLearn more about Hiking Hound Adventures\, LLC at hikinghoundadventures.com
URL:https://hikinghoundadventures.com/event/little-tykes-go-on-hikes-an-introduction-to-hiking-with-kids-ice-cream-hike/
LOCATION:The Willows Park\, 490 Darby Paoli Road\, Villanova\, PA\, 19085\, United States
CATEGORIES:Community Event,Partnership Event
ORGANIZER;CN="Radnor Township Parks and Recreation":MAILTO:recreation@radnor.org
END:VEVENT
BEGIN:VEVENT
DTSTART;TZID=America/New_York:20240711T190000
DTEND;TZID=America/New_York:20240711T200000
DTSTAMP:20260423T185940
CREATED:20240531T040454Z
LAST-MODIFIED:20241121T162133Z
UID:914-1720724400-1720728000@hikinghoundadventures.com
SUMMARY:Little Tykes go on Hikes: An Introduction to Hiking with Kids + Follow the Leader
DESCRIPTION:Radnor Township Parks & Recreation is excited to partner with Hiking Hound Adventures\, LLC to present Little Tykes go on Hikes! During this 45-minute course\, Hiking Hound Adventures\, LLC will be on the trail with little ones and their guardians to tackle some of the most asked questions surrounding taking kids into the woods. Through fun games and hands-on activities\, we’ll cover safety (each child will get a safety whistle)\, choosing the right trail\, packing considerations\, leave no trace\, and more\, all while enjoying the trails and nature between the Willows Park and Skunk Hollow Trails. \nJune 13\, 5:45-6:30 PM – Nature Bingo \nJune 30\, 4:00-4:45 PM – Treasure Hunt \nJuly 11\, 7:00-7:45 PM – Follow the Leader/Simon Says \nJuly 21\, 1:00-1:45 PM – Ice Cream Hike (National Ice Cream Day!) \nLOCATION Skunk Hollow Park & Trails 490 Darby Paoli Rd\, Villanova \nPARTICIPANTS Children ages 3-8 and their parent/guardian* \nREGISTRATION $20 per Child per Hike Register online at www.radnorrecreation.com \n*Children must be accompanied by a parent/guardian. We ask that there be no more than 2 children to 1 guardian ratio in order to provide a safe and successful program. Each hike is limited to 10 children + their parent/guardian. \nLearn more about Hiking Hound Adventures\, LLC at hikinghoundadventures.com
URL:https://hikinghoundadventures.com/event/little-tykes-go-on-hikes-an-introduction-to-hiking-with-kids-follow-the-leader/
LOCATION:The Willows Park\, 490 Darby Paoli Road\, Villanova\, PA\, 19085\, United States
CATEGORIES:Community Event,Partnership Event
ORGANIZER;CN="Radnor Township Parks and Recreation":MAILTO:recreation@radnor.org
END:VEVENT
BEGIN:VEVENT
DTSTART;TZID=America/New_York:20240630T160000
DTEND;TZID=America/New_York:20240630T160000
DTSTAMP:20260423T185940
CREATED:20240531T040200Z
LAST-MODIFIED:20241121T162611Z
UID:911-1719763200-1719763200@hikinghoundadventures.com
SUMMARY:Little Tykes go on Hikes: An Introduction to Hiking with Kids + Treasure Hunt
DESCRIPTION:Radnor Township Parks & Recreation is excited to partner with Hiking Hound Adventures\, LLC to present Little Tykes go on Hikes! During this 45-minute course\, Hiking Hound Adventures\, LLC will be on the trail with little ones and their guardians to tackle some of the most asked questions surrounding taking kids into the woods. Through fun games and hands-on activities\, we’ll cover safety (each child will get a safety whistle)\, choosing the right trail\, packing considerations\, leave no trace\, and more\, all while enjoying the trails and nature between the Willows Park and Skunk Hollow Trails. \nJune 13\, 5:45-6:30 PM – Nature Bingo \nJune 30\, 4:00-4:45 PM – Treasure Hunt \nJuly 11\, 7:00-7:45 PM – Follow the Leader/Simon Says \nJuly 21\, 1:00-1:45 PM – Ice Cream Hike (National Ice Cream Day!) \nLOCATION Skunk Hollow Park & Trails 490 Darby Paoli Rd\, Villanova \nPARTICIPANTS Children ages 3-8 and their parent/guardian* \nREGISTRATION $20 per Child per Hike Register online at www.radnorrecreation.com \n*Children must be accompanied by a parent/guardian. We ask that there be no more than 2 children to 1 guardian ratio in order to provide a safe and successful program. Each hike is limited to 10 children + their parent/guardian. \nLearn more about Hiking Hound Adventures\, LLC at hikinghoundadventures.com
URL:https://hikinghoundadventures.com/event/little-tykes-go-on-hikes-an-introduction-to-hiking-with-kids-treasure-hunt/
LOCATION:The Willows Park\, 490 Darby Paoli Road\, Villanova\, PA\, 19085\, United States
CATEGORIES:Course,Partnership Event
ORGANIZER;CN="Radnor Township Parks and Recreation":MAILTO:recreation@radnor.org
END:VEVENT
BEGIN:VEVENT
DTSTART;TZID=America/New_York:20240613T173000
DTEND;TZID=America/New_York:20240613T183000
DTSTAMP:20260423T185940
CREATED:20240531T035558Z
LAST-MODIFIED:20241121T162241Z
UID:908-1718299800-1718303400@hikinghoundadventures.com
SUMMARY:Little Tykes Go on Hikes: An Introduction to Hiking with Kids + Nature Bingo
DESCRIPTION:Radnor Township Parks & Recreation is excited to partner with Hiking Hound Adventures\, LLC to present Little Tykes go on Hikes! During this 45-minute course\, Hiking Hound Adventures\, LLC will be on the trail with little ones and their guardians to tackle some of the most asked questions surrounding taking kids into the woods. Through fun games and hands-on activities\, we’ll cover safety (each child will get a safety whistle)\, choosing the right trail\, packing considerations\, leave no trace\, and more\, all while enjoying the trails and nature between the Willows Park and Skunk Hollow Trails. \nJune 13\, 5:45-6:30 PM – Nature Bingo \nJune 23\, 4:00-4:45 PM – Treasure Hunt \nJuly 11\, 7:00-7:45 PM – Follow the Leader/Simon Says \nJuly 21\, 1:00-1:45 PM – Ice Cream Hike (National Ice Cream Day!) \nLOCATION Skunk Hollow Park & Trails 490 Darby Paoli Rd\, Villanova \nPARTICIPANTS Children ages 3-8 and their parent/guardian* \nREGISTRATION $20 per Child per Hike Register online at www.radnorrecreation.com \n*Children must be accompanied by a parent/guardian. We ask that there be no more than 2 children to 1 guardian ratio in order to provide a safe and successful program. Each hike is limited to 10 children + their parent/guardian. \nLearn more about Hiking Hound Adventures\, LLC at hikinghoundadventures.com
URL:https://hikinghoundadventures.com/event/little-tykes-go-on-hikes-an-introduction-to-hiking-with-kids-nature-bingo/
LOCATION:The Willows Park\, 490 Darby Paoli Road\, Villanova\, PA\, 19085\, United States
CATEGORIES:Course,Partnership Event
ORGANIZER;CN="Radnor Township Parks and Recreation":MAILTO:recreation@radnor.org
END:VEVENT
END:VCALENDAR