BEGIN:VCALENDAR
VERSION:2.0
PRODID:-//Hiking Hound Adventures, LLC - ECPv6.15.20//NONSGML v1.0//EN
CALSCALE:GREGORIAN
METHOD:PUBLISH
X-ORIGINAL-URL:https://hikinghoundadventures.com
X-WR-CALDESC:Events for Hiking Hound Adventures, LLC
REFRESH-INTERVAL;VALUE=DURATION:PT1H
X-Robots-Tag:noindex
X-PUBLISHED-TTL:PT1H
BEGIN:VTIMEZONE
TZID:America/New_York
BEGIN:DAYLIGHT
TZOFFSETFROM:-0500
TZOFFSETTO:-0400
TZNAME:EDT
DTSTART:20240310T070000
END:DAYLIGHT
BEGIN:STANDARD
TZOFFSETFROM:-0400
TZOFFSETTO:-0500
TZNAME:EST
DTSTART:20241103T060000
END:STANDARD
BEGIN:DAYLIGHT
TZOFFSETFROM:-0500
TZOFFSETTO:-0400
TZNAME:EDT
DTSTART:20250309T070000
END:DAYLIGHT
BEGIN:STANDARD
TZOFFSETFROM:-0400
TZOFFSETTO:-0500
TZNAME:EST
DTSTART:20251102T060000
END:STANDARD
BEGIN:DAYLIGHT
TZOFFSETFROM:-0500
TZOFFSETTO:-0400
TZNAME:EDT
DTSTART:20260308T070000
END:DAYLIGHT
BEGIN:STANDARD
TZOFFSETFROM:-0400
TZOFFSETTO:-0500
TZNAME:EST
DTSTART:20261101T060000
END:STANDARD
END:VTIMEZONE
BEGIN:VEVENT
DTSTART;TZID=America/New_York:20250429T170000
DTEND;TZID=America/New_York:20250429T180000
DTSTAMP:20260424T122434
CREATED:20250117T051344Z
LAST-MODIFIED:20250117T051344Z
UID:2711-1745946000-1745949600@hikinghoundadventures.com
SUMMARY:Little Tykes go on Hikes w/ Radnor Parks and Recreation
DESCRIPTION:This 45-minute course is designed for children (ages 3-12) and their guardians\, addressing common concerns about hiking with kids. Through engaging games and hands-on activities\, participants learn about outdoor safety\, trail selection\, packing essentials\, and Leave No Trace principles.\nAges: 3-12 (children under 3 free with another registered child\, all participants must be accompanied by an adult)
URL:https://hikinghoundadventures.com/event/little-tykes-go-on-hikes-w-radnor-parks-and-recreation/
LOCATION:The Willows Park\, 490 Darby Paoli Road\, Villanova\, PA\, 19085\, United States
CATEGORIES:Hike,Partnership Event
ORGANIZER;CN="Radnor Township Parks and Recreation":MAILTO:recreation@radnor.org
END:VEVENT
END:VCALENDAR