BEGIN:VCALENDAR
VERSION:2.0
PRODID:-//Hiking Hound Adventures, LLC - ECPv6.15.20//NONSGML v1.0//EN
CALSCALE:GREGORIAN
METHOD:PUBLISH
X-WR-CALNAME:Hiking Hound Adventures, LLC
X-ORIGINAL-URL:https://hikinghoundadventures.com
X-WR-CALDESC:Events for Hiking Hound Adventures, LLC
REFRESH-INTERVAL;VALUE=DURATION:PT1H
X-Robots-Tag:noindex
X-PUBLISHED-TTL:PT1H
BEGIN:VTIMEZONE
TZID:America/New_York
BEGIN:DAYLIGHT
TZOFFSETFROM:-0500
TZOFFSETTO:-0400
TZNAME:EDT
DTSTART:20250309T070000
END:DAYLIGHT
BEGIN:STANDARD
TZOFFSETFROM:-0400
TZOFFSETTO:-0500
TZNAME:EST
DTSTART:20251102T060000
END:STANDARD
BEGIN:DAYLIGHT
TZOFFSETFROM:-0500
TZOFFSETTO:-0400
TZNAME:EDT
DTSTART:20260308T070000
END:DAYLIGHT
BEGIN:STANDARD
TZOFFSETFROM:-0400
TZOFFSETTO:-0500
TZNAME:EST
DTSTART:20261101T060000
END:STANDARD
BEGIN:DAYLIGHT
TZOFFSETFROM:-0500
TZOFFSETTO:-0400
TZNAME:EDT
DTSTART:20270314T070000
END:DAYLIGHT
BEGIN:STANDARD
TZOFFSETFROM:-0400
TZOFFSETTO:-0500
TZNAME:EST
DTSTART:20271107T060000
END:STANDARD
END:VTIMEZONE
BEGIN:VEVENT
DTSTART;TZID=America/New_York:20260723T090000
DTEND;TZID=America/New_York:20260723T090000
DTSTAMP:20260423T201800
CREATED:20260117T213814Z
LAST-MODIFIED:20260117T213814Z
UID:5762-1784797200-1784797200@hikinghoundadventures.com
SUMMARY:Kids Fishing Camp- Plymouth Township
DESCRIPTION:
URL:https://hikinghoundadventures.com/event/kids-fishing-camp-plymouth-township-5/
CATEGORIES:Fishing,Summer Camps
END:VEVENT
BEGIN:VEVENT
DTSTART;TZID=America/New_York:20260723T180000
DTEND;TZID=America/New_York:20260723T180000
DTSTAMP:20260423T201800
CREATED:20260117T213812Z
LAST-MODIFIED:20260117T213812Z
UID:5757-1784829600-1784829600@hikinghoundadventures.com
SUMMARY:After Care for Summer Camp
DESCRIPTION:
URL:https://hikinghoundadventures.com/event/after-care-for-summer-camp-4/
CATEGORIES:Summer Camps
END:VEVENT
BEGIN:VEVENT
DTSTART;TZID=America/New_York:20260724T090000
DTEND;TZID=America/New_York:20260724T090000
DTSTAMP:20260423T201800
CREATED:20260117T213814Z
LAST-MODIFIED:20260117T213814Z
UID:5763-1784883600-1784883600@hikinghoundadventures.com
SUMMARY:Kids Fishing Camp- Plymouth Township
DESCRIPTION:
URL:https://hikinghoundadventures.com/event/kids-fishing-camp-plymouth-township-6/
CATEGORIES:Fishing,Summer Camps
END:VEVENT
BEGIN:VEVENT
DTSTART;TZID=America/New_York:20260724T190000
DTEND;TZID=America/New_York:20260724T190000
DTSTAMP:20260423T201800
CREATED:20260117T213812Z
LAST-MODIFIED:20260117T213812Z
UID:5758-1784919600-1784919600@hikinghoundadventures.com
SUMMARY:After Care for Summer Camp
DESCRIPTION:
URL:https://hikinghoundadventures.com/event/after-care-for-summer-camp-5/
CATEGORIES:Fishing,Summer Camps
END:VEVENT
BEGIN:VEVENT
DTSTART;TZID=America/New_York:20260727T090000
DTEND;TZID=America/New_York:20260727T090000
DTSTAMP:20260423T201800
CREATED:20251118T164729Z
LAST-MODIFIED:20251118T164729Z
UID:5115-1785142800-1785142800@hikinghoundadventures.com
SUMMARY:Outdoor Adventure Summer Camp- Westtown
DESCRIPTION:
URL:https://hikinghoundadventures.com/event/outdoor-adventure-summer-camp-westtown/
CATEGORIES:Summer Camps
END:VEVENT
BEGIN:VEVENT
DTSTART;TZID=America/New_York:20260728T090000
DTEND;TZID=America/New_York:20260728T090000
DTSTAMP:20260423T201800
CREATED:20251118T164729Z
LAST-MODIFIED:20251118T164729Z
UID:5116-1785229200-1785229200@hikinghoundadventures.com
SUMMARY:Outdoor Adventure Summer Camp- Westtown
DESCRIPTION:
URL:https://hikinghoundadventures.com/event/outdoor-adventure-summer-camp-westtown-2/
CATEGORIES:Summer Camps
END:VEVENT
BEGIN:VEVENT
DTSTART;TZID=America/New_York:20260729T090000
DTEND;TZID=America/New_York:20260729T090000
DTSTAMP:20260423T201800
CREATED:20251118T164729Z
LAST-MODIFIED:20251118T164729Z
UID:5117-1785315600-1785315600@hikinghoundadventures.com
SUMMARY:Outdoor Adventure Summer Camp- Westtown
DESCRIPTION:
URL:https://hikinghoundadventures.com/event/outdoor-adventure-summer-camp-westtown-3/
CATEGORIES:Summer Camps
END:VEVENT
BEGIN:VEVENT
DTSTART;TZID=America/New_York:20260730T090000
DTEND;TZID=America/New_York:20260730T090000
DTSTAMP:20260423T201800
CREATED:20251118T164738Z
LAST-MODIFIED:20251118T164738Z
UID:5118-1785402000-1785402000@hikinghoundadventures.com
SUMMARY:Outdoor Adventure Summer Camp- Westtown
DESCRIPTION:
URL:https://hikinghoundadventures.com/event/outdoor-adventure-summer-camp-westtown-4/
CATEGORIES:Summer Camps
END:VEVENT
BEGIN:VEVENT
DTSTART;TZID=America/New_York:20260731T090000
DTEND;TZID=America/New_York:20260731T090000
DTSTAMP:20260423T201800
CREATED:20251118T164738Z
LAST-MODIFIED:20251118T164738Z
UID:5119-1785488400-1785488400@hikinghoundadventures.com
SUMMARY:Outdoor Adventure Summer Camp- Westtown
DESCRIPTION:
URL:https://hikinghoundadventures.com/event/outdoor-adventure-summer-camp-westtown-5/
CATEGORIES:Summer Camps
END:VEVENT
BEGIN:VEVENT
DTSTART;TZID=America/New_York:20260810T090000
DTEND;TZID=America/New_York:20260810T090000
DTSTAMP:20260423T201800
CREATED:20260317T184152Z
LAST-MODIFIED:20260317T184152Z
UID:6147-1786352400-1786352400@hikinghoundadventures.com
SUMMARY:Kids Fishing Camp- Upper Providence
DESCRIPTION:
URL:https://hikinghoundadventures.com/event/kids-fishing-camp-upper-providence-6/
CATEGORIES:Fishing,Summer Camps
END:VEVENT
BEGIN:VEVENT
DTSTART;TZID=America/New_York:20260811T090000
DTEND;TZID=America/New_York:20260811T090000
DTSTAMP:20260423T201800
CREATED:20260317T184152Z
LAST-MODIFIED:20260317T184152Z
UID:6148-1786438800-1786438800@hikinghoundadventures.com
SUMMARY:Kids Fishing Camp- Upper Providence
DESCRIPTION:
URL:https://hikinghoundadventures.com/event/kids-fishing-camp-upper-providence-7/
CATEGORIES:Fishing,Summer Camps
END:VEVENT
BEGIN:VEVENT
DTSTART;TZID=America/New_York:20260812T090000
DTEND;TZID=America/New_York:20260812T090000
DTSTAMP:20260423T201800
CREATED:20260317T184152Z
LAST-MODIFIED:20260317T184152Z
UID:6149-1786525200-1786525200@hikinghoundadventures.com
SUMMARY:Kids Fishing Camp- Upper Providence
DESCRIPTION:
URL:https://hikinghoundadventures.com/event/kids-fishing-camp-upper-providence-8/
CATEGORIES:Fishing,Summer Camps
END:VEVENT
BEGIN:VEVENT
DTSTART;TZID=America/New_York:20260813T090000
DTEND;TZID=America/New_York:20260813T090000
DTSTAMP:20260423T201800
CREATED:20260317T184153Z
LAST-MODIFIED:20260317T184153Z
UID:6150-1786611600-1786611600@hikinghoundadventures.com
SUMMARY:Kids Fishing Camp- Upper Providence
DESCRIPTION:
URL:https://hikinghoundadventures.com/event/kids-fishing-camp-upper-providence-9/
CATEGORIES:Fishing,Summer Camps
END:VEVENT
BEGIN:VEVENT
DTSTART;TZID=America/New_York:20260814T090000
DTEND;TZID=America/New_York:20260814T090000
DTSTAMP:20260423T201800
CREATED:20260317T184206Z
LAST-MODIFIED:20260317T184206Z
UID:6151-1786698000-1786698000@hikinghoundadventures.com
SUMMARY:Kids Fishing Camp- Upper Providence
DESCRIPTION:
URL:https://hikinghoundadventures.com/event/kids-fishing-camp-upper-providence-10/
CATEGORIES:Fishing,Summer Camps
END:VEVENT
BEGIN:VEVENT
DTSTART;TZID=America/New_York:20260817T090000
DTEND;TZID=America/New_York:20260817T090000
DTSTAMP:20260423T201800
CREATED:20251118T164534Z
LAST-MODIFIED:20251229T190037Z
UID:5056-1786957200-1786957200@hikinghoundadventures.com
SUMMARY:Kids Fishing Camp- Radnor
DESCRIPTION:
URL:https://hikinghoundadventures.com/event/kids-fishing-camp-radnor/
CATEGORIES:Fishing,Summer Camps
END:VEVENT
BEGIN:VEVENT
DTSTART;TZID=America/New_York:20260818T090000
DTEND;TZID=America/New_York:20260818T090000
DTSTAMP:20260423T201800
CREATED:20251118T164534Z
LAST-MODIFIED:20251229T190037Z
UID:5057-1787043600-1787043600@hikinghoundadventures.com
SUMMARY:Kids Fishing Camp- Radnor
DESCRIPTION:
URL:https://hikinghoundadventures.com/event/kids-fishing-camp-radnor-2/
CATEGORIES:Fishing,Summer Camps
END:VEVENT
BEGIN:VEVENT
DTSTART;TZID=America/New_York:20260819T090000
DTEND;TZID=America/New_York:20260819T090000
DTSTAMP:20260423T201800
CREATED:20251118T164549Z
LAST-MODIFIED:20251229T190052Z
UID:5058-1787130000-1787130000@hikinghoundadventures.com
SUMMARY:Kids Fishing Camp- Radnor
DESCRIPTION:
URL:https://hikinghoundadventures.com/event/kids-fishing-camp-radnor-3/
CATEGORIES:Fishing,Summer Camps
END:VEVENT
BEGIN:VEVENT
DTSTART;TZID=America/New_York:20260820T090000
DTEND;TZID=America/New_York:20260820T090000
DTSTAMP:20260423T201800
CREATED:20251118T164549Z
LAST-MODIFIED:20251229T190052Z
UID:5059-1787216400-1787216400@hikinghoundadventures.com
SUMMARY:Kids Fishing Camp- Radnor
DESCRIPTION:
URL:https://hikinghoundadventures.com/event/kids-fishing-camp-radnor-4/
CATEGORIES:Fishing,Summer Camps
END:VEVENT
BEGIN:VEVENT
DTSTART;TZID=America/New_York:20260821T090000
DTEND;TZID=America/New_York:20260821T090000
DTSTAMP:20260423T201800
CREATED:20251118T164549Z
LAST-MODIFIED:20251229T190052Z
UID:5060-1787302800-1787302800@hikinghoundadventures.com
SUMMARY:Kids Fishing Camp- Radnor
DESCRIPTION:
URL:https://hikinghoundadventures.com/event/kids-fishing-camp-radnor-5/
CATEGORIES:Fishing,Summer Camps
END:VEVENT
END:VCALENDAR