BEGIN:VCALENDAR
VERSION:2.0
PRODID:-//Hiking Hound Adventures, LLC - ECPv6.15.20//NONSGML v1.0//EN
CALSCALE:GREGORIAN
METHOD:PUBLISH
X-WR-CALNAME:Hiking Hound Adventures, LLC
X-ORIGINAL-URL:https://hikinghoundadventures.com
X-WR-CALDESC:Events for Hiking Hound Adventures, LLC
REFRESH-INTERVAL;VALUE=DURATION:PT1H
X-Robots-Tag:noindex
X-PUBLISHED-TTL:PT1H
BEGIN:VTIMEZONE
TZID:America/New_York
BEGIN:DAYLIGHT
TZOFFSETFROM:-0500
TZOFFSETTO:-0400
TZNAME:EDT
DTSTART:20250309T070000
END:DAYLIGHT
BEGIN:STANDARD
TZOFFSETFROM:-0400
TZOFFSETTO:-0500
TZNAME:EST
DTSTART:20251102T060000
END:STANDARD
BEGIN:DAYLIGHT
TZOFFSETFROM:-0500
TZOFFSETTO:-0400
TZNAME:EDT
DTSTART:20260308T070000
END:DAYLIGHT
BEGIN:STANDARD
TZOFFSETFROM:-0400
TZOFFSETTO:-0500
TZNAME:EST
DTSTART:20261101T060000
END:STANDARD
BEGIN:DAYLIGHT
TZOFFSETFROM:-0500
TZOFFSETTO:-0400
TZNAME:EDT
DTSTART:20270314T070000
END:DAYLIGHT
BEGIN:STANDARD
TZOFFSETFROM:-0400
TZOFFSETTO:-0500
TZNAME:EST
DTSTART:20271107T060000
END:STANDARD
END:VTIMEZONE
BEGIN:VEVENT
DTSTART;TZID=America/New_York:20260419T180000
DTEND;TZID=America/New_York:20260419T180000
DTSTAMP:20260423T160627
CREATED:20260317T184147Z
LAST-MODIFIED:20260317T184147Z
UID:6142-1776621600-1776621600@hikinghoundadventures.com
SUMMARY:Campfire Crimes: Outdoor Murder Mystery - Upper Providence
DESCRIPTION:
URL:https://hikinghoundadventures.com/event/campfire-crimes-outdoor-murder-mystery-upper-providence/
CATEGORIES:Trail Detectives
END:VEVENT
BEGIN:VEVENT
DTSTART;TZID=America/New_York:20260419T163000
DTEND;TZID=America/New_York:20260419T163000
DTSTAMP:20260423T160627
CREATED:20260317T184607Z
LAST-MODIFIED:20260317T184607Z
UID:6163-1776616200-1776616200@hikinghoundadventures.com
SUMMARY:Secrets of the Trail – A Treasure Hunt Adventure- Upper Providence
DESCRIPTION:
URL:https://hikinghoundadventures.com/event/secrets-of-the-trail-a-treasure-hunt-adventure-upper-providence/
CATEGORIES:Trail Detectives
END:VEVENT
END:VCALENDAR