BEGIN:VCALENDAR
VERSION:2.0
PRODID:-//Hiking Hound Adventures, LLC - ECPv6.15.20//NONSGML v1.0//EN
CALSCALE:GREGORIAN
METHOD:PUBLISH
X-ORIGINAL-URL:https://hikinghoundadventures.com
X-WR-CALDESC:Events for Hiking Hound Adventures, LLC
REFRESH-INTERVAL;VALUE=DURATION:PT1H
X-Robots-Tag:noindex
X-PUBLISHED-TTL:PT1H
BEGIN:VTIMEZONE
TZID:America/New_York
BEGIN:DAYLIGHT
TZOFFSETFROM:-0500
TZOFFSETTO:-0400
TZNAME:EDT
DTSTART:20250309T070000
END:DAYLIGHT
BEGIN:STANDARD
TZOFFSETFROM:-0400
TZOFFSETTO:-0500
TZNAME:EST
DTSTART:20251102T060000
END:STANDARD
BEGIN:DAYLIGHT
TZOFFSETFROM:-0500
TZOFFSETTO:-0400
TZNAME:EDT
DTSTART:20260308T070000
END:DAYLIGHT
BEGIN:STANDARD
TZOFFSETFROM:-0400
TZOFFSETTO:-0500
TZNAME:EST
DTSTART:20261101T060000
END:STANDARD
BEGIN:DAYLIGHT
TZOFFSETFROM:-0500
TZOFFSETTO:-0400
TZNAME:EDT
DTSTART:20270314T070000
END:DAYLIGHT
BEGIN:STANDARD
TZOFFSETFROM:-0400
TZOFFSETTO:-0500
TZNAME:EST
DTSTART:20271107T060000
END:STANDARD
END:VTIMEZONE
BEGIN:VEVENT
DTSTART;TZID=America/New_York:20261024T100000
DTEND;TZID=America/New_York:20261024T100000
DTSTAMP:20260423T213150
CREATED:20251118T164936Z
LAST-MODIFIED:20251118T164936Z
UID:5170-1792836000-1792836000@hikinghoundadventures.com
SUMMARY:Treats on The Trail- Springfield (MontCo)
DESCRIPTION:Costume
URL:https://hikinghoundadventures.com/event/treats-on-the-trail-springfield-montco-3/
CATEGORIES:Treats
END:VEVENT
BEGIN:VEVENT
DTSTART;TZID=America/New_York:20261025T140000
DTEND;TZID=America/New_York:20261025T140000
DTSTAMP:20260423T213150
CREATED:20251118T164918Z
LAST-MODIFIED:20251118T164918Z
UID:5158-1792936800-1792936800@hikinghoundadventures.com
SUMMARY:Treats on the Trail- Phoenixville
DESCRIPTION:Costume
URL:https://hikinghoundadventures.com/event/treats-on-the-trail-phoenixville-3/
CATEGORIES:Treats
END:VEVENT
BEGIN:VEVENT
DTSTART;TZID=America/New_York:20261025T180000
DTEND;TZID=America/New_York:20261025T180000
DTSTAMP:20260423T213150
CREATED:20251118T164927Z
LAST-MODIFIED:20251118T164927Z
UID:5165-1792951200-1792951200@hikinghoundadventures.com
SUMMARY:Treats on the Trail- Radnor
DESCRIPTION:Costume
URL:https://hikinghoundadventures.com/event/treats-on-the-trail-radnor-7/
CATEGORIES:Treats
END:VEVENT
END:VCALENDAR