BEGIN:VCALENDAR
VERSION:2.0
PRODID:-//Hiking Hound Adventures, LLC - ECPv6.15.20//NONSGML v1.0//EN
CALSCALE:GREGORIAN
METHOD:PUBLISH
X-ORIGINAL-URL:https://hikinghoundadventures.com
X-WR-CALDESC:Events for Hiking Hound Adventures, LLC
REFRESH-INTERVAL;VALUE=DURATION:PT1H
X-Robots-Tag:noindex
X-PUBLISHED-TTL:PT1H
BEGIN:VTIMEZONE
TZID:America/New_York
BEGIN:DAYLIGHT
TZOFFSETFROM:-0500
TZOFFSETTO:-0400
TZNAME:EDT
DTSTART:20250309T070000
END:DAYLIGHT
BEGIN:STANDARD
TZOFFSETFROM:-0400
TZOFFSETTO:-0500
TZNAME:EST
DTSTART:20251102T060000
END:STANDARD
BEGIN:DAYLIGHT
TZOFFSETFROM:-0500
TZOFFSETTO:-0400
TZNAME:EDT
DTSTART:20260308T070000
END:DAYLIGHT
BEGIN:STANDARD
TZOFFSETFROM:-0400
TZOFFSETTO:-0500
TZNAME:EST
DTSTART:20261101T060000
END:STANDARD
BEGIN:DAYLIGHT
TZOFFSETFROM:-0500
TZOFFSETTO:-0400
TZNAME:EDT
DTSTART:20270314T070000
END:DAYLIGHT
BEGIN:STANDARD
TZOFFSETFROM:-0400
TZOFFSETTO:-0500
TZNAME:EST
DTSTART:20271107T060000
END:STANDARD
END:VTIMEZONE
BEGIN:VEVENT
DTSTART;TZID=America/New_York:20261108T120000
DTEND;TZID=America/New_York:20261108T120000
DTSTAMP:20260423T201759
CREATED:20251118T164943Z
LAST-MODIFIED:20251118T164943Z
UID:5177-1794139200-1794139200@hikinghoundadventures.com
SUMMARY:Treats on the Trail- Upper Providence
DESCRIPTION:Costume
URL:https://hikinghoundadventures.com/event/treats-on-the-trail-upper-providence-6/
CATEGORIES:Treats
END:VEVENT
BEGIN:VEVENT
DTSTART;TZID=America/New_York:20261114T120000
DTEND;TZID=America/New_York:20261114T120000
DTSTAMP:20260423T201759
CREATED:20251118T164935Z
LAST-MODIFIED:20251118T164935Z
UID:5166-1794657600-1794657600@hikinghoundadventures.com
SUMMARY:Treats on the Trail- Radnor
DESCRIPTION:Hot Chocolate
URL:https://hikinghoundadventures.com/event/treats-on-the-trail-radnor-8/
CATEGORIES:Treats
END:VEVENT
BEGIN:VEVENT
DTSTART;TZID=America/New_York:20261129T110000
DTEND;TZID=America/New_York:20261129T110000
DTSTAMP:20260423T201759
CREATED:20251118T164941Z
LAST-MODIFIED:20251118T164941Z
UID:5171-1795950000-1795950000@hikinghoundadventures.com
SUMMARY:Treats on the Trail- Springfield (MontCo)
DESCRIPTION:Hot Chocolate
URL:https://hikinghoundadventures.com/event/treats-on-the-trail-springfield-montco-4/
CATEGORIES:Treats
END:VEVENT
BEGIN:VEVENT
DTSTART;TZID=America/New_York:20261206T120000
DTEND;TZID=America/New_York:20261206T120000
DTSTAMP:20260423T201759
CREATED:20251118T164943Z
LAST-MODIFIED:20251118T164943Z
UID:5178-1796558400-1796558400@hikinghoundadventures.com
SUMMARY:Treats on the Trail- Upper Providence
DESCRIPTION:Hot Chocolate
URL:https://hikinghoundadventures.com/event/treats-on-the-trail-upper-providence-7/
CATEGORIES:Treats
END:VEVENT
BEGIN:VEVENT
DTSTART;TZID=America/New_York:20261219T120000
DTEND;TZID=America/New_York:20261219T120000
DTSTAMP:20260423T201759
CREATED:20251118T164935Z
LAST-MODIFIED:20251118T164935Z
UID:5167-1797681600-1797681600@hikinghoundadventures.com
SUMMARY:Treats on the Trail- Radnor
DESCRIPTION:Hot Chocolate
URL:https://hikinghoundadventures.com/event/treats-on-the-trail-radnor-9/
CATEGORIES:Treats
END:VEVENT
END:VCALENDAR