BEGIN:VCALENDAR
VERSION:2.0
PRODID:-//Hiking Hound Adventures, LLC - ECPv6.15.20//NONSGML v1.0//EN
CALSCALE:GREGORIAN
METHOD:PUBLISH
X-WR-CALNAME:Hiking Hound Adventures, LLC
X-ORIGINAL-URL:https://hikinghoundadventures.com
X-WR-CALDESC:Events for Hiking Hound Adventures, LLC
REFRESH-INTERVAL;VALUE=DURATION:PT1H
X-Robots-Tag:noindex
X-PUBLISHED-TTL:PT1H
BEGIN:VTIMEZONE
TZID:America/New_York
BEGIN:DAYLIGHT
TZOFFSETFROM:-0500
TZOFFSETTO:-0400
TZNAME:EDT
DTSTART:20240310T070000
END:DAYLIGHT
BEGIN:STANDARD
TZOFFSETFROM:-0400
TZOFFSETTO:-0500
TZNAME:EST
DTSTART:20241103T060000
END:STANDARD
BEGIN:DAYLIGHT
TZOFFSETFROM:-0500
TZOFFSETTO:-0400
TZNAME:EDT
DTSTART:20250309T070000
END:DAYLIGHT
BEGIN:STANDARD
TZOFFSETFROM:-0400
TZOFFSETTO:-0500
TZNAME:EST
DTSTART:20251102T060000
END:STANDARD
BEGIN:DAYLIGHT
TZOFFSETFROM:-0500
TZOFFSETTO:-0400
TZNAME:EDT
DTSTART:20260308T070000
END:DAYLIGHT
BEGIN:STANDARD
TZOFFSETFROM:-0400
TZOFFSETTO:-0500
TZNAME:EST
DTSTART:20261101T060000
END:STANDARD
END:VTIMEZONE
BEGIN:VEVENT
DTSTART;TZID=America/New_York:20250625T190000
DTEND;TZID=America/New_York:20250625T190000
DTSTAMP:20260424T094844
CREATED:20250612T162245Z
LAST-MODIFIED:20250612T162245Z
UID:3912-1750878000-1750878000@hikinghoundadventures.com
SUMMARY:Mindfulness and Meditation Hike - Radnor Township
DESCRIPTION:
URL:https://hikinghoundadventures.com/event/mindfulness-and-meditation-hike-radnor-township/
END:VEVENT
BEGIN:VEVENT
DTSTART;TZID=America/New_York:20250625T160000
DTEND;TZID=America/New_York:20250625T160000
DTSTAMP:20260424T094844
CREATED:20250612T162244Z
LAST-MODIFIED:20250612T162244Z
UID:3911-1750867200-1750867200@hikinghoundadventures.com
SUMMARY:Practical Bushcraft
DESCRIPTION:
URL:https://hikinghoundadventures.com/event/practical-bushcraft/
END:VEVENT
BEGIN:VEVENT
DTSTART;TZID=America/New_York:20250624T180000
DTEND;TZID=America/New_York:20250624T180000
DTSTAMP:20260424T094844
CREATED:20250612T162002Z
LAST-MODIFIED:20250612T162002Z
UID:3859-1750788000-1750788000@hikinghoundadventures.com
SUMMARY:Backcountry Gourmet: Wilderness Cooking Experience
DESCRIPTION:
URL:https://hikinghoundadventures.com/event/backcountry-gourmet-wilderness-cooking-experience/
END:VEVENT
BEGIN:VEVENT
DTSTART;TZID=America/New_York:20250622T150000
DTEND;TZID=America/New_York:20250622T150000
DTSTAMP:20260424T094844
CREATED:20250612T162244Z
LAST-MODIFIED:20250612T162244Z
UID:3908-1750604400-1750604400@hikinghoundadventures.com
SUMMARY:Little Tykes go on Hikes - Westtown Township
DESCRIPTION:
URL:https://hikinghoundadventures.com/event/little-tykes-go-on-hikes-westtown-township/
END:VEVENT
BEGIN:VEVENT
DTSTART;TZID=America/New_York:20250622T103000
DTEND;TZID=America/New_York:20250622T103000
DTSTAMP:20260424T094844
CREATED:20250612T162133Z
LAST-MODIFIED:20250618T155646Z
UID:3890-1750588200-1750588200@hikinghoundadventures.com
SUMMARY:SUP Yoga- Schuylkill River
DESCRIPTION:
URL:https://hikinghoundadventures.com/event/sup-yoga-schuylkill-river-2/
END:VEVENT
BEGIN:VEVENT
DTSTART;TZID=America/New_York:20250621T170000
DTEND;TZID=America/New_York:20250621T170000
DTSTAMP:20260424T094844
CREATED:20250612T162048Z
LAST-MODIFIED:20250612T162048Z
UID:3876-1750525200-1750525200@hikinghoundadventures.com
SUMMARY:Little Tykes go on Hikes - Upper Providence
DESCRIPTION:
URL:https://hikinghoundadventures.com/event/little-tykes-go-on-hikes-upper-providence/
END:VEVENT
BEGIN:VEVENT
DTSTART;TZID=America/New_York:20250621T110000
DTEND;TZID=America/New_York:20250621T110000
DTSTAMP:20260424T094844
CREATED:20250612T162204Z
LAST-MODIFIED:20250612T162204Z
UID:3900-1750503600-1750503600@hikinghoundadventures.com
SUMMARY:Lower Merion Little Tykes
DESCRIPTION:
URL:https://hikinghoundadventures.com/event/lower-merion-little-tykes/
END:VEVENT
BEGIN:VEVENT
DTSTART;TZID=America/New_York:20250620T180000
DTEND;TZID=America/New_York:20250620T180000
DTSTAMP:20260424T094844
CREATED:20250612T162003Z
LAST-MODIFIED:20250612T162003Z
UID:3862-1750442400-1750442400@hikinghoundadventures.com
SUMMARY:Tails on Trails: An Introduction to Hiking with Dogs
DESCRIPTION:
URL:https://hikinghoundadventures.com/event/tails-on-trails-an-introduction-to-hiking-with-dogs/
END:VEVENT
BEGIN:VEVENT
DTSTART;TZID=America/New_York:20250619T180000
DTEND;TZID=America/New_York:20250619T180000
DTSTAMP:20260424T094844
CREATED:20250612T162033Z
LAST-MODIFIED:20250618T155501Z
UID:3869-1750356000-1750356000@hikinghoundadventures.com
SUMMARY:Little Tykes go on Hikes - Radnor Township
DESCRIPTION:
URL:https://hikinghoundadventures.com/event/little-tykes-go-on-hikes-radnor-township/
END:VEVENT
BEGIN:VEVENT
DTSTART;TZID=America/New_York:20250619T100000
DTEND;TZID=America/New_York:20250619T100000
DTSTAMP:20260424T094844
CREATED:20250612T161957Z
LAST-MODIFIED:20250612T161957Z
UID:3853-1750327200-1750327200@hikinghoundadventures.com
SUMMARY:2 Day Virtual Leave No Trace Level 1 Instructor Course
DESCRIPTION:
URL:https://hikinghoundadventures.com/event/2-day-virtual-leave-no-trace-level-1-instructor-course/
END:VEVENT
BEGIN:VEVENT
DTSTART;TZID=America/New_York:20250618T180000
DTEND;TZID=America/New_York:20250618T180000
DTSTAMP:20260424T094844
CREATED:20250612T162018Z
LAST-MODIFIED:20250612T162018Z
UID:3865-1750269600-1750269600@hikinghoundadventures.com
SUMMARY:SUPreme Excursions- John Heinz Wildlife Refuge
DESCRIPTION:
URL:https://hikinghoundadventures.com/event/supreme-excursions-john-heinz-wildlife-refuge/
END:VEVENT
BEGIN:VEVENT
DTSTART;TZID=America/New_York:20250618T173000
DTEND;TZID=America/New_York:20250618T173000
DTSTAMP:20260424T094844
CREATED:20250612T162103Z
LAST-MODIFIED:20250618T155327Z
UID:3880-1750267800-1750267800@hikinghoundadventures.com
SUMMARY:Little Tykes go on Hikes - Upper Providence
DESCRIPTION:
URL:https://hikinghoundadventures.com/event/little-tykes-go-on-hikes-upper-providence-5/
END:VEVENT
BEGIN:VEVENT
DTSTART;TZID=America/New_York:20250616T180000
DTEND;TZID=America/New_York:20250616T180000
DTSTAMP:20260424T094844
CREATED:20250612T162003Z
LAST-MODIFIED:20250612T162003Z
UID:3860-1750096800-1750096800@hikinghoundadventures.com
SUMMARY:Untangled: Essential Outdoor Knots
DESCRIPTION:
URL:https://hikinghoundadventures.com/event/untangled-essential-outdoor-knots-2/
END:VEVENT
BEGIN:VEVENT
DTSTART;TZID=America/New_York:20250615T103000
DTEND;TZID=America/New_York:20250615T103000
DTSTAMP:20260424T094844
CREATED:20250612T162133Z
LAST-MODIFIED:20250612T162133Z
UID:3889-1749983400-1749983400@hikinghoundadventures.com
SUMMARY:SUP Yoga- Schuylkill River
DESCRIPTION:
URL:https://hikinghoundadventures.com/event/sup-yoga-schuylkill-river/
END:VEVENT
BEGIN:VEVENT
DTSTART;TZID=America/New_York:20250615T090000
DTEND;TZID=America/New_York:20250615T090000
DTSTAMP:20260424T094844
CREATED:20250612T162454Z
LAST-MODIFIED:20250612T162454Z
UID:3918-1749978000-1749978000@hikinghoundadventures.com
SUMMARY:Little Tykes go on Hikes - Phoenixville
DESCRIPTION:
URL:https://hikinghoundadventures.com/event/little-tykes-go-on-hikes-phoenixville/
END:VEVENT
BEGIN:VEVENT
DTSTART;TZID=America/New_York:20250615T084500
DTEND;TZID=America/New_York:20250615T084500
DTSTAMP:20260424T094844
CREATED:20250612T162134Z
LAST-MODIFIED:20250612T162134Z
UID:3892-1749977100-1749977100@hikinghoundadventures.com
SUMMARY:SUP Yoga- Schuylkill River
DESCRIPTION:
URL:https://hikinghoundadventures.com/event/sup-yoga-schuylkill-river-4/
END:VEVENT
BEGIN:VEVENT
DTSTART;TZID=America/New_York:20250614T120000
DTEND;TZID=America/New_York:20250614T120000
DTSTAMP:20260424T094844
CREATED:20250612T162230Z
LAST-MODIFIED:20250612T162230Z
UID:3907-1749902400-1749902400@hikinghoundadventures.com
SUMMARY:Thornbury Little Tykes
DESCRIPTION:
URL:https://hikinghoundadventures.com/event/thornbury-little-tykes/
END:VEVENT
BEGIN:VEVENT
DTSTART;TZID=America/New_York:20250612T180000
DTEND;TZID=America/New_York:20250612T190000
DTSTAMP:20260424T094844
CREATED:20250612T162244Z
LAST-MODIFIED:20250612T202316Z
UID:3910-1749751200-1749754800@hikinghoundadventures.com
SUMMARY:Wilderness Navigation: Learning Map and Compass - Westtown Township
DESCRIPTION:
URL:https://hikinghoundadventures.com/event/wilderness-navigation-learning-map-and-compass-westtown-township/
END:VEVENT
BEGIN:VEVENT
DTSTART;TZID=America/New_York:20250520T180000
DTEND;TZID=America/New_York:20250520T190000
DTSTAMP:20260424T094844
CREATED:20241203T175629Z
LAST-MODIFIED:20250225T200755Z
UID:2335-1747764000-1747767600@hikinghoundadventures.com
SUMMARY:Tails on Trails: Introduction to Hiking with Dogs
DESCRIPTION:Are you and your furry friend ready to hit the trails together? Welcome to Tails on Trails: Introduction to Hiking with Dogs by Hiking Hound Adventures\, LLC—your ultimate guide to exploring the great outdoors with your four-legged companion! This engaging course is designed to make hiking with dogs a delightful and rewarding experience\, ensuring that you both stay safe\, respectful\, and prepared for any adventure. \nIn this comprehensive course\, we’ll cover everything you need to know to embark on hiking adventures with your dog confidently. We begin with essential safety tips\, so you can keep your pup protected from the elements and potential hazards. Learn how to properly equip your dog with the right gear\, and understand the best practices for handling different trail conditions. \nTrail etiquette is a key focus in Tails on Trails. Discover how to navigate shared paths courteously\, ensuring that your hiking experience is enjoyable for everyone. From passing other hikers to managing off-leash time\, we provide clear guidelines to help you and your dog be excellent trail citizens. \nLeave No Trace principles are another crucial element of our course. We’ll teach you how to minimize your environmental impact and ensure that you and your pup leave the trails just as beautiful as you found them. Learn how to manage waste\, respect wildlife\, and preserve natural habitats for future adventurers. \nIn addition\, we offer a treasure trove of tips to enhance your hiking experience. From choosing the right trails for you and your dog’s fitness level to keeping your canine companion hydrated and happy on the move\, our practical advice will prepare you for a seamless adventure. \nTails on Trails isn’t just a course; it’s a pathway to a lifelong love of hiking with your dog. Join us to build your skills\, gain confidence\, and create unforgettable memories on the trail. Ready to start your next adventure? Enroll today and get ready to hit the trails with your best friend by your side! \n\n\n\n*** Dogs must remain on a leash at all times\, be up to date on vaccinations\, and well behaved. Must be 18 or older and limited to 1 dog per person- Price per person.***
URL:https://hikinghoundadventures.com/event/tails-on-trails-introduction-to-hiking-with-dogs/
LOCATION:Media\, PA\, Media\, PA\, United States
CATEGORIES:Course,Hike
ORGANIZER;CN="Hiking Hound Adventures%2C LLC":MAILTO:info@hikinghoundadventures.com
END:VEVENT
BEGIN:VEVENT
DTSTART;TZID=America/New_York:20250520T170000
DTEND;TZID=America/New_York:20250520T180000
DTSTAMP:20260424T094844
CREATED:20250225T200430Z
LAST-MODIFIED:20250307T204636Z
UID:3020-1747760400-1747764000@hikinghoundadventures.com
SUMMARY:Treasure Hunt Hike
DESCRIPTION:Join Hiking Hound Adventures\, LLC as we search for treasure! This family friendly hike will allow participants to learn and explore as we will follow clues and a map through the woods in search of a treasure. \n***Recommended age is  3-12 years old\, but all ages are welcome- Price is per child. Children must be accompanied by an adult. Children under 3 years old are free when accompanying another registered child***
URL:https://hikinghoundadventures.com/event/treasure-hunt-hike-5/
LOCATION:Media\, PA\, Media\, PA\, United States
CATEGORIES:Hike
ORGANIZER;CN="Hiking Hound Adventures%2C LLC":MAILTO:info@hikinghoundadventures.com
END:VEVENT
BEGIN:VEVENT
DTSTART;TZID=America/New_York:20250503T000000
DTEND;TZID=America/New_York:20250504T235959
DTSTAMP:20260424T094844
CREATED:20250127T185748Z
LAST-MODIFIED:20250127T190144Z
UID:2837-1746230400-1746403199@hikinghoundadventures.com
SUMMARY:Wilderness First Aid Course (WFA)
DESCRIPTION:Wilderness First Aid Course\nFor those venturing into the outdoors or working in remote environments\, being prepared for medical emergencies is essential. Our Wilderness First Aid Course is designed for scouts\, scout leaders\, outdoor enthusiasts\, and anyone who works in environments where help from professional first responders may be far away. This course teaches essential wilderness first aid skills ensuring you are equipped to handle a variety of emergencies when every second counts. \nCourse Highlights:\n\nCourse Length: 16 hours over 2 days.\nPrerequisites: Must be at least 14 years old and have a valid adult CPR/AED certificate.\nCertification: 2-year certification with digital certificates available upon successful completion.\nMaterials Included: First aid training materials and supplies\, Wilderness and Remote First Aid emergency reference manual\, pocket field guide.\n\nWilderness First Aid Topics:\n\nPrimary and Secondary Assessments: Learn how to assess and prioritize injuries effectively in remote settings.\nHead\, Brain\, Neck\, and Spinal Injuries: Techniques for managing spinal injuries and head trauma.\nHeat-Related Emergencies: Recognize and treat conditions like heat exhaustion and heatstroke.\nHypothermia: Understanding and responding to hypothermic conditions.\nAltitude-Related Illnesses: Identifying and managing altitude sickness.\nAllergies and Anaphylaxis: Treating allergic reactions.\nBurns: First aid for various types of burns.\nBone and Joint Injuries: Stabilizing fractures and sprains in remote environments.\nWounds and Wound Infection: Proper techniques for cleaning\, dressing\, and managing wounds to prevent infection.\n\nBoy Scouts of America Wilderness First Aid Curriculum and Doctrine Guidelines\, this course aligns with OSHA’s Best Practices for Workplace First Aid Training Programs. \n\nThis course is perfect for anyone spending time outdoors or in remote locations. Whether you’re a scout leader\, outdoor educator\, or wilderness enthusiast\, this training ensures that you’re ready to act in any emergency situation. \n \n\nRegister Now for the  Wilderness First Aid Course and gain the critical skills needed to save lives in the backcountry.
URL:https://hikinghoundadventures.com/event/wilderness-first-aid-course-wfa-2/
LOCATION:Louis Scott Memorial Park\, 998 Ridley Creek Road\, Media\, PA\, 19063\, United States
CATEGORIES:Course
ATTACH;FMTTYPE=image/png:https://hikinghoundadventures.com/wp-content/uploads/2024/12/First-Aid-2.png
ORGANIZER;CN="Hiking Hound Adventures%2C LLC":MAILTO:info@hikinghoundadventures.com
END:VEVENT
BEGIN:VEVENT
DTSTART;TZID=America/New_York:20250429T170000
DTEND;TZID=America/New_York:20250429T180000
DTSTAMP:20260424T094844
CREATED:20250117T051344Z
LAST-MODIFIED:20250117T051344Z
UID:2711-1745946000-1745949600@hikinghoundadventures.com
SUMMARY:Little Tykes go on Hikes w/ Radnor Parks and Recreation
DESCRIPTION:This 45-minute course is designed for children (ages 3-12) and their guardians\, addressing common concerns about hiking with kids. Through engaging games and hands-on activities\, participants learn about outdoor safety\, trail selection\, packing essentials\, and Leave No Trace principles.\nAges: 3-12 (children under 3 free with another registered child\, all participants must be accompanied by an adult)
URL:https://hikinghoundadventures.com/event/little-tykes-go-on-hikes-w-radnor-parks-and-recreation/
LOCATION:The Willows Park\, 490 Darby Paoli Road\, Villanova\, PA\, 19085\, United States
CATEGORIES:Hike,Partnership Event
ORGANIZER;CN="Radnor Township Parks and Recreation":MAILTO:recreation@radnor.org
END:VEVENT
BEGIN:VEVENT
DTSTART;TZID=America/New_York:20250427T140000
DTEND;TZID=America/New_York:20250427T150000
DTSTAMP:20260424T094844
CREATED:20250117T051111Z
LAST-MODIFIED:20250117T051111Z
UID:2709-1745762400-1745766000@hikinghoundadventures.com
SUMMARY:Little Tykes go on Hikes w/ Lower Makefield Township
DESCRIPTION:This 45-minute course is designed for children (ages 3-12) and their guardians\, addressing common concerns about hiking with kids. Through engaging games and hands-on activities\, participants learn about outdoor safety\, trail selection\, packing essentials\, and Leave No Trace principles.\nAges: 3-12 (children under 3 free with another registered child\, all participants must be accompanied by an adult)
URL:https://hikinghoundadventures.com/event/little-tykes-go-on-hikes-w-lower-makefield-township-3/
LOCATION:Five Mile Woods\, 1305 Big Oak Rd\, Yardley\, PA\, 19067
CATEGORIES:Hike,Partnership Event
END:VEVENT
BEGIN:VEVENT
DTSTART;TZID=America/New_York:20250427T123000
DTEND;TZID=America/New_York:20250427T150000
DTSTAMP:20260424T094844
CREATED:20250117T051606Z
LAST-MODIFIED:20250117T051606Z
UID:2713-1745757000-1745766000@hikinghoundadventures.com
SUMMARY:Wheels of Wayne Car Show
DESCRIPTION:We will have a booth at the event. Come out for a visit! More info coming soon.
URL:https://hikinghoundadventures.com/event/wheels-of-wayne-car-show/
LOCATION:Wayne\, Wayne\, PA
CATEGORIES:Community Event
ORGANIZER;CN="Radnor Township Parks and Recreation":MAILTO:recreation@radnor.org
END:VEVENT
BEGIN:VEVENT
DTSTART;TZID=America/New_York:20250427T120000
DTEND;TZID=America/New_York:20250427T140000
DTSTAMP:20260424T094844
CREATED:20250117T050741Z
LAST-MODIFIED:20250307T204824Z
UID:2707-1745755200-1745762400@hikinghoundadventures.com
SUMMARY:Backpacking Fundamentals w/ Upper Providence Township
DESCRIPTION:This two-hour session focuses on key backpacking skills for beginners\, including campsite setup\, water filtration\, and Leave No Trace principles\, ensuring you’re ready for your next adventure.\nAges: 12+ (under 18 must registered and be accompanied by a registered adult)
URL:https://hikinghoundadventures.com/event/backpacking-fundamentals-w-upper-providence-township/
LOCATION:Louis Scott Memorial Park\, 998 Ridley Creek Road\, Media\, PA\, 19063\, United States
CATEGORIES:Course,Partnership Event
END:VEVENT
BEGIN:VEVENT
DTSTART;TZID=America/New_York:20250426T120000
DTEND;TZID=America/New_York:20250426T140000
DTSTAMP:20260424T094844
CREATED:20250117T050545Z
LAST-MODIFIED:20250117T050545Z
UID:2705-1745668800-1745676000@hikinghoundadventures.com
SUMMARY:Backpacking Fundamentals w/ Lower Merion Township
DESCRIPTION:This two-hour session focuses on key backpacking skills for beginners\, including campsite setup\, water filtration\, and Leave No Trace principles\, ensuring you’re ready for your next adventure.\nAges: 12+ (under 18 must registered and be accompanied by a registered adult)
URL:https://hikinghoundadventures.com/event/backpacking-fundamentals-w-lower-merion-township/
LOCATION:Rolling Hill Park\, 1301 Rose Glen Road\, Gladwyne\, PA\, 19035
CATEGORIES:Course,Partnership Event
END:VEVENT
BEGIN:VEVENT
DTSTART;TZID=America/New_York:20250426T100000
DTEND;TZID=America/New_York:20250426T110000
DTSTAMP:20260424T094844
CREATED:20250117T050358Z
LAST-MODIFIED:20250117T050358Z
UID:2701-1745661600-1745665200@hikinghoundadventures.com
SUMMARY:Little Tykes go on Hikes w/ Lower Merion Township
DESCRIPTION:This 45-minute course is designed for children (ages 3-12) and their guardians\, addressing common concerns about hiking with kids. Through engaging games and hands-on activities\, participants learn about outdoor safety\, trail selection\, packing essentials\, and Leave No Trace principles.\nAges: 3-12 (children under 3 free with another registered child\, all participants must be accompanied by an adult)
URL:https://hikinghoundadventures.com/event/little-tykes-go-on-hikes-w-lower-merion-township/
LOCATION:Rolling Hill Park\, 1301 Rose Glen Road\, Gladwyne\, PA\, 19035
CATEGORIES:Hike,Partnership Event
END:VEVENT
BEGIN:VEVENT
DTSTART;TZID=America/New_York:20250412T130000
DTEND;TZID=America/New_York:20250412T150000
DTSTAMP:20260424T094844
CREATED:20250117T045815Z
LAST-MODIFIED:20250117T045815Z
UID:2697-1744462800-1744470000@hikinghoundadventures.com
SUMMARY:Backpacking Fundamentals w/ Radnor Township
DESCRIPTION:This two-hour session focuses on key backpacking skills for beginners\, including campsite setup\, water filtration\, and Leave No Trace principles\, ensuring you’re ready for your next adventure.\nAges: 12+ (under 18 must registered and be accompanied by a registered adult)
URL:https://hikinghoundadventures.com/event/backpacking-fundamentals-w-radnor-township/
LOCATION:The Willows Park\, 490 Darby Paoli Road\, Villanova\, PA\, 19085\, United States
CATEGORIES:Course,Partnership Event
ORGANIZER;CN="Radnor Township Parks and Recreation":MAILTO:recreation@radnor.org
END:VEVENT
BEGIN:VEVENT
DTSTART;TZID=America/New_York:20250412T130000
DTEND;TZID=America/New_York:20250412T140000
DTSTAMP:20260424T094844
CREATED:20250117T045959Z
LAST-MODIFIED:20250307T204652Z
UID:2699-1744462800-1744466400@hikinghoundadventures.com
SUMMARY:Little Tykes go on Hikes w/ Upper Providence Township
DESCRIPTION:This 45-minute course is designed for children (ages 3-12) and their guardians\, addressing common concerns about hiking with kids. Through engaging games and hands-on activities\, participants learn about outdoor safety\, trail selection\, packing essentials\, and Leave No Trace principles.\nAges: 3-12 (children under 3 free with another registered child\, all participants must be accompanied by an adult)
URL:https://hikinghoundadventures.com/event/little-tykes-go-on-hikes-w-upper-providence-township-2/
LOCATION:Louis Scott Memorial Park\, 998 Ridley Creek Road\, Media\, PA\, 19063\, United States
CATEGORIES:Hike,Partnership Event
END:VEVENT
BEGIN:VEVENT
DTSTART;TZID=America/New_York:20250412T100000
DTEND;TZID=America/New_York:20250412T110000
DTSTAMP:20260424T094844
CREATED:20241228T215831Z
LAST-MODIFIED:20241228T215831Z
UID:2545-1744452000-1744455600@hikinghoundadventures.com
SUMMARY:Little Tykes go on Hikes! w/ Radnor Parks and Rec.
DESCRIPTION:Hiking with kids can be an intimidating topic. During this 45 minute course\, Hiking Hound Adventures\, LLC will be on the trail with little ones and their guardians to tackle some of the most asked questions surrounding taking kids into the woods. Through fun games and hands-on activities\, we cover safety\, choosing the right trail\, packing considerations\, and much more!  \nMain Topics: \n\nSafety\nPacking\nFun on-trail games and activities\nLeave No Trace\n\n***Recommended age is  3-12 years old\, but all ages are welcome- Price is per child. Children must be accompanied by an adult. Children under 3 years old are free when accompanying another registered child***
URL:https://hikinghoundadventures.com/event/little-tykes-go-on-hikes-w-radnor-parks-and-rec-6/
LOCATION:The Willows Park\, 490 Darby Paoli Road\, Villanova\, PA\, 19085\, United States
CATEGORIES:Hike,Partnership Event
ORGANIZER;CN="Radnor Township Parks and Recreation":MAILTO:recreation@radnor.org
END:VEVENT
END:VCALENDAR