BEGIN:VCALENDAR
VERSION:2.0
PRODID:-//Hiking Hound Adventures, LLC - ECPv6.15.20//NONSGML v1.0//EN
CALSCALE:GREGORIAN
METHOD:PUBLISH
X-WR-CALNAME:Hiking Hound Adventures, LLC
X-ORIGINAL-URL:https://hikinghoundadventures.com
X-WR-CALDESC:Events for Hiking Hound Adventures, LLC
REFRESH-INTERVAL;VALUE=DURATION:PT1H
X-Robots-Tag:noindex
X-PUBLISHED-TTL:PT1H
BEGIN:VTIMEZONE
TZID:America/New_York
BEGIN:DAYLIGHT
TZOFFSETFROM:-0500
TZOFFSETTO:-0400
TZNAME:EDT
DTSTART:20250309T070000
END:DAYLIGHT
BEGIN:STANDARD
TZOFFSETFROM:-0400
TZOFFSETTO:-0500
TZNAME:EST
DTSTART:20251102T060000
END:STANDARD
BEGIN:DAYLIGHT
TZOFFSETFROM:-0500
TZOFFSETTO:-0400
TZNAME:EDT
DTSTART:20260308T070000
END:DAYLIGHT
BEGIN:STANDARD
TZOFFSETFROM:-0400
TZOFFSETTO:-0500
TZNAME:EST
DTSTART:20261101T060000
END:STANDARD
BEGIN:DAYLIGHT
TZOFFSETFROM:-0500
TZOFFSETTO:-0400
TZNAME:EDT
DTSTART:20270314T070000
END:DAYLIGHT
BEGIN:STANDARD
TZOFFSETFROM:-0400
TZOFFSETTO:-0500
TZNAME:EST
DTSTART:20271107T060000
END:STANDARD
END:VTIMEZONE
BEGIN:VEVENT
DTSTART;TZID=America/New_York:20260512T160000
DTEND;TZID=America/New_York:20260512T160000
DTSTAMP:20260423T132228
CREATED:20260317T184147Z
LAST-MODIFIED:20260317T184147Z
UID:6141-1778601600-1778601600@hikinghoundadventures.com
SUMMARY:Afterschool Program
DESCRIPTION:
URL:https://hikinghoundadventures.com/event/afterschool-program-6/
CATEGORIES:Afterschool
END:VEVENT
BEGIN:VEVENT
DTSTART;TZID=America/New_York:20260516T090000
DTEND;TZID=America/New_York:20260516T090000
DTSTAMP:20260423T132228
CREATED:20251118T164817Z
LAST-MODIFIED:20251118T164817Z
UID:5133-1778922000-1778922000@hikinghoundadventures.com
SUMMARY:Pinchot Trial South: 2 Day\, 1 Night Backpacking Trip
DESCRIPTION:
URL:https://hikinghoundadventures.com/event/pinchot-trial-south-2-day-1-night-backpacking-trip-8/
CATEGORIES:Backpacking Trips
END:VEVENT
BEGIN:VEVENT
DTSTART;TZID=America/New_York:20260516T100000
DTEND;TZID=America/New_York:20260516T100000
DTSTAMP:20260423T132228
CREATED:20251118T164725Z
LAST-MODIFIED:20251118T164725Z
UID:5111-1778925600-1778925600@hikinghoundadventures.com
SUMMARY:Little Tykes go on Hikes- Springfield (MontCo)
DESCRIPTION:Storybook
URL:https://hikinghoundadventures.com/event/little-tykes-go-on-hikes-springfield-montco-2/
CATEGORIES:Little Tykes
END:VEVENT
BEGIN:VEVENT
DTSTART;TZID=America/New_York:20260516T110000
DTEND;TZID=America/New_York:20260516T110000
DTSTAMP:20260423T132228
CREATED:20251118T165142Z
LAST-MODIFIED:20251118T165142Z
UID:5188-1778929200-1778929200@hikinghoundadventures.com
SUMMARY:Yoga in the Park- Radnor
DESCRIPTION:
URL:https://hikinghoundadventures.com/event/yoga-in-the-park-radnor/
CATEGORIES:Yoga
END:VEVENT
BEGIN:VEVENT
DTSTART;TZID=America/New_York:20260516T120000
DTEND;TZID=America/New_York:20260516T120000
DTSTAMP:20260423T132228
CREATED:20251118T164720Z
LAST-MODIFIED:20251229T190811Z
UID:5103-1778932800-1778932800@hikinghoundadventures.com
SUMMARY:Little Tykes go on Hikes - Upper Providence
DESCRIPTION:Paint with Nature
URL:https://hikinghoundadventures.com/event/little-tykes-go-on-hikes-upper-providence-9/
CATEGORIES:Little Tykes
END:VEVENT
BEGIN:VEVENT
DTSTART;TZID=America/New_York:20260516T160000
DTEND;TZID=America/New_York:20260516T160000
DTSTAMP:20260423T132228
CREATED:20251118T164720Z
LAST-MODIFIED:20251229T191213Z
UID:5107-1778947200-1778947200@hikinghoundadventures.com
SUMMARY:Little Tykes go on Hikes- Lansdale Township
DESCRIPTION:Bingo
URL:https://hikinghoundadventures.com/event/little-tykes-go-on-hikes-lansdale-township-2/
CATEGORIES:Little Tykes
END:VEVENT
BEGIN:VEVENT
DTSTART;TZID=America/New_York:20260517T090000
DTEND;TZID=America/New_York:20260517T090000
DTSTAMP:20260423T132228
CREATED:20251118T164654Z
LAST-MODIFIED:20251229T190409Z
UID:5086-1779008400-1779008400@hikinghoundadventures.com
SUMMARY:Little Tykes go on Hikes - Phoenixville
DESCRIPTION:Treasure Hunt
URL:https://hikinghoundadventures.com/event/little-tykes-go-on-hikes-phoenixville-7/
CATEGORIES:Little Tykes
END:VEVENT
BEGIN:VEVENT
DTSTART;TZID=America/New_York:20260517T090000
DTEND;TZID=America/New_York:20260517T090000
DTSTAMP:20260423T132228
CREATED:20251118T164817Z
LAST-MODIFIED:20251118T164817Z
UID:5134-1779008400-1779008400@hikinghoundadventures.com
SUMMARY:Pinchot Trial South: 2 Day\, 1 Night Backpacking Trip
DESCRIPTION:
URL:https://hikinghoundadventures.com/event/pinchot-trial-south-2-day-1-night-backpacking-trip-9/
CATEGORIES:Backpacking Trips
END:VEVENT
BEGIN:VEVENT
DTSTART;TZID=America/New_York:20260517T170000
DTEND;TZID=America/New_York:20260517T170000
DTSTAMP:20260423T132228
CREATED:20251118T164619Z
LAST-MODIFIED:20251229T190124Z
UID:5070-1779037200-1779037200@hikinghoundadventures.com
SUMMARY:Kids Introduction to Fishing- Radnor
DESCRIPTION:
URL:https://hikinghoundadventures.com/event/kids-introduction-to-fishing-radnor-3/
CATEGORIES:Fishing
END:VEVENT
BEGIN:VEVENT
DTSTART;TZID=America/New_York:20260518T100000
DTEND;TZID=America/New_York:20260518T100000
DTSTAMP:20260423T132228
CREATED:20251118T164304Z
LAST-MODIFIED:20251229T185641Z
UID:5009-1779098400-1779098400@hikinghoundadventures.com
SUMMARY:2 Day Virtual Leave No Trace Level 1 Instructor Course
DESCRIPTION:
URL:https://hikinghoundadventures.com/event/2-day-virtual-leave-no-trace-level-1-instructor-course-16/
CATEGORIES:LNT
END:VEVENT
BEGIN:VEVENT
DTSTART;TZID=America/New_York:20260519T100000
DTEND;TZID=America/New_York:20260519T100000
DTSTAMP:20260423T132228
CREATED:20251118T164304Z
LAST-MODIFIED:20251229T185641Z
UID:5010-1779184800-1779184800@hikinghoundadventures.com
SUMMARY:2 Day Virtual Leave No Trace Level 1 Instructor Course
DESCRIPTION:
URL:https://hikinghoundadventures.com/event/2-day-virtual-leave-no-trace-level-1-instructor-course-17/
CATEGORIES:LNT
END:VEVENT
BEGIN:VEVENT
DTSTART;TZID=America/New_York:20260519T110000
DTEND;TZID=America/New_York:20260519T110000
DTSTAMP:20260423T132228
CREATED:20251229T191012Z
LAST-MODIFIED:20251229T191012Z
UID:5639-1779188400-1779188400@hikinghoundadventures.com
SUMMARY:Little Tykes go on Hikes - Westtown Township
DESCRIPTION:Storybook
URL:https://hikinghoundadventures.com/event/little-tykes-go-on-hikes-westtown-township-13/
CATEGORIES:Little Tykes
END:VEVENT
BEGIN:VEVENT
DTSTART;TZID=America/New_York:20260520T170000
DTEND;TZID=America/New_York:20260520T170000
DTSTAMP:20260423T132228
CREATED:20251118T164710Z
LAST-MODIFIED:20251229T190610Z
UID:5096-1779296400-1779296400@hikinghoundadventures.com
SUMMARY:Little Tykes go on Hikes - Radnor Township
DESCRIPTION:Treasure Hunt
URL:https://hikinghoundadventures.com/event/little-tykes-go-on-hikes-radnor-township-13/
CATEGORIES:Little Tykes
END:VEVENT
BEGIN:VEVENT
DTSTART;TZID=America/New_York:20260521T180000
DTEND;TZID=America/New_York:20260521T180000
DTSTAMP:20260423T132228
CREATED:20251229T185952Z
LAST-MODIFIED:20251229T185952Z
UID:5579-1779386400-1779386400@hikinghoundadventures.com
SUMMARY:Crochet Walk- Upper Providence
DESCRIPTION:
URL:https://hikinghoundadventures.com/event/crochet-walk-upper-providence-2/
CATEGORIES:Crochet
END:VEVENT
BEGIN:VEVENT
DTSTART;TZID=America/New_York:20260523T090000
DTEND;TZID=America/New_York:20260523T090000
DTSTAMP:20260423T132228
CREATED:20260317T184827Z
LAST-MODIFIED:20260317T184827Z
UID:6175-1779526800-1779526800@hikinghoundadventures.com
SUMMARY:Yoga in the Park- Warrington Township
DESCRIPTION:
URL:https://hikinghoundadventures.com/event/yoga-in-the-park-warrington-township-2/
CATEGORIES:Yoga
END:VEVENT
BEGIN:VEVENT
DTSTART;TZID=America/New_York:20260526T180000
DTEND;TZID=America/New_York:20260526T180000
DTSTAMP:20260423T132228
CREATED:20251229T185922Z
LAST-MODIFIED:20251229T185922Z
UID:5570-1779818400-1779818400@hikinghoundadventures.com
SUMMARY:Backcountry Gourmet- Upper Providence
DESCRIPTION:
URL:https://hikinghoundadventures.com/event/backcountry-gourmet-upper-providence/
CATEGORIES:Backcountry Gourmet
END:VEVENT
BEGIN:VEVENT
DTSTART;TZID=America/New_York:20260528T180000
DTEND;TZID=America/New_York:20260528T180000
DTSTAMP:20260423T132228
CREATED:20251118T164533Z
LAST-MODIFIED:20251229T190022Z
UID:5053-1779991200-1779991200@hikinghoundadventures.com
SUMMARY:Introduction to Camping- Upper Providence
DESCRIPTION:
URL:https://hikinghoundadventures.com/event/introduction-to-camping-upper-providence-2/
CATEGORIES:Intro to Camping
END:VEVENT
BEGIN:VEVENT
DTSTART;TZID=America/New_York:20260530T090000
DTEND;TZID=America/New_York:20260530T090000
DTSTAMP:20260423T132228
CREATED:20251229T190037Z
LAST-MODIFIED:20251229T190037Z
UID:5592-1780131600-1780131600@hikinghoundadventures.com
SUMMARY:Introduction to Kayaking- ACA Level 1 – Susquehanna River
DESCRIPTION:
URL:https://hikinghoundadventures.com/event/introduction-to-kayaking-aca-level-1-susquehanna-river-3/
CATEGORIES:ACA Course
END:VEVENT
BEGIN:VEVENT
DTSTART;TZID=America/New_York:20260604T180000
DTEND;TZID=America/New_York:20260604T180000
DTSTAMP:20260423T132228
CREATED:20251118T164953Z
LAST-MODIFIED:20251118T164953Z
UID:5184-1780596000-1780596000@hikinghoundadventures.com
SUMMARY:Wilderness Navigation: Learning Map and Compass - Upper Providence
DESCRIPTION:
URL:https://hikinghoundadventures.com/event/wilderness-navigation-learning-map-and-compass-upper-providence-4/
CATEGORIES:Wilderness Navigation
END:VEVENT
BEGIN:VEVENT
DTSTART;TZID=America/New_York:20260605T173000
DTEND;TZID=America/New_York:20260605T173000
DTSTAMP:20260423T132228
CREATED:20260317T184406Z
LAST-MODIFIED:20260317T184406Z
UID:6156-1780680600-1780680600@hikinghoundadventures.com
SUMMARY:Phoenixville First Friday
DESCRIPTION:
URL:https://hikinghoundadventures.com/event/phoenixville-first-friday-2/
CATEGORIES:Community Event
END:VEVENT
BEGIN:VEVENT
DTSTART;TZID=America/New_York:20260606T110000
DTEND;TZID=America/New_York:20260606T110000
DTSTAMP:20260423T132228
CREATED:20251118T165142Z
LAST-MODIFIED:20251118T165142Z
UID:5189-1780743600-1780743600@hikinghoundadventures.com
SUMMARY:Yoga in the Park- Radnor
DESCRIPTION:
URL:https://hikinghoundadventures.com/event/yoga-in-the-park-radnor-2/
CATEGORIES:Yoga
END:VEVENT
BEGIN:VEVENT
DTSTART;TZID=America/New_York:20260607T100000
DTEND;TZID=America/New_York:20260607T100000
DTSTAMP:20260423T132228
CREATED:20251118T164901Z
LAST-MODIFIED:20251118T164901Z
UID:5148-1780826400-1780826400@hikinghoundadventures.com
SUMMARY:SUP Yoga- Swarthmore Swim Club
DESCRIPTION:
URL:https://hikinghoundadventures.com/event/sup-yoga-swarthmore-swim-club/
CATEGORIES:Yoga
END:VEVENT
BEGIN:VEVENT
DTSTART;TZID=America/New_York:20260607T180000
DTEND;TZID=America/New_York:20260607T180000
DTSTAMP:20260423T132228
CREATED:20251229T185952Z
LAST-MODIFIED:20251229T185952Z
UID:5577-1780855200-1780855200@hikinghoundadventures.com
SUMMARY:Crochet Walk- Lower Makefield
DESCRIPTION:
URL:https://hikinghoundadventures.com/event/crochet-walk-lower-makefield/
CATEGORIES:Crochet
END:VEVENT
BEGIN:VEVENT
DTSTART;TZID=America/New_York:20260608T180000
DTEND;TZID=America/New_York:20260608T180000
DTSTAMP:20260423T132228
CREATED:20251118T164618Z
LAST-MODIFIED:20251229T190124Z
UID:5068-1780941600-1780941600@hikinghoundadventures.com
SUMMARY:Kids Introduction to Fishing- Lansdale Township
DESCRIPTION:
URL:https://hikinghoundadventures.com/event/kids-introduction-to-fishing-lansdale-township-3/
CATEGORIES:Fishing
END:VEVENT
BEGIN:VEVENT
DTSTART;TZID=America/New_York:20260609T180000
DTEND;TZID=America/New_York:20260609T180000
DTSTAMP:20260423T132228
CREATED:20251118T164639Z
LAST-MODIFIED:20251229T190152Z
UID:5078-1781028000-1781028000@hikinghoundadventures.com
SUMMARY:Kids Introduction to Fishing- Upper Providence
DESCRIPTION:
URL:https://hikinghoundadventures.com/event/kids-introduction-to-fishing-upper-providence-3/
CATEGORIES:Fishing
END:VEVENT
BEGIN:VEVENT
DTSTART;TZID=America/New_York:20260610T180000
DTEND;TZID=America/New_York:20260610T180000
DTSTAMP:20260423T132228
CREATED:20251229T185952Z
LAST-MODIFIED:20251229T185952Z
UID:5580-1781114400-1781114400@hikinghoundadventures.com
SUMMARY:Crochet Walk- Upper Providence
DESCRIPTION:
URL:https://hikinghoundadventures.com/event/crochet-walk-upper-providence-3/
CATEGORIES:Crochet
END:VEVENT
BEGIN:VEVENT
DTSTART;TZID=America/New_York:20260610T180000
DTEND;TZID=America/New_York:20260610T180000
DTSTAMP:20260423T132228
CREATED:20260317T184826Z
LAST-MODIFIED:20260317T184826Z
UID:6172-1781114400-1781114400@hikinghoundadventures.com
SUMMARY:Women in the Wild Virtual Introduction to Backpacking
DESCRIPTION:
URL:https://hikinghoundadventures.com/event/women-in-the-wild-virtual-introduction-to-backpacking/
CATEGORIES:Course
END:VEVENT
BEGIN:VEVENT
DTSTART;TZID=America/New_York:20260611T180000
DTEND;TZID=America/New_York:20260611T180000
DTSTAMP:20260423T132228
CREATED:20251229T190007Z
LAST-MODIFIED:20251229T190007Z
UID:5586-1781200800-1781200800@hikinghoundadventures.com
SUMMARY:Introduction to Camping- Lower Makefield
DESCRIPTION:
URL:https://hikinghoundadventures.com/event/introduction-to-camping-lower-makefield/
CATEGORIES:Intro to Camping
END:VEVENT
BEGIN:VEVENT
DTSTART;TZID=America/New_York:20260611T180000
DTEND;TZID=America/New_York:20260611T180000
DTSTAMP:20260423T132228
CREATED:20260117T214030Z
LAST-MODIFIED:20260117T214030Z
UID:5773-1781200800-1781200800@hikinghoundadventures.com
SUMMARY:Paddling Fundamentals- Phoenixville
DESCRIPTION:
URL:https://hikinghoundadventures.com/event/paddling-fundamentals-phoenixville/
CATEGORIES:ACA Course,Paddle
END:VEVENT
BEGIN:VEVENT
DTSTART;TZID=America/New_York:20260613T090000
DTEND;TZID=America/New_York:20260613T090000
DTSTAMP:20260423T132228
CREATED:20260317T185026Z
LAST-MODIFIED:20260317T185026Z
UID:6176-1781341200-1781341200@hikinghoundadventures.com
SUMMARY:Yoga in the Park- Warrington Township
DESCRIPTION:
URL:https://hikinghoundadventures.com/event/yoga-in-the-park-warrington-township-3/
CATEGORIES:Yoga
END:VEVENT
END:VCALENDAR