BEGIN:VCALENDAR
VERSION:2.0
PRODID:-//Hiking Hound Adventures, LLC - ECPv6.15.20//NONSGML v1.0//EN
CALSCALE:GREGORIAN
METHOD:PUBLISH
X-WR-CALNAME:Hiking Hound Adventures, LLC
X-ORIGINAL-URL:https://hikinghoundadventures.com
X-WR-CALDESC:Events for Hiking Hound Adventures, LLC
REFRESH-INTERVAL;VALUE=DURATION:PT1H
X-Robots-Tag:noindex
X-PUBLISHED-TTL:PT1H
BEGIN:VTIMEZONE
TZID:America/New_York
BEGIN:DAYLIGHT
TZOFFSETFROM:-0500
TZOFFSETTO:-0400
TZNAME:EDT
DTSTART:20250309T070000
END:DAYLIGHT
BEGIN:STANDARD
TZOFFSETFROM:-0400
TZOFFSETTO:-0500
TZNAME:EST
DTSTART:20251102T060000
END:STANDARD
BEGIN:DAYLIGHT
TZOFFSETFROM:-0500
TZOFFSETTO:-0400
TZNAME:EDT
DTSTART:20260308T070000
END:DAYLIGHT
BEGIN:STANDARD
TZOFFSETFROM:-0400
TZOFFSETTO:-0500
TZNAME:EST
DTSTART:20261101T060000
END:STANDARD
BEGIN:DAYLIGHT
TZOFFSETFROM:-0500
TZOFFSETTO:-0400
TZNAME:EDT
DTSTART:20270314T070000
END:DAYLIGHT
BEGIN:STANDARD
TZOFFSETFROM:-0400
TZOFFSETTO:-0500
TZNAME:EST
DTSTART:20271107T060000
END:STANDARD
END:VTIMEZONE
BEGIN:VEVENT
DTSTART;TZID=America/New_York:20260430T160000
DTEND;TZID=America/New_York:20260430T160000
DTSTAMP:20260423T192333
CREATED:20251118T164437Z
LAST-MODIFIED:20251229T185907Z
UID:5047-1777564800-1777564800@hikinghoundadventures.com
SUMMARY:Afterschool Program- Wayne Elementary
DESCRIPTION:
URL:https://hikinghoundadventures.com/event/afterschool-program-wayne-elementary-14/
CATEGORIES:Afterschool
END:VEVENT
BEGIN:VEVENT
DTSTART;TZID=America/New_York:20260430T090000
DTEND;TZID=America/New_York:20260430T090000
DTSTAMP:20260423T192333
CREATED:20251118T164654Z
LAST-MODIFIED:20251118T164655Z
UID:5083-1777539600-1777539600@hikinghoundadventures.com
SUMMARY:Leave No Trace Level 1 Instructor Course- 2 Day Canoe Based
DESCRIPTION:
URL:https://hikinghoundadventures.com/event/leave-no-trace-level-1-instructor-course-2-day-canoe-based-2/
CATEGORIES:LNT,paddling trips
END:VEVENT
BEGIN:VEVENT
DTSTART;TZID=America/New_York:20260429T090000
DTEND;TZID=America/New_York:20260429T090000
DTSTAMP:20260423T192333
CREATED:20251118T164640Z
LAST-MODIFIED:20251118T164640Z
UID:5082-1777453200-1777453200@hikinghoundadventures.com
SUMMARY:Leave No Trace Level 1 Instructor Course- 2 Day Canoe Based
DESCRIPTION:
URL:https://hikinghoundadventures.com/event/leave-no-trace-level-1-instructor-course-2-day-canoe-based/
CATEGORIES:LNT,paddling trips
END:VEVENT
BEGIN:VEVENT
DTSTART;TZID=America/New_York:20260428T160000
DTEND;TZID=America/New_York:20260428T160000
DTSTAMP:20260423T192333
CREATED:20260317T184145Z
LAST-MODIFIED:20260317T184145Z
UID:6139-1777392000-1777392000@hikinghoundadventures.com
SUMMARY:Afterschool Program
DESCRIPTION:
URL:https://hikinghoundadventures.com/event/afterschool-program-4/
CATEGORIES:Afterschool
END:VEVENT
BEGIN:VEVENT
DTSTART;TZID=America/New_York:20260423T173000
DTEND;TZID=America/New_York:20260423T173000
DTSTAMP:20260423T192333
CREATED:20260317T184148Z
LAST-MODIFIED:20260317T184148Z
UID:6145-1776965400-1776965400@hikinghoundadventures.com
SUMMARY:Introduction to Hiking with Kids @ Trail Creek Outfitters
DESCRIPTION:
URL:https://hikinghoundadventures.com/event/introduction-to-hiking-with-kids-trail-creek-outfitters/
CATEGORIES:Community Event,Course
END:VEVENT
BEGIN:VEVENT
DTSTART;TZID=America/New_York:20260423T160000
DTEND;TZID=America/New_York:20260423T160000
DTSTAMP:20260423T192333
CREATED:20251118T164437Z
LAST-MODIFIED:20251229T185907Z
UID:5046-1776960000-1776960000@hikinghoundadventures.com
SUMMARY:Afterschool Program- Wayne Elementary
DESCRIPTION:
URL:https://hikinghoundadventures.com/event/afterschool-program-wayne-elementary-13/
CATEGORIES:Afterschool
END:VEVENT
BEGIN:VEVENT
DTSTART;TZID=America/New_York:20260422T173000
DTEND;TZID=America/New_York:20260422T173000
DTSTAMP:20260423T192333
CREATED:20260317T184151Z
LAST-MODIFIED:20260317T184151Z
UID:6146-1776879000-1776879000@hikinghoundadventures.com
SUMMARY:Kid's Introduction to Fishing -Warrington Township
DESCRIPTION:
URL:https://hikinghoundadventures.com/event/kids-introduction-to-fishing-warrington-township/
CATEGORIES:Fishing
END:VEVENT
BEGIN:VEVENT
DTSTART;TZID=America/New_York:20260421T173000
DTEND;TZID=America/New_York:20260421T173000
DTSTAMP:20260423T192333
CREATED:20251118T164635Z
LAST-MODIFIED:20251229T190137Z
UID:5076-1776792600-1776792600@hikinghoundadventures.com
SUMMARY:Kids Introduction to Fishing- Upper Providence
DESCRIPTION:
URL:https://hikinghoundadventures.com/event/kids-introduction-to-fishing-upper-providence/
CATEGORIES:Fishing
END:VEVENT
BEGIN:VEVENT
DTSTART;TZID=America/New_York:20260421T160000
DTEND;TZID=America/New_York:20260421T160000
DTSTAMP:20260423T192333
CREATED:20260317T184144Z
LAST-MODIFIED:20260317T184144Z
UID:6138-1776787200-1776787200@hikinghoundadventures.com
SUMMARY:Afterschool Program
DESCRIPTION:
URL:https://hikinghoundadventures.com/event/afterschool-program-3/
CATEGORIES:Afterschool
END:VEVENT
BEGIN:VEVENT
DTSTART;TZID=America/New_York:20260419T180000
DTEND;TZID=America/New_York:20260419T180000
DTSTAMP:20260423T192333
CREATED:20260317T184147Z
LAST-MODIFIED:20260317T184147Z
UID:6142-1776621600-1776621600@hikinghoundadventures.com
SUMMARY:Campfire Crimes: Outdoor Murder Mystery - Upper Providence
DESCRIPTION:
URL:https://hikinghoundadventures.com/event/campfire-crimes-outdoor-murder-mystery-upper-providence/
CATEGORIES:Trail Detectives
END:VEVENT
BEGIN:VEVENT
DTSTART;TZID=America/New_York:20260419T163000
DTEND;TZID=America/New_York:20260419T163000
DTSTAMP:20260423T192333
CREATED:20260317T184607Z
LAST-MODIFIED:20260317T184607Z
UID:6163-1776616200-1776616200@hikinghoundadventures.com
SUMMARY:Secrets of the Trail – A Treasure Hunt Adventure- Upper Providence
DESCRIPTION:
URL:https://hikinghoundadventures.com/event/secrets-of-the-trail-a-treasure-hunt-adventure-upper-providence/
CATEGORIES:Trail Detectives
END:VEVENT
BEGIN:VEVENT
DTSTART;TZID=America/New_York:20260419T130000
DTEND;TZID=America/New_York:20260419T130000
DTSTAMP:20260423T192333
CREATED:20251229T191012Z
LAST-MODIFIED:20251229T191012Z
UID:5638-1776603600-1776603600@hikinghoundadventures.com
SUMMARY:Little Tykes go on Hikes - Westtown Township
DESCRIPTION:Bingo
URL:https://hikinghoundadventures.com/event/little-tykes-go-on-hikes-westtown-township-12/
CATEGORIES:Little Tykes
END:VEVENT
BEGIN:VEVENT
DTSTART;TZID=America/New_York:20260419T120000
DTEND;TZID=America/New_York:20260419T120000
DTSTAMP:20260423T192333
CREATED:20251229T185922Z
LAST-MODIFIED:20251229T185922Z
UID:5571-1776600000-1776600000@hikinghoundadventures.com
SUMMARY:Backpacking Fundamentals - Upper Providence
DESCRIPTION:
URL:https://hikinghoundadventures.com/event/backpacking-fundamentals-upper-providence-2/
CATEGORIES:Backpacking Fundamentals
END:VEVENT
BEGIN:VEVENT
DTSTART;TZID=America/New_York:20260419T100000
DTEND;TZID=America/New_York:20260419T100000
DTSTAMP:20260423T192333
CREATED:20260317T184607Z
LAST-MODIFIED:20260317T184607Z
UID:6162-1776592800-1776592800@hikinghoundadventures.com
SUMMARY:Private Fishing Party
DESCRIPTION:
URL:https://hikinghoundadventures.com/event/private-fishing-party/
CATEGORIES:Private Event
END:VEVENT
BEGIN:VEVENT
DTSTART;TZID=America/New_York:20260418T120000
DTEND;TZID=America/New_York:20260418T120000
DTSTAMP:20260423T192333
CREATED:20251118T164710Z
LAST-MODIFIED:20251229T190409Z
UID:5095-1776513600-1776513600@hikinghoundadventures.com
SUMMARY:Little Tykes go on Hikes - Radnor Township
DESCRIPTION:Bingo
URL:https://hikinghoundadventures.com/event/little-tykes-go-on-hikes-radnor-township-12/
CATEGORIES:Little Tykes
END:VEVENT
BEGIN:VEVENT
DTSTART;TZID=America/New_York:20260418T110000
DTEND;TZID=America/New_York:20260418T110000
DTSTAMP:20260423T192333
CREATED:20260317T184626Z
LAST-MODIFIED:20260317T184626Z
UID:6169-1776510000-1776510000@hikinghoundadventures.com
SUMMARY:Upper Merion Earth Day Community Event
DESCRIPTION:
URL:https://hikinghoundadventures.com/event/upper-merion-earth-day-community-event/
CATEGORIES:Community Event
END:VEVENT
BEGIN:VEVENT
DTSTART;TZID=America/New_York:20260418T100000
DTEND;TZID=America/New_York:20260418T100000
DTSTAMP:20260423T192333
CREATED:20251118T164725Z
LAST-MODIFIED:20251118T164725Z
UID:5110-1776506400-1776506400@hikinghoundadventures.com
SUMMARY:Little Tykes go on Hikes- Springfield (MontCo)
DESCRIPTION:Bingo
URL:https://hikinghoundadventures.com/event/little-tykes-go-on-hikes-springfield-montco/
CATEGORIES:Little Tykes
END:VEVENT
BEGIN:VEVENT
DTSTART;TZID=America/New_York:20260417T100000
DTEND;TZID=America/New_York:20260417T100000
DTSTAMP:20260423T192333
CREATED:20251118T164304Z
LAST-MODIFIED:20251229T185641Z
UID:5008-1776420000-1776420000@hikinghoundadventures.com
SUMMARY:2 Day Virtual Leave No Trace Level 1 Instructor Course
DESCRIPTION:
URL:https://hikinghoundadventures.com/event/2-day-virtual-leave-no-trace-level-1-instructor-course-15/
CATEGORIES:LNT
END:VEVENT
BEGIN:VEVENT
DTSTART;TZID=America/New_York:20260416T160000
DTEND;TZID=America/New_York:20260416T160000
DTSTAMP:20260423T192333
CREATED:20251118T164437Z
LAST-MODIFIED:20251229T185907Z
UID:5045-1776355200-1776355200@hikinghoundadventures.com
SUMMARY:Afterschool Program- Wayne Elementary
DESCRIPTION:
URL:https://hikinghoundadventures.com/event/afterschool-program-wayne-elementary-12/
CATEGORIES:Afterschool
END:VEVENT
BEGIN:VEVENT
DTSTART;TZID=America/New_York:20260416T100000
DTEND;TZID=America/New_York:20260416T100000
DTSTAMP:20260423T192333
CREATED:20251118T164302Z
LAST-MODIFIED:20251229T185639Z
UID:5007-1776333600-1776333600@hikinghoundadventures.com
SUMMARY:2 Day Virtual Leave No Trace Level 1 Instructor Course
DESCRIPTION:
URL:https://hikinghoundadventures.com/event/2-day-virtual-leave-no-trace-level-1-instructor-course-14/
CATEGORIES:LNT
END:VEVENT
BEGIN:VEVENT
DTSTART;TZID=America/New_York:20260415T103000
DTEND;TZID=America/New_York:20260415T103000
DTSTAMP:20260423T192333
CREATED:20260317T184626Z
LAST-MODIFIED:20260317T184626Z
UID:6170-1776249000-1776249000@hikinghoundadventures.com
SUMMARY:Wayne Elementary Earth Day Event
DESCRIPTION:
URL:https://hikinghoundadventures.com/event/wayne-elementary-earth-day-event/
CATEGORIES:Community Event
END:VEVENT
BEGIN:VEVENT
DTSTART;TZID=America/New_York:20260414T173000
DTEND;TZID=America/New_York:20260414T173000
DTSTAMP:20260423T192333
CREATED:20251229T185952Z
LAST-MODIFIED:20251229T185952Z
UID:5578-1776187800-1776187800@hikinghoundadventures.com
SUMMARY:Crochet Walk- Upper Providence
DESCRIPTION:
URL:https://hikinghoundadventures.com/event/crochet-walk-upper-providence/
CATEGORIES:Crochet
END:VEVENT
BEGIN:VEVENT
DTSTART;TZID=America/New_York:20260414T160000
DTEND;TZID=America/New_York:20260414T160000
DTSTAMP:20260423T192333
CREATED:20260317T184144Z
LAST-MODIFIED:20260317T184144Z
UID:6137-1776182400-1776182400@hikinghoundadventures.com
SUMMARY:Afterschool Program
DESCRIPTION:
URL:https://hikinghoundadventures.com/event/afterschool-program-2/
CATEGORIES:Afterschool
END:VEVENT
BEGIN:VEVENT
DTSTART;TZID=America/New_York:20260412T160000
DTEND;TZID=America/New_York:20260412T160000
DTSTAMP:20260423T192333
CREATED:20251118T164604Z
LAST-MODIFIED:20251229T190107Z
UID:5066-1776009600-1776009600@hikinghoundadventures.com
SUMMARY:Kids Introduction to Fishing- Lansdale Township
DESCRIPTION:
URL:https://hikinghoundadventures.com/event/kids-introduction-to-fishing-lansdale-township/
CATEGORIES:Fishing
END:VEVENT
BEGIN:VEVENT
DTSTART;TZID=America/New_York:20260412T140000
DTEND;TZID=America/New_York:20260412T140000
DTSTAMP:20260423T192333
CREATED:20251118T164712Z
LAST-MODIFIED:20251229T190811Z
UID:5102-1776002400-1776002400@hikinghoundadventures.com
SUMMARY:Little Tykes go on Hikes - Upper Providence
DESCRIPTION:Bingo
URL:https://hikinghoundadventures.com/event/little-tykes-go-on-hikes-upper-providence-8/
CATEGORIES:Little Tykes
END:VEVENT
BEGIN:VEVENT
DTSTART;TZID=America/New_York:20260412T110000
DTEND;TZID=America/New_York:20260412T110000
DTSTAMP:20260423T192333
CREATED:20251118T164725Z
LAST-MODIFIED:20251118T164725Z
UID:5112-1775991600-1775991600@hikinghoundadventures.com
SUMMARY:Mindfulness\, Meditation & Movement Hike - Radnor Township
DESCRIPTION:
URL:https://hikinghoundadventures.com/event/mindfulness-meditation-movement-hike-radnor-township-2/
CATEGORIES:Mindfulness
END:VEVENT
BEGIN:VEVENT
DTSTART;TZID=America/New_York:20260412T110000
DTEND;TZID=America/New_York:20260412T110000
DTSTAMP:20260423T192333
CREATED:20251118T164720Z
LAST-MODIFIED:20251229T191213Z
UID:5106-1775991600-1775991600@hikinghoundadventures.com
SUMMARY:Little Tykes go on Hikes- Lansdale Township
DESCRIPTION:Scavenger Hunt
URL:https://hikinghoundadventures.com/event/little-tykes-go-on-hikes-lansdale-township/
CATEGORIES:Little Tykes
END:VEVENT
BEGIN:VEVENT
DTSTART;TZID=America/New_York:20260412T100000
DTEND;TZID=America/New_York:20260412T100000
DTSTAMP:20260423T192333
CREATED:20251118T164853Z
LAST-MODIFIED:20251118T164853Z
UID:5144-1775988000-1775988000@hikinghoundadventures.com
SUMMARY:Practical Bushcraft- Upper Providence
DESCRIPTION:
URL:https://hikinghoundadventures.com/event/practical-bushcraft-upper-providence-2/
CATEGORIES:Bushcraft
END:VEVENT
BEGIN:VEVENT
DTSTART;TZID=America/New_York:20260412T090000
DTEND;TZID=America/New_York:20260412T090000
DTSTAMP:20260423T192333
CREATED:20251118T164654Z
LAST-MODIFIED:20251229T190208Z
UID:5085-1775984400-1775984400@hikinghoundadventures.com
SUMMARY:Little Tykes go on Hikes - Phoenixville
DESCRIPTION:Bingo
URL:https://hikinghoundadventures.com/event/little-tykes-go-on-hikes-phoenixville-6/
CATEGORIES:Little Tykes
END:VEVENT
BEGIN:VEVENT
DTSTART;TZID=America/New_York:20260411T180000
DTEND;TZID=America/New_York:20260411T180000
DTSTAMP:20260423T192333
CREATED:20251229T185922Z
LAST-MODIFIED:20251229T185922Z
UID:5569-1775930400-1775930400@hikinghoundadventures.com
SUMMARY:Backcountry Gourmet- Haverford Township
DESCRIPTION:
URL:https://hikinghoundadventures.com/event/backcountry-gourmet-haverford-township/
CATEGORIES:Backcountry Gourmet
END:VEVENT
END:VCALENDAR