BEGIN:VCALENDAR
VERSION:2.0
PRODID:-//Hiking Hound Adventures, LLC - ECPv6.15.20//NONSGML v1.0//EN
CALSCALE:GREGORIAN
METHOD:PUBLISH
X-WR-CALNAME:Hiking Hound Adventures, LLC
X-ORIGINAL-URL:https://hikinghoundadventures.com
X-WR-CALDESC:Events for Hiking Hound Adventures, LLC
REFRESH-INTERVAL;VALUE=DURATION:PT1H
X-Robots-Tag:noindex
X-PUBLISHED-TTL:PT1H
BEGIN:VTIMEZONE
TZID:America/New_York
BEGIN:DAYLIGHT
TZOFFSETFROM:-0500
TZOFFSETTO:-0400
TZNAME:EDT
DTSTART:20240310T070000
END:DAYLIGHT
BEGIN:STANDARD
TZOFFSETFROM:-0400
TZOFFSETTO:-0500
TZNAME:EST
DTSTART:20241103T060000
END:STANDARD
BEGIN:DAYLIGHT
TZOFFSETFROM:-0500
TZOFFSETTO:-0400
TZNAME:EDT
DTSTART:20250309T070000
END:DAYLIGHT
BEGIN:STANDARD
TZOFFSETFROM:-0400
TZOFFSETTO:-0500
TZNAME:EST
DTSTART:20251102T060000
END:STANDARD
BEGIN:DAYLIGHT
TZOFFSETFROM:-0500
TZOFFSETTO:-0400
TZNAME:EDT
DTSTART:20260308T070000
END:DAYLIGHT
BEGIN:STANDARD
TZOFFSETFROM:-0400
TZOFFSETTO:-0500
TZNAME:EST
DTSTART:20261101T060000
END:STANDARD
END:VTIMEZONE
BEGIN:VEVENT
DTSTART;TZID=America/New_York:20251023T170000
DTEND;TZID=America/New_York:20251023T170000
DTSTAMP:20260423T192856
CREATED:20251013T173234Z
LAST-MODIFIED:20251013T173234Z
UID:4581-1761238800-1761238800@hikinghoundadventures.com
SUMMARY:Kids Intro to Fishing- Upper Darby
DESCRIPTION:
URL:https://hikinghoundadventures.com/event/kids-intro-to-fishing-upper-darby/
CATEGORIES:Fishing
END:VEVENT
BEGIN:VEVENT
DTSTART;TZID=America/New_York:20251021T153000
DTEND;TZID=America/New_York:20251021T153000
DTSTAMP:20260423T192856
CREATED:20251013T173233Z
LAST-MODIFIED:20251013T173233Z
UID:4580-1761060600-1761060600@hikinghoundadventures.com
SUMMARY:Upper Darby Afterschool Program
DESCRIPTION:
URL:https://hikinghoundadventures.com/event/upper-darby-afterschool-program-2/
END:VEVENT
BEGIN:VEVENT
DTSTART;TZID=America/New_York:20251021T100000
DTEND;TZID=America/New_York:20251021T100000
DTSTAMP:20260423T192856
CREATED:20251013T173231Z
LAST-MODIFIED:20251013T174046Z
UID:4579-1761040800-1761040800@hikinghoundadventures.com
SUMMARY:2 Day Virtual Leave No Trace Level 1 Instructor Course
DESCRIPTION:
URL:https://hikinghoundadventures.com/event/2-day-virtual-leave-no-trace-level-1-instructor-course-5/
CATEGORIES:LNT
END:VEVENT
BEGIN:VEVENT
DTSTART;TZID=America/New_York:20251020T100000
DTEND;TZID=America/New_York:20251020T100000
DTSTAMP:20260423T192856
CREATED:20251013T173229Z
LAST-MODIFIED:20251013T173229Z
UID:4578-1760954400-1760954400@hikinghoundadventures.com
SUMMARY:2 Day Virtual Leave No Trace Level 1 Instructor Course
DESCRIPTION:
URL:https://hikinghoundadventures.com/event/2-day-virtual-leave-no-trace-level-1-instructor-course-4/
CATEGORIES:LNT
END:VEVENT
BEGIN:VEVENT
DTSTART;TZID=America/New_York:20251019T180000
DTEND;TZID=America/New_York:20251019T180000
DTSTAMP:20260423T192856
CREATED:20251013T173222Z
LAST-MODIFIED:20251015T164956Z
UID:4577-1760896800-1760896800@hikinghoundadventures.com
SUMMARY:Little Tykes go on Hikes - Radnor Township
DESCRIPTION:Costume Hike
URL:https://hikinghoundadventures.com/event/little-tykes-go-on-hikes-radnor-township-10/
CATEGORIES:Little Tykes
END:VEVENT
BEGIN:VEVENT
DTSTART;TZID=America/New_York:20251019T090000
DTEND;TZID=America/New_York:20251019T090000
DTSTAMP:20260423T192856
CREATED:20250706T141857Z
LAST-MODIFIED:20251015T164846Z
UID:4237-1760864400-1760864400@hikinghoundadventures.com
SUMMARY:Little Tykes go on Hikes - Phoenixville
DESCRIPTION:BINGO! Hike
URL:https://hikinghoundadventures.com/event/little-tykes-go-on-hikes-phoenixville-4/
CATEGORIES:Little Tykes
END:VEVENT
BEGIN:VEVENT
DTSTART;TZID=America/New_York:20251018T150000
DTEND;TZID=America/New_York:20251018T150000
DTSTAMP:20260423T192856
CREATED:20251013T173220Z
LAST-MODIFIED:20251013T173220Z
UID:4576-1760799600-1760799600@hikinghoundadventures.com
SUMMARY:Midnfulness\, Meditation\, and Yoga Hike- Springfield (MontCo)
DESCRIPTION:
URL:https://hikinghoundadventures.com/event/midnfulness-meditation-and-yoga-hike-springfield-montco/
CATEGORIES:Mindfulness
END:VEVENT
BEGIN:VEVENT
DTSTART;TZID=America/New_York:20251018T120000
DTEND;TZID=America/New_York:20251018T120000
DTSTAMP:20260423T192856
CREATED:20250804T152634Z
LAST-MODIFIED:20250804T152634Z
UID:4346-1760788800-1760788800@hikinghoundadventures.com
SUMMARY:Haverford Township Sensory Hike
DESCRIPTION:
URL:https://hikinghoundadventures.com/event/haverford-township-sensory-hike/
END:VEVENT
BEGIN:VEVENT
DTSTART;TZID=America/New_York:20251018T120000
DTEND;TZID=America/New_York:20251018T120000
DTSTAMP:20260423T192856
CREATED:20250706T141857Z
LAST-MODIFIED:20251015T165104Z
UID:4235-1760788800-1760788800@hikinghoundadventures.com
SUMMARY:Little Tykes go on Hikes- Lower Makefield
DESCRIPTION:Scavenger Hunt
URL:https://hikinghoundadventures.com/event/lower-makefield-little-tykes-4/
CATEGORIES:Little Tykes
END:VEVENT
BEGIN:VEVENT
DTSTART;TZID=America/New_York:20251018T104500
DTEND;TZID=America/New_York:20251018T104500
DTSTAMP:20260423T192856
CREATED:20250804T152633Z
LAST-MODIFIED:20251015T164943Z
UID:4345-1760784300-1760784300@hikinghoundadventures.com
SUMMARY:Little Tykes go on Hikes- Haverford Township
DESCRIPTION:Scavenger Hunt
URL:https://hikinghoundadventures.com/event/haverford-township-little-tykes-2/
CATEGORIES:Little Tykes
END:VEVENT
BEGIN:VEVENT
DTSTART;TZID=America/New_York:20251018T080000
DTEND;TZID=America/New_York:20251018T080000
DTSTAMP:20260423T192856
CREATED:20250706T141857Z
LAST-MODIFIED:20250706T141857Z
UID:4234-1760774400-1760774400@hikinghoundadventures.com
SUMMARY:Pinchot Trial South: 2 Day\, 1 Night Backpacking Trip
DESCRIPTION:
URL:https://hikinghoundadventures.com/event/pinchot-trial-south-2-day-1-night-backpacking-trip-4/
END:VEVENT
BEGIN:VEVENT
DTSTART;TZID=America/New_York:20251017T080000
DTEND;TZID=America/New_York:20251017T080000
DTSTAMP:20260423T192856
CREATED:20250706T141856Z
LAST-MODIFIED:20250706T141856Z
UID:4233-1760688000-1760688000@hikinghoundadventures.com
SUMMARY:Pinchot Trail: 3 Day\, 2 Night Backpacking Trip
DESCRIPTION:
URL:https://hikinghoundadventures.com/event/pinchot-trail-3-day-2-night-backpacking-trip-3/
END:VEVENT
BEGIN:VEVENT
DTSTART;TZID=America/New_York:20251017T080000
DTEND;TZID=America/New_York:20251017T080000
DTSTAMP:20260423T192856
CREATED:20250706T141841Z
LAST-MODIFIED:20250706T141841Z
UID:4232-1760688000-1760688000@hikinghoundadventures.com
SUMMARY:Pinchot Trail North: 2 Day\, 1 Night Backpacking Trip
DESCRIPTION:
URL:https://hikinghoundadventures.com/event/pinchot-trail-north-2-day-1-night-backpacking-trip-3/
END:VEVENT
BEGIN:VEVENT
DTSTART;TZID=America/New_York:20251015T173000
DTEND;TZID=America/New_York:20251015T173000
DTSTAMP:20260423T192856
CREATED:20250902T183117Z
LAST-MODIFIED:20251013T173218Z
UID:4450-1760549400-1760549400@hikinghoundadventures.com
SUMMARY:Crochet Walk - Radnor
DESCRIPTION:
URL:https://hikinghoundadventures.com/event/crochet-walk-radnor/
CATEGORIES:Crochet
END:VEVENT
BEGIN:VEVENT
DTSTART;TZID=America/New_York:20251014T153000
DTEND;TZID=America/New_York:20251014T153000
DTSTAMP:20260423T192856
CREATED:20251013T173215Z
LAST-MODIFIED:20251013T173215Z
UID:4574-1760455800-1760455800@hikinghoundadventures.com
SUMMARY:Upper Darby Afterschool Program
DESCRIPTION:
URL:https://hikinghoundadventures.com/event/upper-darby-afterschool-program/
END:VEVENT
BEGIN:VEVENT
DTSTART;TZID=America/New_York:20251013T173000
DTEND;TZID=America/New_York:20251013T173000
DTSTAMP:20260423T192856
CREATED:20251013T173209Z
LAST-MODIFIED:20251013T173209Z
UID:4573-1760376600-1760376600@hikinghoundadventures.com
SUMMARY:Kids Introduction to Fishing- Radnor
DESCRIPTION:
URL:https://hikinghoundadventures.com/event/kids-introduction-to-fishing-radnor/
CATEGORIES:Fishing
END:VEVENT
BEGIN:VEVENT
DTSTART;TZID=America/New_York:20251012T180000
DTEND;TZID=America/New_York:20251012T180000
DTSTAMP:20260423T192856
CREATED:20250804T152624Z
LAST-MODIFIED:20250918T161514Z
UID:4342-1760292000-1760292000@hikinghoundadventures.com
SUMMARY:Little Tykes go on Hikes - Westtown Township
DESCRIPTION:
URL:https://hikinghoundadventures.com/event/little-tykes-go-on-hikes-westtown-township-7/
CATEGORIES:Little Tykes
END:VEVENT
BEGIN:VEVENT
DTSTART;TZID=America/New_York:20251012T120000
DTEND;TZID=America/New_York:20251012T120000
DTSTAMP:20260423T192856
CREATED:20250706T141841Z
LAST-MODIFIED:20250918T161523Z
UID:4231-1760270400-1760270400@hikinghoundadventures.com
SUMMARY:Lower Merion Little Tykes
DESCRIPTION:
URL:https://hikinghoundadventures.com/event/lower-merion-little-tykes-7/
CATEGORIES:Little Tykes
END:VEVENT
BEGIN:VEVENT
DTSTART;TZID=America/New_York:20251011T090000
DTEND;TZID=America/New_York:20251011T090000
DTSTAMP:20260423T192856
CREATED:20250706T141840Z
LAST-MODIFIED:20250804T152624Z
UID:4229-1760173200-1760173200@hikinghoundadventures.com
SUMMARY:Wilderness First Aid Course
DESCRIPTION:
URL:https://hikinghoundadventures.com/event/wilderness-first-aid-course-6/
END:VEVENT
BEGIN:VEVENT
DTSTART;TZID=America/New_York:20251011T080000
DTEND;TZID=America/New_York:20251011T080000
DTSTAMP:20260423T192856
CREATED:20250706T141840Z
LAST-MODIFIED:20250804T152624Z
UID:4230-1760169600-1760169600@hikinghoundadventures.com
SUMMARY:Adult CPR/AED Certification- Blended Learning
DESCRIPTION:
URL:https://hikinghoundadventures.com/event/adult-cpr-aed-certification-blended-learning-6/
END:VEVENT
BEGIN:VEVENT
DTSTART;TZID=America/New_York:20251005T130000
DTEND;TZID=America/New_York:20251005T130000
DTSTAMP:20260423T192856
CREATED:20250706T141840Z
LAST-MODIFIED:20250804T152624Z
UID:4228-1759669200-1759669200@hikinghoundadventures.com
SUMMARY:Radnor Fall Harvest
DESCRIPTION:
URL:https://hikinghoundadventures.com/event/radnor-fall-harvest-2/
END:VEVENT
BEGIN:VEVENT
DTSTART;TZID=America/New_York:20251005T110000
DTEND;TZID=America/New_York:20251005T110000
DTSTAMP:20260423T192856
CREATED:20250706T141825Z
LAST-MODIFIED:20250804T152611Z
UID:4227-1759662000-1759662000@hikinghoundadventures.com
SUMMARY:Westtown Day
DESCRIPTION:
URL:https://hikinghoundadventures.com/event/westtown-day-2/
END:VEVENT
BEGIN:VEVENT
DTSTART;TZID=America/New_York:20251004T100000
DTEND;TZID=America/New_York:20251004T100000
DTSTAMP:20260423T192856
CREATED:20250706T141825Z
LAST-MODIFIED:20250804T152611Z
UID:4226-1759572000-1759572000@hikinghoundadventures.com
SUMMARY:Springfield (MontCo) Tails on Trails
DESCRIPTION:
URL:https://hikinghoundadventures.com/event/springfield-montco-tails-on-trails-2/
END:VEVENT
BEGIN:VEVENT
DTSTART;TZID=America/New_York:20251004T090000
DTEND;TZID=America/New_York:20251004T140000
DTSTAMP:20260423T192856
CREATED:20250902T183109Z
LAST-MODIFIED:20250903T134650Z
UID:4449-1759568400-1759586400@hikinghoundadventures.com
SUMMARY:Volunteer Park Cleanup at Upper Providence Preserve
DESCRIPTION:Volunteer with Us at Upper Providence Preserve! \nUpper Providence Township recently acquired the beautiful property now known as Upper Providence Preserve\, and we’re excited to invite the community to help care for this new open space! \n📍 Location: 106 Kelly Ln\, Media\, PA 19063🗓  Date: Saturday\, October 4\, 2025⏰ Time: 9:00 AM – 2:00 PM (come anytime and stay as long as you’re able) \nWhat We’ll Be Doing: \n\n\nTrail cleanup \n\n\nRemoving invasive species \n\n\nGeneral park maintenance \n\n\nCoffee\, snacks\, and all equipment will be provided. Please bring a refillable water bottle and reusable coffee cup to help us stay zero waste. \nChildren must be accompanied by an adult\, and everyone attending will need to sign a waiver at check-in. \n✅ Pre-registration is recommended so we can plan ahead. This event will take place rain or shine. \nLearn more about the property here: Upper Providence Township Press Release \nCome out\, lend a hand\, and be part of caring for this new community treasure!
URL:https://hikinghoundadventures.com/event/volunteer-park-cleanup-at-kelly-lane-open-space-preserve/
CATEGORIES:Community Event
END:VEVENT
BEGIN:VEVENT
DTSTART;TZID=America/New_York:20251003T080000
DTEND;TZID=America/New_York:20251003T080000
DTSTAMP:20260423T192856
CREATED:20250706T141825Z
LAST-MODIFIED:20250706T141825Z
UID:4225-1759478400-1759478400@hikinghoundadventures.com
SUMMARY:Old Loggers Path: 3 Day\, 2 Night Backpacking Trip
DESCRIPTION:
URL:https://hikinghoundadventures.com/event/old-loggers-path-3-day-2-night-backpacking-trip-2/
END:VEVENT
BEGIN:VEVENT
DTSTART;TZID=America/New_York:20250930T180000
DTEND;TZID=America/New_York:20250930T180000
DTSTAMP:20260423T192856
CREATED:20250612T162048Z
LAST-MODIFIED:20250918T160803Z
UID:3875-1759255200-1759255200@hikinghoundadventures.com
SUMMARY:Little Tykes go on Hikes - Radnor Township
DESCRIPTION:
URL:https://hikinghoundadventures.com/event/little-tykes-go-on-hikes-radnor-township-7/
CATEGORIES:Little Tykes
END:VEVENT
BEGIN:VEVENT
DTSTART;TZID=America/New_York:20250927T104500
DTEND;TZID=America/New_York:20250927T104500
DTSTAMP:20260423T192856
CREATED:20250804T152611Z
LAST-MODIFIED:20250918T161559Z
UID:4335-1758969900-1758969900@hikinghoundadventures.com
SUMMARY:Haverford Township Little Tykes
DESCRIPTION:
URL:https://hikinghoundadventures.com/event/haverford-township-little-tykes/
CATEGORIES:Little Tykes
END:VEVENT
BEGIN:VEVENT
DTSTART;TZID=America/New_York:20250927T090000
DTEND;TZID=America/New_York:20250927T090000
DTSTAMP:20260423T192856
CREATED:20250612T162017Z
LAST-MODIFIED:20250804T152611Z
UID:3863-1758963600-1758963600@hikinghoundadventures.com
SUMMARY:Tranquil Trails: A Yoga and Meditation Hiking Adventure
DESCRIPTION:
URL:https://hikinghoundadventures.com/event/tranquil-trails-a-yoga-and-meditation-hiking-adventure/
END:VEVENT
BEGIN:VEVENT
DTSTART;TZID=America/New_York:20250925T180000
DTEND;TZID=America/New_York:20250925T180000
DTSTAMP:20260423T192856
CREATED:20250612T162229Z
LAST-MODIFIED:20250804T151028Z
UID:3906-1758823200-1758823200@hikinghoundadventures.com
SUMMARY:Lower Merion Tails on Trails
DESCRIPTION:
URL:https://hikinghoundadventures.com/event/lower-merion-tails-on-trails-2/
END:VEVENT
BEGIN:VEVENT
DTSTART;TZID=America/New_York:20250923T170000
DTEND;TZID=America/New_York:20250923T170000
DTSTAMP:20260423T192856
CREATED:20250804T151028Z
LAST-MODIFIED:20250804T151028Z
UID:4331-1758646800-1758646800@hikinghoundadventures.com
SUMMARY:3 Day Virtual Leave No Trace Level 1 Instructor Course
DESCRIPTION:
URL:https://hikinghoundadventures.com/event/3-day-virtual-leave-no-trace-level-1-instructor-course-2/
END:VEVENT
END:VCALENDAR