BEGIN:VCALENDAR
VERSION:2.0
PRODID:-//Hiking Hound Adventures, LLC - ECPv6.15.20//NONSGML v1.0//EN
CALSCALE:GREGORIAN
METHOD:PUBLISH
X-ORIGINAL-URL:https://hikinghoundadventures.com
X-WR-CALDESC:Events for Hiking Hound Adventures, LLC
REFRESH-INTERVAL;VALUE=DURATION:PT1H
X-Robots-Tag:noindex
X-PUBLISHED-TTL:PT1H
BEGIN:VTIMEZONE
TZID:America/New_York
BEGIN:DAYLIGHT
TZOFFSETFROM:-0500
TZOFFSETTO:-0400
TZNAME:EDT
DTSTART:20240310T070000
END:DAYLIGHT
BEGIN:STANDARD
TZOFFSETFROM:-0400
TZOFFSETTO:-0500
TZNAME:EST
DTSTART:20241103T060000
END:STANDARD
BEGIN:DAYLIGHT
TZOFFSETFROM:-0500
TZOFFSETTO:-0400
TZNAME:EDT
DTSTART:20250309T070000
END:DAYLIGHT
BEGIN:STANDARD
TZOFFSETFROM:-0400
TZOFFSETTO:-0500
TZNAME:EST
DTSTART:20251102T060000
END:STANDARD
BEGIN:DAYLIGHT
TZOFFSETFROM:-0500
TZOFFSETTO:-0400
TZNAME:EDT
DTSTART:20260308T070000
END:DAYLIGHT
BEGIN:STANDARD
TZOFFSETFROM:-0400
TZOFFSETTO:-0500
TZNAME:EST
DTSTART:20261101T060000
END:STANDARD
END:VTIMEZONE
BEGIN:VEVENT
DTSTART;TZID=America/New_York:20250712T130000
DTEND;TZID=America/New_York:20250712T130000
DTSTAMP:20260424T083213
CREATED:20250612T162033Z
LAST-MODIFIED:20250618T160203Z
UID:3870-1752325200-1752325200@hikinghoundadventures.com
SUMMARY:Little Tykes go on Hikes - Radnor Township
DESCRIPTION:
URL:https://hikinghoundadventures.com/event/little-tykes-go-on-hikes-radnor-township-2/
END:VEVENT
BEGIN:VEVENT
DTSTART;TZID=America/New_York:20250712T180000
DTEND;TZID=America/New_York:20250712T180000
DTSTAMP:20260424T083213
CREATED:20250612T162119Z
LAST-MODIFIED:20250612T162119Z
UID:3886-1752343200-1752343200@hikinghoundadventures.com
SUMMARY:Wilderness Navigation: Learning Map and Compass - Upper Providence
DESCRIPTION:
URL:https://hikinghoundadventures.com/event/wilderness-navigation-learning-map-and-compass-upper-providence/
END:VEVENT
BEGIN:VEVENT
DTSTART;TZID=America/New_York:20250713T130000
DTEND;TZID=America/New_York:20250713T130000
DTSTAMP:20260424T083213
CREATED:20250612T162048Z
LAST-MODIFIED:20250618T160311Z
UID:3877-1752411600-1752411600@hikinghoundadventures.com
SUMMARY:Little Tykes go on Hikes - Upper Providence
DESCRIPTION:
URL:https://hikinghoundadventures.com/event/little-tykes-go-on-hikes-upper-providence-2/
END:VEVENT
BEGIN:VEVENT
DTSTART;TZID=America/New_York:20250714T110000
DTEND;TZID=America/New_York:20250714T110000
DTSTAMP:20260424T083213
CREATED:20250612T162244Z
LAST-MODIFIED:20250618T160438Z
UID:3909-1752490800-1752490800@hikinghoundadventures.com
SUMMARY:Little Tykes go on Hikes - Westtown Township
DESCRIPTION:
URL:https://hikinghoundadventures.com/event/little-tykes-go-on-hikes-westtown-township-2/
END:VEVENT
BEGIN:VEVENT
DTSTART;TZID=America/New_York:20250715T180000
DTEND;TZID=America/New_York:20250715T180000
DTSTAMP:20260424T083213
CREATED:20250612T162229Z
LAST-MODIFIED:20250612T162229Z
UID:3904-1752602400-1752602400@hikinghoundadventures.com
SUMMARY:Lower Merion Wilderness Navigation
DESCRIPTION:
URL:https://hikinghoundadventures.com/event/lower-merion-wilderness-navigation/
END:VEVENT
BEGIN:VEVENT
DTSTART;TZID=America/New_York:20250716T100000
DTEND;TZID=America/New_York:20250716T100000
DTSTAMP:20260424T083213
CREATED:20250706T141739Z
LAST-MODIFIED:20250706T141739Z
UID:4208-1752660000-1752660000@hikinghoundadventures.com
SUMMARY:Private Event- Paddling Course
DESCRIPTION:
URL:https://hikinghoundadventures.com/event/private-event-paddling-course-3/
END:VEVENT
BEGIN:VEVENT
DTSTART;TZID=America/New_York:20250716T180000
DTEND;TZID=America/New_York:20250716T180000
DTSTAMP:20260424T083213
CREATED:20250706T141735Z
LAST-MODIFIED:20250706T141735Z
UID:4207-1752688800-1752688800@hikinghoundadventures.com
SUMMARY:SUPreme Excursions- John Heinz Wildlife Refuge
DESCRIPTION:
URL:https://hikinghoundadventures.com/event/supreme-excursions-john-heinz-wildlife-refuge-4/
END:VEVENT
BEGIN:VEVENT
DTSTART;TZID=America/New_York:20250717T180000
DTEND;TZID=America/New_York:20250717T180000
DTSTAMP:20260424T083213
CREATED:20250612T162118Z
LAST-MODIFIED:20250612T162118Z
UID:3884-1752775200-1752775200@hikinghoundadventures.com
SUMMARY:Wilderness Navigation: Learning Map and Compass - Radnor Township
DESCRIPTION:
URL:https://hikinghoundadventures.com/event/wilderness-navigation-learning-map-and-compass-radnor-township/
END:VEVENT
BEGIN:VEVENT
DTSTART;TZID=America/New_York:20250717T183000
DTEND;TZID=America/New_York:20250717T183000
DTSTAMP:20260424T083213
CREATED:20250706T141739Z
LAST-MODIFIED:20250706T141739Z
UID:4209-1752777000-1752777000@hikinghoundadventures.com
SUMMARY:SUP Yoga- Schuylkill River
DESCRIPTION:
URL:https://hikinghoundadventures.com/event/sup-yoga-schuylkill-river-11/
END:VEVENT
BEGIN:VEVENT
DTSTART;TZID=America/New_York:20250719T090000
DTEND;TZID=America/New_York:20250719T090000
DTSTAMP:20260424T083213
CREATED:20250706T141739Z
LAST-MODIFIED:20250706T141739Z
UID:4210-1752915600-1752915600@hikinghoundadventures.com
SUMMARY:Hiking Beauties- Pinchot Trial South: 2 Day\, 1 Night Backpacking Trip
DESCRIPTION:
URL:https://hikinghoundadventures.com/event/hiking-beauties-pinchot-trial-south-2-day-1-night-backpacking-trip-2/
END:VEVENT
BEGIN:VEVENT
DTSTART;TZID=America/New_York:20250720T090000
DTEND;TZID=America/New_York:20250720T090000
DTSTAMP:20260424T083213
CREATED:20250612T162455Z
LAST-MODIFIED:20250612T162455Z
UID:3921-1753002000-1753002000@hikinghoundadventures.com
SUMMARY:Guided Nature Hike - Phoenixville
DESCRIPTION:
URL:https://hikinghoundadventures.com/event/guided-nature-hike-phoenixville/
END:VEVENT
BEGIN:VEVENT
DTSTART;TZID=America/New_York:20250721T180000
DTEND;TZID=America/New_York:20250721T190000
DTSTAMP:20260424T083213
CREATED:20250709T001359Z
LAST-MODIFIED:20250709T001359Z
UID:4258-1753120800-1753124400@hikinghoundadventures.com
SUMMARY:Kids Introduction to Fishing
DESCRIPTION:
URL:https://hikinghoundadventures.com/event/kids-introduction-to-fishing-3/
END:VEVENT
BEGIN:VEVENT
DTSTART;TZID=America/New_York:20250722T180000
DTEND;TZID=America/New_York:20250722T180000
DTSTAMP:20260424T083213
CREATED:20250612T162205Z
LAST-MODIFIED:20250612T162205Z
UID:3902-1753207200-1753207200@hikinghoundadventures.com
SUMMARY:Lower Merion Little Tykes
DESCRIPTION:
URL:https://hikinghoundadventures.com/event/lower-merion-little-tykes-2/
END:VEVENT
BEGIN:VEVENT
DTSTART;TZID=America/New_York:20250723T100000
DTEND;TZID=America/New_York:20250723T100000
DTSTAMP:20260424T083213
CREATED:20250612T161957Z
LAST-MODIFIED:20250618T160938Z
UID:3854-1753264800-1753264800@hikinghoundadventures.com
SUMMARY:2 Day Virtual Leave No Trace Level 1 Instructor Course
DESCRIPTION:
URL:https://hikinghoundadventures.com/event/2-day-virtual-leave-no-trace-level-1-instructor-course-2/
END:VEVENT
BEGIN:VEVENT
DTSTART;TZID=America/New_York:20250723T180000
DTEND;TZID=America/New_York:20250723T180000
DTSTAMP:20260424T083213
CREATED:20250706T141739Z
LAST-MODIFIED:20250706T141739Z
UID:4211-1753293600-1753293600@hikinghoundadventures.com
SUMMARY:Little Tykes go on Hikes- Prospect Park
DESCRIPTION:
URL:https://hikinghoundadventures.com/event/little-tykes-go-on-hikes-prospect-park-2/
END:VEVENT
BEGIN:VEVENT
DTSTART;TZID=America/New_York:20250724T080000
DTEND;TZID=America/New_York:20250724T080000
DTSTAMP:20260424T083213
CREATED:20250612T162455Z
LAST-MODIFIED:20250612T162455Z
UID:3922-1753344000-1753344000@hikinghoundadventures.com
SUMMARY:Adult CPR/AED Certification- Blended Learning
DESCRIPTION:
URL:https://hikinghoundadventures.com/event/adult-cpr-aed-certification-blended-learning/
END:VEVENT
BEGIN:VEVENT
DTSTART;TZID=America/New_York:20250724T090000
DTEND;TZID=America/New_York:20250724T090000
DTSTAMP:20260424T083213
CREATED:20250612T161957Z
LAST-MODIFIED:20250612T161957Z
UID:3856-1753347600-1753347600@hikinghoundadventures.com
SUMMARY:Wilderness First Aid Course
DESCRIPTION:
URL:https://hikinghoundadventures.com/event/wilderness-first-aid-course/
END:VEVENT
BEGIN:VEVENT
DTSTART;TZID=America/New_York:20250724T183000
DTEND;TZID=America/New_York:20250724T183000
DTSTAMP:20260424T083213
CREATED:20250706T141739Z
LAST-MODIFIED:20250706T141739Z
UID:4212-1753381800-1753381800@hikinghoundadventures.com
SUMMARY:SUP Yoga- Schuylkill River
DESCRIPTION:
URL:https://hikinghoundadventures.com/event/sup-yoga-schuylkill-river-12/
END:VEVENT
BEGIN:VEVENT
DTSTART;TZID=America/New_York:20250725T090000
DTEND;TZID=America/New_York:20250725T090000
DTSTAMP:20260424T083213
CREATED:20250706T141756Z
LAST-MODIFIED:20250706T141756Z
UID:4213-1753434000-1753434000@hikinghoundadventures.com
SUMMARY:Haverford Darby Creek Float
DESCRIPTION:
URL:https://hikinghoundadventures.com/event/haverford-darby-creek-float-2/
END:VEVENT
BEGIN:VEVENT
DTSTART;TZID=America/New_York:20250726T090000
DTEND;TZID=America/New_York:20250726T090000
DTSTAMP:20260424T083213
CREATED:20250612T162018Z
LAST-MODIFIED:20250612T162018Z
UID:3867-1753520400-1753520400@hikinghoundadventures.com
SUMMARY:Overnight Paddling Trip- Susquehanna River
DESCRIPTION:
URL:https://hikinghoundadventures.com/event/overnight-paddling-trip-susquehanna-river/
END:VEVENT
BEGIN:VEVENT
DTSTART;TZID=America/New_York:20250727T103000
DTEND;TZID=America/New_York:20250727T103000
DTSTAMP:20260424T083213
CREATED:20250706T141756Z
LAST-MODIFIED:20250706T141756Z
UID:4216-1753612200-1753612200@hikinghoundadventures.com
SUMMARY:SUP Yoga- Schuylkill River
DESCRIPTION:
URL:https://hikinghoundadventures.com/event/sup-yoga-schuylkill-river-13/
END:VEVENT
BEGIN:VEVENT
DTSTART;TZID=America/New_York:20250727T143000
DTEND;TZID=America/New_York:20250727T143000
DTSTAMP:20260424T083213
CREATED:20250706T141756Z
LAST-MODIFIED:20250706T141756Z
UID:4215-1753626600-1753626600@hikinghoundadventures.com
SUMMARY:SUP Yoga- John Heinz Wildlife Refuge
DESCRIPTION:
URL:https://hikinghoundadventures.com/event/sup-yoga-john-heinz-wildlife-refuge-2/
END:VEVENT
BEGIN:VEVENT
DTSTART;TZID=America/New_York:20250727T163000
DTEND;TZID=America/New_York:20250727T163000
DTSTAMP:20260424T083213
CREATED:20250706T141756Z
LAST-MODIFIED:20250706T141756Z
UID:4214-1753633800-1753633800@hikinghoundadventures.com
SUMMARY:SUPreme Excursions- John Heinz Wildlife Refuge
DESCRIPTION:
URL:https://hikinghoundadventures.com/event/supreme-excursions-john-heinz-wildlife-refuge-5/
END:VEVENT
BEGIN:VEVENT
DTSTART;TZID=America/New_York:20250729T090000
DTEND;TZID=America/New_York:20250729T090000
DTSTAMP:20260424T083213
CREATED:20250706T141811Z
LAST-MODIFIED:20250706T141811Z
UID:4218-1753779600-1753779600@hikinghoundadventures.com
SUMMARY:AIS Camp
DESCRIPTION:
URL:https://hikinghoundadventures.com/event/ais-camp-2/
END:VEVENT
BEGIN:VEVENT
DTSTART;TZID=America/New_York:20250729T180000
DTEND;TZID=America/New_York:20250729T180000
DTSTAMP:20260424T083213
CREATED:20250612T162033Z
LAST-MODIFIED:20250618T161744Z
UID:3871-1753812000-1753812000@hikinghoundadventures.com
SUMMARY:Little Tykes go on Hikes - Radnor Township
DESCRIPTION:
URL:https://hikinghoundadventures.com/event/little-tykes-go-on-hikes-radnor-township-3/
END:VEVENT
BEGIN:VEVENT
DTSTART;TZID=America/New_York:20250729T183000
DTEND;TZID=America/New_York:20250729T183000
DTSTAMP:20260424T083213
CREATED:20250706T141756Z
LAST-MODIFIED:20250706T141756Z
UID:4217-1753813800-1753813800@hikinghoundadventures.com
SUMMARY:SUP Yoga- Schuylkill River
DESCRIPTION:
URL:https://hikinghoundadventures.com/event/sup-yoga-schuylkill-river-14/
END:VEVENT
BEGIN:VEVENT
DTSTART;TZID=America/New_York:20250730T090000
DTEND;TZID=America/New_York:20250730T090000
DTSTAMP:20260424T083213
CREATED:20250706T141811Z
LAST-MODIFIED:20250706T141811Z
UID:4219-1753866000-1753866000@hikinghoundadventures.com
SUMMARY:Haverford Camp Paddle
DESCRIPTION:
URL:https://hikinghoundadventures.com/event/haverford-camp-paddle-2/
END:VEVENT
BEGIN:VEVENT
DTSTART;TZID=America/New_York:20250730T183000
DTEND;TZID=America/New_York:20250730T183000
DTSTAMP:20260424T083213
CREATED:20250612T162333Z
LAST-MODIFIED:20250612T162333Z
UID:3913-1753900200-1753900200@hikinghoundadventures.com
SUMMARY:Springfield Library- Outdoor Safety
DESCRIPTION:
URL:https://hikinghoundadventures.com/event/springfield-library-outdoor-safety/
END:VEVENT
BEGIN:VEVENT
DTSTART;TZID=America/New_York:20250802T080000
DTEND;TZID=America/New_York:20250802T080000
DTSTAMP:20260424T083213
CREATED:20250612T162617Z
LAST-MODIFIED:20250618T162042Z
UID:3923-1754121600-1754121600@hikinghoundadventures.com
SUMMARY:Adult CPR/AED Certification- Blended Learning
DESCRIPTION:
URL:https://hikinghoundadventures.com/event/adult-cpr-aed-certification-blended-learning-2/
END:VEVENT
BEGIN:VEVENT
DTSTART;TZID=America/New_York:20250802T090000
DTEND;TZID=America/New_York:20250802T090000
DTSTAMP:20260424T083213
CREATED:20250612T162001Z
LAST-MODIFIED:20250618T162318Z
UID:3858-1754125200-1754125200@hikinghoundadventures.com
SUMMARY:Wilderness First Aid Course
DESCRIPTION:
URL:https://hikinghoundadventures.com/event/wilderness-first-aid-course-3/
END:VEVENT
END:VCALENDAR