BEGIN:VCALENDAR
VERSION:2.0
PRODID:-//Hiking Hound Adventures, LLC - ECPv6.15.20//NONSGML v1.0//EN
CALSCALE:GREGORIAN
METHOD:PUBLISH
X-WR-CALNAME:Hiking Hound Adventures, LLC
X-ORIGINAL-URL:https://hikinghoundadventures.com
X-WR-CALDESC:Events for Hiking Hound Adventures, LLC
REFRESH-INTERVAL;VALUE=DURATION:PT1H
X-Robots-Tag:noindex
X-PUBLISHED-TTL:PT1H
BEGIN:VTIMEZONE
TZID:America/New_York
BEGIN:DAYLIGHT
TZOFFSETFROM:-0500
TZOFFSETTO:-0400
TZNAME:EDT
DTSTART:20230312T070000
END:DAYLIGHT
BEGIN:STANDARD
TZOFFSETFROM:-0400
TZOFFSETTO:-0500
TZNAME:EST
DTSTART:20231105T060000
END:STANDARD
BEGIN:DAYLIGHT
TZOFFSETFROM:-0500
TZOFFSETTO:-0400
TZNAME:EDT
DTSTART:20240310T070000
END:DAYLIGHT
BEGIN:STANDARD
TZOFFSETFROM:-0400
TZOFFSETTO:-0500
TZNAME:EST
DTSTART:20241103T060000
END:STANDARD
BEGIN:DAYLIGHT
TZOFFSETFROM:-0500
TZOFFSETTO:-0400
TZNAME:EDT
DTSTART:20250309T070000
END:DAYLIGHT
BEGIN:STANDARD
TZOFFSETFROM:-0400
TZOFFSETTO:-0500
TZNAME:EST
DTSTART:20251102T060000
END:STANDARD
END:VTIMEZONE
BEGIN:VTIMEZONE
TZID:UTC
BEGIN:STANDARD
TZOFFSETFROM:+0000
TZOFFSETTO:+0000
TZNAME:UTC
DTSTART:20230101T000000
END:STANDARD
END:VTIMEZONE
BEGIN:VEVENT
DTSTART;TZID=America/New_York:20240707T060000
DTEND;TZID=America/New_York:20240707T120000
DTSTAMP:20260424T122109
CREATED:20240630T150824Z
LAST-MODIFIED:20240827T023324Z
UID:1175-1720332000-1720353600@hikinghoundadventures.com
SUMMARY:Half-Day Fishing Trip
DESCRIPTION:Join Hiking Hound Adventures\, LLC and licensed PA fishing guide\, Andy\, and float the Susquehanna River. Enjoy this incredible river as we target smallmouth bass. \n  \nUp to 3 people. Boats and tackle included. \n  \nPennsylvania fishing license required and is not included in the price. Purchase a fishing license here.
URL:https://hikinghoundadventures.com/event/half-day-fishing-trip-2/
LOCATION:Susquehanna River\, 32 Ferry Ln\, Liverpool\, PA\, 19070\, United States
CATEGORIES:Paddle
ORGANIZER;CN="Hiking Hound Adventures%2C LLC":MAILTO:info@hikinghoundadventures.com
END:VEVENT
BEGIN:VEVENT
DTSTART;TZID=America/New_York:20240706T060000
DTEND;TZID=America/New_York:20240706T120000
DTSTAMP:20260424T122109
CREATED:20240628T004313Z
LAST-MODIFIED:20241121T155633Z
UID:1141-1720245600-1720267200@hikinghoundadventures.com
SUMMARY:Half-Day Fishing Trip
DESCRIPTION:Join Hiking Hound Adventures\, LLC and licensed PA fishing guide\, Andy\, and float the Susquehanna River. Enjoy this incredible river as we target smallmouth bass. \n  \nUp to 3 people. Boats and tackle included. \n  \nPennsylvania fishing license required and is not included in the price. Purchase a fishing license here.
URL:https://hikinghoundadventures.com/event/half-day-fishing-trip/
LOCATION:Susquehanna River\, 32 Ferry Ln\, Liverpool\, PA\, 19070\, United States
CATEGORIES:Paddle
ORGANIZER;CN="Hiking Hound Adventures%2C LLC":MAILTO:info@hikinghoundadventures.com
END:VEVENT
BEGIN:VEVENT
DTSTART;TZID=America/New_York:20240704T090000
DTEND;TZID=America/New_York:20240704T120000
DTSTAMP:20260424T122109
CREATED:20240703T174402Z
LAST-MODIFIED:20241121T192115Z
UID:1219-1720083600-1720094400@hikinghoundadventures.com
SUMMARY:Springfield 4th of July Parade
DESCRIPTION:Hiking Hound Adventures\, LLC will be in the parade. The parade will kick off at 9:00AM and will end at Veterans Memorial Park (331 W. Springfield Road) with activities to follow.
URL:https://hikinghoundadventures.com/event/springfield-4th-of-july-parade/
LOCATION:Springfield Township\, Springfield\, PA\, 19064\, United States
CATEGORIES:Community Event
ORGANIZER;CN="Hiking Hound Adventures%2C LLC":MAILTO:info@hikinghoundadventures.com
END:VEVENT
BEGIN:VEVENT
DTSTART;TZID=America/New_York:20240630T160000
DTEND;TZID=America/New_York:20240630T160000
DTSTAMP:20260424T122109
CREATED:20240531T040200Z
LAST-MODIFIED:20241121T162611Z
UID:911-1719763200-1719763200@hikinghoundadventures.com
SUMMARY:Little Tykes go on Hikes: An Introduction to Hiking with Kids + Treasure Hunt
DESCRIPTION:Radnor Township Parks & Recreation is excited to partner with Hiking Hound Adventures\, LLC to present Little Tykes go on Hikes! During this 45-minute course\, Hiking Hound Adventures\, LLC will be on the trail with little ones and their guardians to tackle some of the most asked questions surrounding taking kids into the woods. Through fun games and hands-on activities\, we’ll cover safety (each child will get a safety whistle)\, choosing the right trail\, packing considerations\, leave no trace\, and more\, all while enjoying the trails and nature between the Willows Park and Skunk Hollow Trails. \nJune 13\, 5:45-6:30 PM – Nature Bingo \nJune 30\, 4:00-4:45 PM – Treasure Hunt \nJuly 11\, 7:00-7:45 PM – Follow the Leader/Simon Says \nJuly 21\, 1:00-1:45 PM – Ice Cream Hike (National Ice Cream Day!) \nLOCATION Skunk Hollow Park & Trails 490 Darby Paoli Rd\, Villanova \nPARTICIPANTS Children ages 3-8 and their parent/guardian* \nREGISTRATION $20 per Child per Hike Register online at www.radnorrecreation.com \n*Children must be accompanied by a parent/guardian. We ask that there be no more than 2 children to 1 guardian ratio in order to provide a safe and successful program. Each hike is limited to 10 children + their parent/guardian. \nLearn more about Hiking Hound Adventures\, LLC at hikinghoundadventures.com
URL:https://hikinghoundadventures.com/event/little-tykes-go-on-hikes-an-introduction-to-hiking-with-kids-treasure-hunt/
LOCATION:The Willows Park\, 490 Darby Paoli Road\, Villanova\, PA\, 19085\, United States
CATEGORIES:Course,Partnership Event
ORGANIZER;CN="Radnor Township Parks and Recreation":MAILTO:recreation@radnor.org
END:VEVENT
BEGIN:VEVENT
DTSTART;TZID=America/New_York:20240629T120000
DTEND;TZID=America/New_York:20240629T160000
DTSTAMP:20260424T122109
CREATED:20240530T054329Z
LAST-MODIFIED:20241121T193948Z
UID:893-1719662400-1719676800@hikinghoundadventures.com
SUMMARY:Morton- Rutledge Fire Company: Vendor & Food Truck Event
DESCRIPTION:Join us and over 50 other vendors and food trucks at the Moron-Rutledge Fire Company for a fun filled day!
URL:https://hikinghoundadventures.com/event/morton-rutledge-fire-company-vendor-food-truck-event/
LOCATION:Morton-Rutledge Fire Company\, 38 Alfa Terrace\, Morton\, PA\, 19070\, United States
CATEGORIES:Community Event
END:VEVENT
BEGIN:VEVENT
DTSTART;TZID=America/New_York:20240613T173000
DTEND;TZID=America/New_York:20240613T183000
DTSTAMP:20260424T122109
CREATED:20240531T035558Z
LAST-MODIFIED:20241121T162241Z
UID:908-1718299800-1718303400@hikinghoundadventures.com
SUMMARY:Little Tykes Go on Hikes: An Introduction to Hiking with Kids + Nature Bingo
DESCRIPTION:Radnor Township Parks & Recreation is excited to partner with Hiking Hound Adventures\, LLC to present Little Tykes go on Hikes! During this 45-minute course\, Hiking Hound Adventures\, LLC will be on the trail with little ones and their guardians to tackle some of the most asked questions surrounding taking kids into the woods. Through fun games and hands-on activities\, we’ll cover safety (each child will get a safety whistle)\, choosing the right trail\, packing considerations\, leave no trace\, and more\, all while enjoying the trails and nature between the Willows Park and Skunk Hollow Trails. \nJune 13\, 5:45-6:30 PM – Nature Bingo \nJune 23\, 4:00-4:45 PM – Treasure Hunt \nJuly 11\, 7:00-7:45 PM – Follow the Leader/Simon Says \nJuly 21\, 1:00-1:45 PM – Ice Cream Hike (National Ice Cream Day!) \nLOCATION Skunk Hollow Park & Trails 490 Darby Paoli Rd\, Villanova \nPARTICIPANTS Children ages 3-8 and their parent/guardian* \nREGISTRATION $20 per Child per Hike Register online at www.radnorrecreation.com \n*Children must be accompanied by a parent/guardian. We ask that there be no more than 2 children to 1 guardian ratio in order to provide a safe and successful program. Each hike is limited to 10 children + their parent/guardian. \nLearn more about Hiking Hound Adventures\, LLC at hikinghoundadventures.com
URL:https://hikinghoundadventures.com/event/little-tykes-go-on-hikes-an-introduction-to-hiking-with-kids-nature-bingo/
LOCATION:The Willows Park\, 490 Darby Paoli Road\, Villanova\, PA\, 19085\, United States
CATEGORIES:Course,Partnership Event
ORGANIZER;CN="Radnor Township Parks and Recreation":MAILTO:recreation@radnor.org
END:VEVENT
BEGIN:VEVENT
DTSTART;TZID=America/New_York:20240609T160000
DTEND;TZID=America/New_York:20240609T170000
DTSTAMP:20260424T122109
CREATED:20240531T051837Z
LAST-MODIFIED:20241121T151352Z
UID:922-1717948800-1717952400@hikinghoundadventures.com
SUMMARY:Treasure Hunt Hike
DESCRIPTION:Join Hiking Hound Adventures\, LLC as we search for treasure! This family friendly hike will allow participants to learn and explore as we will follow clues and a map through the woods in search of a treasure. \n***Recommended age is  3-8 years old\, but all ages are welcome- Price is for 1 child and one adult. Each child must be accompanied by an adult*** \nLocation: Springfield\, PA \nDate: 6/9/24 \nTime: 4pm \nDuration: 45 minutes \n$15
URL:https://hikinghoundadventures.com/event/treasure-hunt-hike/
LOCATION:Louis Scott Memorial Park\, 998 Ridley Creek Road\, Media\, PA\, 19063\, United States
CATEGORIES:Hike
ORGANIZER;CN="Hiking Hound Adventures%2C LLC":MAILTO:info@hikinghoundadventures.com
END:VEVENT
BEGIN:VEVENT
DTSTART;TZID=UTC:20240606T180000
DTEND;TZID=UTC:20240606T193000
DTSTAMP:20260424T122109
CREATED:20240516T223509Z
LAST-MODIFIED:20241121T171412Z
UID:808-1717696800-1717702200@hikinghoundadventures.com
SUMMARY:Wilderness Navigation: Learning Map and Compass Course
DESCRIPTION:Join Hiking Hound Adventures\, LLC as we present an introduction to topographic map and compass- your gateway to mastering outdoor navigation! \nLearn the essentials of map reading and compass navigation in this 90 minute class. Together we will spend a half an hour in the classroom. There you will learn map components like scale and contour lines\, as well as compass parts and techniques such as taking bearings and finding your location on a map. \nWe will then spend a full hour with hands-on field instruction. Here we will put theory into practice and help you gain confidence navigating diverse terrain using your map and compass. \nJoin us to unlock the skills needed to confidently explore the great outdoors! \nCompasses and classroom materials will be provided for use during the course. If you would like a compass to take home\, we have them available for purchase. Add one to your cart and we will have it for you at the course. COMPASS \n  \n***Recommended age is 12 years and older- Anyone under 18 must be accompanied by a paid adult***
URL:https://hikinghoundadventures.com/event/wilderness-navigation-learning-map-and-compass-course/
LOCATION:Louis Scott Memorial Park\, 998 Ridley Creek Road\, Media\, PA\, 19063\, United States
CATEGORIES:Course
ORGANIZER;CN="Hiking Hound Adventures%2C LLC":MAILTO:info@hikinghoundadventures.com
END:VEVENT
BEGIN:VEVENT
DTSTART;TZID=UTC:20240601T160000
DTEND;TZID=UTC:20240602T100000
DTSTAMP:20260424T122109
CREATED:20240516T220644Z
LAST-MODIFIED:20241121T145953Z
UID:802-1717257600-1717322400@hikinghoundadventures.com
SUMMARY:Radnor Great American Backyard Campout
DESCRIPTION:Hiking Hound Adventures\, LLC is excited to be a part of the 10th Annual Radnor Township Great American Backyard Campout! \nWe will be leading three separate hikes during the event. These are being offered completely free\, but space is limited\, so stop by our booth and register early. We will offer two different Nature BINGO! hikes that are fun for the whole family. When the sun sets\, we will be leading a Twilight Treasure Hunt where we use flashlights or headlamps to search the trail for a chance to win prizes. \nIn addition to our free hikes at the campout\, we are happy to offer equipment rentals for the event at a special discounted rate. We will have tents\, sleeping bags\, and sleeping pads available at a first come first served basis. \nIf you would like to request a rental from Hiking Hound Adventures\, LLC\, fill out the form below. All items will have a special event price and will be made available for pickup at the event. After you submit your request\, we will send you a payment link for the available items. The items are not reserved until payment has been received and you will receive a confirmation email with details on when and where the items will be made available at the event. Items are limited and we will do our best to accommodate. \n  \n  \nJoin the camping fun this year at the Willows Park! Getting outdoors is important for your health and well-being. Bring your camping gear & supplies\, set up under the stars\, and enjoy a night outside with your family! Campers must be accompanied by Parent/Guardian. Activities will include\, camp cooking & fire making demonstrations\, fishing\, orienteering mini course\, s’mores\, observing the night sky with telescopes and more! Visit www.radnor.com/campout for more information and to register online. Pre-registration is required for this FREE event!
URL:https://hikinghoundadventures.com/event/radnor-great-american-backyard-campout/
LOCATION:The Willows Park\, 490 Darby Paoli Road\, Villanova\, PA\, 19085\, United States
CATEGORIES:Community Event,Hike
END:VEVENT
BEGIN:VEVENT
DTSTART;TZID=UTC:20240519T110000
DTEND;TZID=UTC:20240519T120000
DTSTAMP:20260424T122109
CREATED:20240517T165734Z
LAST-MODIFIED:20241121T181325Z
UID:815-1716116400-1716120000@hikinghoundadventures.com
SUMMARY:Nature BINGO! Hike
DESCRIPTION:Join Hiking Hound Adventures\, LLC for a fun filled morning of exploration and a game of Nature BINGO! \nAs we hike along the trail\, children and their guardians will be immersed in a world of discovery. Along the way\, we’ll engage in a lively game of Nature Bingo\, where keen eyes and curious minds will be put to the test. From identifying different plant species to spotting elusive wildlife\, every moment is an opportunity to learn something new about the natural world. \n  \nOur experienced guides will provide fascinating insights into the flora and fauna we encounter\, turning every step of the hike into a valuable lesson. As participants mark off items on their bingo cards\, they’ll not only compete for prizes but also deepen their understanding and appreciation for the environment around them. \n  \nAfter the hike\, we will gather to let the winners claim their prizes. \n  \nSo\, grab your binoculars and sense of wonder as we embark on a journey that’s as enriching as it is entertaining. Let’s discover the magic of nature together and create memories that will last a lifetime! \n  \n***Recommended ages: 3yrs-8yrs (but suitable for all ages)- Price is for 1 Adult and 1 Child; Each child must be accompanied by a guardian over 18 years of age)***
URL:https://hikinghoundadventures.com/event/nature-bingo-hike/
LOCATION:Louis Scott Memorial Park\, 998 Ridley Creek Road\, Media\, PA\, 19063\, United States
CATEGORIES:Hike
ORGANIZER;CN="Hiking Hound Adventures%2C LLC":MAILTO:info@hikinghoundadventures.com
END:VEVENT
BEGIN:VEVENT
DTSTART;TZID=UTC:20240518T110000
DTEND;TZID=UTC:20240518T150000
DTSTAMP:20260424T122109
CREATED:20240516T214729Z
LAST-MODIFIED:20241121T151257Z
UID:788-1716030000-1716044400@hikinghoundadventures.com
SUMMARY:Family Health and Wellness Day
DESCRIPTION:Hiking Hound Adventures\, LLC will be attending this event. Please stop and visit our table! \nJoin us for a fun-filled day of health and wellness at the FOCUS Youth Network’s “Family Health and Wellness Day”! Get ready for an action-packed event featuring a Mounce Bounce\, relay races\, interactive games\, raffles\, vendors\, community resources\, and vibrant music to keep everyone energized. Enjoy delicious and nutritious food options while also prioritizing your well-being with complimentary health screenings. This is the perfect opporunity to enjoy a day of family-friendly activities.  Don’t miss out on the opportunity to promote health and happiness within our community! \n  \nThis is a FREE event but you must be registered for a chance to win door prizes and free giveaways.
URL:https://hikinghoundadventures.com/event/family-health-and-wellness-day/
LOCATION:Union Community Church\, 11 S Springfield Road\, Clifton Heights\, PA\, 19018\, United States
CATEGORIES:Community Event
END:VEVENT
END:VCALENDAR