BEGIN:VCALENDAR
VERSION:2.0
PRODID:-//Hiking Hound Adventures, LLC - ECPv6.15.20//NONSGML v1.0//EN
CALSCALE:GREGORIAN
METHOD:PUBLISH
X-WR-CALNAME:Hiking Hound Adventures, LLC
X-ORIGINAL-URL:https://hikinghoundadventures.com
X-WR-CALDESC:Events for Hiking Hound Adventures, LLC
REFRESH-INTERVAL;VALUE=DURATION:PT1H
X-Robots-Tag:noindex
X-PUBLISHED-TTL:PT1H
BEGIN:VTIMEZONE
TZID:America/New_York
BEGIN:DAYLIGHT
TZOFFSETFROM:-0500
TZOFFSETTO:-0400
TZNAME:EDT
DTSTART:20250309T070000
END:DAYLIGHT
BEGIN:STANDARD
TZOFFSETFROM:-0400
TZOFFSETTO:-0500
TZNAME:EST
DTSTART:20251102T060000
END:STANDARD
BEGIN:DAYLIGHT
TZOFFSETFROM:-0500
TZOFFSETTO:-0400
TZNAME:EDT
DTSTART:20260308T070000
END:DAYLIGHT
BEGIN:STANDARD
TZOFFSETFROM:-0400
TZOFFSETTO:-0500
TZNAME:EST
DTSTART:20261101T060000
END:STANDARD
BEGIN:DAYLIGHT
TZOFFSETFROM:-0500
TZOFFSETTO:-0400
TZNAME:EDT
DTSTART:20270314T070000
END:DAYLIGHT
BEGIN:STANDARD
TZOFFSETFROM:-0400
TZOFFSETTO:-0500
TZNAME:EST
DTSTART:20271107T060000
END:STANDARD
END:VTIMEZONE
BEGIN:VEVENT
DTSTART;TZID=America/New_York:20260617T180000
DTEND;TZID=America/New_York:20260617T180000
DTSTAMP:20260423T173716
CREATED:20260317T184826Z
LAST-MODIFIED:20260317T184826Z
UID:6173-1781719200-1781719200@hikinghoundadventures.com
SUMMARY:Women in the Wild Wilderness Navigation: Learning Map and Compass
DESCRIPTION:
URL:https://hikinghoundadventures.com/event/women-in-the-wild-wilderness-navigation-learning-map-and-compass/
CATEGORIES:Compass,Course
END:VEVENT
BEGIN:VEVENT
DTSTART;TZID=America/New_York:20260618T183000
DTEND;TZID=America/New_York:20260618T183000
DTSTAMP:20260423T173716
CREATED:20251229T191012Z
LAST-MODIFIED:20251229T191012Z
UID:5640-1781807400-1781807400@hikinghoundadventures.com
SUMMARY:Little Tykes go on Hikes - Westtown Township
DESCRIPTION:Paint with Nature
URL:https://hikinghoundadventures.com/event/little-tykes-go-on-hikes-westtown-township-14/
CATEGORIES:Little Tykes
END:VEVENT
BEGIN:VEVENT
DTSTART;TZID=America/New_York:20260618T193000
DTEND;TZID=America/New_York:20260618T193000
DTSTAMP:20260423T173716
CREATED:20251118T164901Z
LAST-MODIFIED:20251118T164901Z
UID:5152-1781811000-1781811000@hikinghoundadventures.com
SUMMARY:SUPreme Excursions- Phoenixville
DESCRIPTION:
URL:https://hikinghoundadventures.com/event/supreme-excursions-phoenixville/
CATEGORIES:Paddle
END:VEVENT
BEGIN:VEVENT
DTSTART;TZID=America/New_York:20260620T090000
DTEND;TZID=America/New_York:20260620T090000
DTSTAMP:20260423T173716
CREATED:20251118T164817Z
LAST-MODIFIED:20260213T175720Z
UID:5135-1781946000-1781946000@hikinghoundadventures.com
SUMMARY:Pinchot Trial South: 2 Day\, 1 Night Backpacking Trip
DESCRIPTION:
URL:https://hikinghoundadventures.com/event/pinchot-trial-south-2-day-1-night-backpacking-trip-10/
CATEGORIES:Backpacking Trips
END:VEVENT
BEGIN:VEVENT
DTSTART;TZID=America/New_York:20260620T110000
DTEND;TZID=America/New_York:20260620T110000
DTSTAMP:20260423T173716
CREATED:20251118T164729Z
LAST-MODIFIED:20251118T164729Z
UID:5113-1781953200-1781953200@hikinghoundadventures.com
SUMMARY:Mindfulness\, Meditation & Movement Hike - Radnor Township
DESCRIPTION:
URL:https://hikinghoundadventures.com/event/mindfulness-meditation-movement-hike-radnor-township-3/
CATEGORIES:Mindfulness
END:VEVENT
BEGIN:VEVENT
DTSTART;TZID=America/New_York:20260620T120000
DTEND;TZID=America/New_York:20260620T120000
DTSTAMP:20260423T173716
CREATED:20251118T164910Z
LAST-MODIFIED:20251118T164910Z
UID:5155-1781956800-1781956800@hikinghoundadventures.com
SUMMARY:Treats on the Trail- Lansdale Township
DESCRIPTION:Ice Cream
URL:https://hikinghoundadventures.com/event/treats-on-the-trail-lansdale-township/
CATEGORIES:Treats
END:VEVENT
BEGIN:VEVENT
DTSTART;TZID=America/New_York:20260621T090000
DTEND;TZID=America/New_York:20260621T090000
DTSTAMP:20260423T173716
CREATED:20251118T164817Z
LAST-MODIFIED:20260213T175728Z
UID:5136-1782032400-1782032400@hikinghoundadventures.com
SUMMARY:Pinchot Trial South: 2 Day\, 1 Night Backpacking Trip
DESCRIPTION:
URL:https://hikinghoundadventures.com/event/pinchot-trial-south-2-day-1-night-backpacking-trip-11/
CATEGORIES:Backpacking Trips
END:VEVENT
BEGIN:VEVENT
DTSTART;TZID=America/New_York:20260621T100000
DTEND;TZID=America/New_York:20260621T100000
DTSTAMP:20260423T173716
CREATED:20251118T164901Z
LAST-MODIFIED:20251118T164901Z
UID:5150-1782036000-1782036000@hikinghoundadventures.com
SUMMARY:SUP Yoga- Swarthmore Swim Club
DESCRIPTION:
URL:https://hikinghoundadventures.com/event/sup-yoga-swarthmore-swim-club-3/
CATEGORIES:Yoga
END:VEVENT
BEGIN:VEVENT
DTSTART;TZID=America/New_York:20260623T180000
DTEND;TZID=America/New_York:20260623T180000
DTSTAMP:20260423T173716
CREATED:20251118T164941Z
LAST-MODIFIED:20251118T164941Z
UID:5173-1782237600-1782237600@hikinghoundadventures.com
SUMMARY:Treats on the Trail- Upper Providence
DESCRIPTION:Ice Cream
URL:https://hikinghoundadventures.com/event/treats-on-the-trail-upper-providence-2/
CATEGORIES:Treats
END:VEVENT
BEGIN:VEVENT
DTSTART;TZID=America/New_York:20260623T190000
DTEND;TZID=America/New_York:20260623T190000
DTSTAMP:20260423T173716
CREATED:20260117T213815Z
LAST-MODIFIED:20260117T213815Z
UID:5766-1782241200-1782241200@hikinghoundadventures.com
SUMMARY:SUP Yoga- Schuylkill River
DESCRIPTION:
URL:https://hikinghoundadventures.com/event/sup-yoga-schuylkill-river-23/
CATEGORIES:Paddle,Yoga
END:VEVENT
BEGIN:VEVENT
DTSTART;TZID=America/New_York:20260624T180000
DTEND;TZID=America/New_York:20260624T180000
DTSTAMP:20260423T173716
CREATED:20260317T184825Z
LAST-MODIFIED:20260317T184825Z
UID:6171-1782324000-1782324000@hikinghoundadventures.com
SUMMARY:Women in the Wild Backpacking Fundamentals
DESCRIPTION:
URL:https://hikinghoundadventures.com/event/women-in-the-wild-backpacking-fundamentals/
CATEGORIES:Backpackig Fundamentals,Course
END:VEVENT
BEGIN:VEVENT
DTSTART;TZID=America/New_York:20260625T170000
DTEND;TZID=America/New_York:20260625T170000
DTSTAMP:20260423T173716
CREATED:20251118T164619Z
LAST-MODIFIED:20251229T190124Z
UID:5071-1782406800-1782406800@hikinghoundadventures.com
SUMMARY:Kids Introduction to Fishing- Radnor
DESCRIPTION:
URL:https://hikinghoundadventures.com/event/kids-introduction-to-fishing-radnor-4/
CATEGORIES:Fishing
END:VEVENT
BEGIN:VEVENT
DTSTART;TZID=America/New_York:20260627T090000
DTEND;TZID=America/New_York:20260627T090000
DTSTAMP:20260423T173716
CREATED:20260317T185027Z
LAST-MODIFIED:20260317T185027Z
UID:6177-1782550800-1782550800@hikinghoundadventures.com
SUMMARY:Yoga in the Park- Warrington Township
DESCRIPTION:
URL:https://hikinghoundadventures.com/event/yoga-in-the-park-warrington-township-4/
CATEGORIES:Yoga
END:VEVENT
BEGIN:VEVENT
DTSTART;TZID=America/New_York:20260627T110000
DTEND;TZID=America/New_York:20260627T110000
DTSTAMP:20260423T173716
CREATED:20251118T164935Z
LAST-MODIFIED:20251118T164935Z
UID:5168-1782558000-1782558000@hikinghoundadventures.com
SUMMARY:Treats on the Trail- Springfield (MontCo)
DESCRIPTION:S’mores
URL:https://hikinghoundadventures.com/event/treats-on-the-trail-springfield-montco/
CATEGORIES:Treats
END:VEVENT
BEGIN:VEVENT
DTSTART;TZID=America/New_York:20260628T100000
DTEND;TZID=America/New_York:20260628T100000
DTSTAMP:20260423T173716
CREATED:20251118T164901Z
LAST-MODIFIED:20251118T164901Z
UID:5151-1782640800-1782640800@hikinghoundadventures.com
SUMMARY:SUP Yoga- Swarthmore Swim Club
DESCRIPTION:
URL:https://hikinghoundadventures.com/event/sup-yoga-swarthmore-swim-club-4/
CATEGORIES:Yoga
END:VEVENT
BEGIN:VEVENT
DTSTART;TZID=America/New_York:20260630T190000
DTEND;TZID=America/New_York:20260630T190000
DTSTAMP:20260423T173716
CREATED:20260117T213829Z
LAST-MODIFIED:20260117T213829Z
UID:5767-1782846000-1782846000@hikinghoundadventures.com
SUMMARY:SUP Yoga- Schuylkill River
DESCRIPTION:
URL:https://hikinghoundadventures.com/event/sup-yoga-schuylkill-river-24/
CATEGORIES:Paddle,Yoga
END:VEVENT
BEGIN:VEVENT
DTSTART;TZID=America/New_York:20260703T173000
DTEND;TZID=America/New_York:20260703T173000
DTSTAMP:20260423T173716
CREATED:20260317T184407Z
LAST-MODIFIED:20260317T184407Z
UID:6157-1783099800-1783099800@hikinghoundadventures.com
SUMMARY:Phoenixville First Friday
DESCRIPTION:
URL:https://hikinghoundadventures.com/event/phoenixville-first-friday-3/
CATEGORIES:Community Event
END:VEVENT
BEGIN:VEVENT
DTSTART;TZID=America/New_York:20260704T090000
DTEND;TZID=America/New_York:20260704T090000
DTSTAMP:20260423T173716
CREATED:20251118T164738Z
LAST-MODIFIED:20260213T175915Z
UID:5120-1783155600-1783155600@hikinghoundadventures.com
SUMMARY:Overnight Paddling Trip- Susquehanna River
DESCRIPTION:
URL:https://hikinghoundadventures.com/event/overnight-paddling-trip-susquehanna-river-2/
CATEGORIES:paddling trips
END:VEVENT
BEGIN:VEVENT
DTSTART;TZID=America/New_York:20260705T090000
DTEND;TZID=America/New_York:20260705T090000
DTSTAMP:20260423T173716
CREATED:20251118T164738Z
LAST-MODIFIED:20260213T175925Z
UID:5121-1783242000-1783242000@hikinghoundadventures.com
SUMMARY:Overnight Paddling Trip- Susquehanna River
DESCRIPTION:
URL:https://hikinghoundadventures.com/event/overnight-paddling-trip-susquehanna-river-3/
CATEGORIES:paddling trips
END:VEVENT
BEGIN:VEVENT
DTSTART;TZID=America/New_York:20260707T180000
DTEND;TZID=America/New_York:20260707T180000
DTSTAMP:20260423T173716
CREATED:20260117T214030Z
LAST-MODIFIED:20260117T214030Z
UID:5774-1783447200-1783447200@hikinghoundadventures.com
SUMMARY:Paddling Fundamentals- Phoenixville
DESCRIPTION:
URL:https://hikinghoundadventures.com/event/paddling-fundamentals-phoenixville-2/
CATEGORIES:ACA Course,Paddle
END:VEVENT
BEGIN:VEVENT
DTSTART;TZID=America/New_York:20260708T170000
DTEND;TZID=America/New_York:20260708T170000
DTSTAMP:20260423T173716
CREATED:20251118T164927Z
LAST-MODIFIED:20251118T164927Z
UID:5162-1783530000-1783530000@hikinghoundadventures.com
SUMMARY:Treats on the Trail- Radnor
DESCRIPTION:S’mores
URL:https://hikinghoundadventures.com/event/treats-on-the-trail-radnor-4/
CATEGORIES:Treats
END:VEVENT
BEGIN:VEVENT
DTSTART;TZID=America/New_York:20260709T100000
DTEND;TZID=America/New_York:20260709T100000
DTSTAMP:20260423T173716
CREATED:20251118T164320Z
LAST-MODIFIED:20251229T185643Z
UID:5018-1783591200-1783591200@hikinghoundadventures.com
SUMMARY:2 Day Virtual Leave No Trace Level 1 Instructor Course
DESCRIPTION:
URL:https://hikinghoundadventures.com/event/2-day-virtual-leave-no-trace-level-1-instructor-course-20/
CATEGORIES:LNT
END:VEVENT
BEGIN:VEVENT
DTSTART;TZID=America/New_York:20260710T100000
DTEND;TZID=America/New_York:20260710T100000
DTSTAMP:20260423T173716
CREATED:20251118T164320Z
LAST-MODIFIED:20251229T185643Z
UID:5019-1783677600-1783677600@hikinghoundadventures.com
SUMMARY:2 Day Virtual Leave No Trace Level 1 Instructor Course
DESCRIPTION:
URL:https://hikinghoundadventures.com/event/2-day-virtual-leave-no-trace-level-1-instructor-course-21/
CATEGORIES:LNT
END:VEVENT
BEGIN:VEVENT
DTSTART;TZID=America/New_York:20260711T090000
DTEND;TZID=America/New_York:20260711T090000
DTSTAMP:20260423T173716
CREATED:20251118T164836Z
LAST-MODIFIED:20260217T190047Z
UID:5138-1783760400-1783760400@hikinghoundadventures.com
SUMMARY:HikerBabes Loyalsock- Link Loop: 2 Day\, 1 Night Backpacking Trip
DESCRIPTION:
URL:https://hikinghoundadventures.com/event/pinchot-trial-south-2-day-1-night-backpacking-trip-13/
CATEGORIES:Backpacking Trips
END:VEVENT
BEGIN:VEVENT
DTSTART;TZID=America/New_York:20260711T110000
DTEND;TZID=America/New_York:20260711T110000
DTSTAMP:20260423T173716
CREATED:20251118T165142Z
LAST-MODIFIED:20251118T165142Z
UID:5190-1783767600-1783767600@hikinghoundadventures.com
SUMMARY:Yoga in the Park- Radnor
DESCRIPTION:
URL:https://hikinghoundadventures.com/event/yoga-in-the-park-radnor-3/
CATEGORIES:Yoga
END:VEVENT
BEGIN:VEVENT
DTSTART;TZID=America/New_York:20260712T090000
DTEND;TZID=America/New_York:20260712T090000
DTSTAMP:20260423T173716
CREATED:20251118T164817Z
LAST-MODIFIED:20260217T190102Z
UID:5137-1783846800-1783846800@hikinghoundadventures.com
SUMMARY:HikerBabes Loyalsock-Link Loop: 2 Day\, 1 Night Backpacking Trip
DESCRIPTION:
URL:https://hikinghoundadventures.com/event/pinchot-trial-south-2-day-1-night-backpacking-trip-12/
CATEGORIES:Backpacking Trips
END:VEVENT
BEGIN:VEVENT
DTSTART;TZID=America/New_York:20260713T090000
DTEND;TZID=America/New_York:20260713T090000
DTSTAMP:20260423T173716
CREATED:20251118T164549Z
LAST-MODIFIED:20251229T190052Z
UID:5061-1783933200-1783933200@hikinghoundadventures.com
SUMMARY:Kids Fishing Camp- Upper Providence
DESCRIPTION:
URL:https://hikinghoundadventures.com/event/kids-fishing-camp-upper-providence/
CATEGORIES:Fishing,Summer Camps
END:VEVENT
BEGIN:VEVENT
DTSTART;TZID=America/New_York:20260714T090000
DTEND;TZID=America/New_York:20260714T090000
DTSTAMP:20260423T173716
CREATED:20251118T164549Z
LAST-MODIFIED:20251229T190052Z
UID:5062-1784019600-1784019600@hikinghoundadventures.com
SUMMARY:Kids Fishing Camp- Upper Providence
DESCRIPTION:
URL:https://hikinghoundadventures.com/event/kids-fishing-camp-upper-providence-2/
CATEGORIES:Fishing,Summer Camps
END:VEVENT
BEGIN:VEVENT
DTSTART;TZID=America/New_York:20260714T170000
DTEND;TZID=America/New_York:20260714T170000
DTSTAMP:20260423T173716
CREATED:20251118T164853Z
LAST-MODIFIED:20251118T164853Z
UID:5145-1784048400-1784048400@hikinghoundadventures.com
SUMMARY:Practical Bushcraft- Upper Providence
DESCRIPTION:
URL:https://hikinghoundadventures.com/event/practical-bushcraft-upper-providence-3/
CATEGORIES:Bushcraft
END:VEVENT
BEGIN:VEVENT
DTSTART;TZID=America/New_York:20260714T180000
DTEND;TZID=America/New_York:20260714T180000
DTSTAMP:20260423T173716
CREATED:20251229T185952Z
LAST-MODIFIED:20251229T185952Z
UID:5581-1784052000-1784052000@hikinghoundadventures.com
SUMMARY:Crochet Walk- Upper Providence
DESCRIPTION:
URL:https://hikinghoundadventures.com/event/crochet-walk-upper-providence-4/
CATEGORIES:Crochet
END:VEVENT
END:VCALENDAR