BEGIN:VCALENDAR
VERSION:2.0
PRODID:-//Hiking Hound Adventures, LLC - ECPv6.15.20//NONSGML v1.0//EN
CALSCALE:GREGORIAN
METHOD:PUBLISH
X-ORIGINAL-URL:https://hikinghoundadventures.com
X-WR-CALDESC:Events for Hiking Hound Adventures, LLC
REFRESH-INTERVAL;VALUE=DURATION:PT1H
X-Robots-Tag:noindex
X-PUBLISHED-TTL:PT1H
BEGIN:VTIMEZONE
TZID:America/New_York
BEGIN:DAYLIGHT
TZOFFSETFROM:-0500
TZOFFSETTO:-0400
TZNAME:EDT
DTSTART:20250309T070000
END:DAYLIGHT
BEGIN:STANDARD
TZOFFSETFROM:-0400
TZOFFSETTO:-0500
TZNAME:EST
DTSTART:20251102T060000
END:STANDARD
BEGIN:DAYLIGHT
TZOFFSETFROM:-0500
TZOFFSETTO:-0400
TZNAME:EDT
DTSTART:20260308T070000
END:DAYLIGHT
BEGIN:STANDARD
TZOFFSETFROM:-0400
TZOFFSETTO:-0500
TZNAME:EST
DTSTART:20261101T060000
END:STANDARD
BEGIN:DAYLIGHT
TZOFFSETFROM:-0500
TZOFFSETTO:-0400
TZNAME:EDT
DTSTART:20270314T070000
END:DAYLIGHT
BEGIN:STANDARD
TZOFFSETFROM:-0400
TZOFFSETTO:-0500
TZNAME:EST
DTSTART:20271107T060000
END:STANDARD
END:VTIMEZONE
BEGIN:VEVENT
DTSTART;TZID=America/New_York:20260711T110000
DTEND;TZID=America/New_York:20260711T110000
DTSTAMP:20260423T201447
CREATED:20251118T165142Z
LAST-MODIFIED:20251118T165142Z
UID:5190-1783767600-1783767600@hikinghoundadventures.com
SUMMARY:Yoga in the Park- Radnor
DESCRIPTION:
URL:https://hikinghoundadventures.com/event/yoga-in-the-park-radnor-3/
CATEGORIES:Yoga
END:VEVENT
BEGIN:VEVENT
DTSTART;TZID=America/New_York:20260712T090000
DTEND;TZID=America/New_York:20260712T090000
DTSTAMP:20260423T201447
CREATED:20251118T164817Z
LAST-MODIFIED:20260217T190102Z
UID:5137-1783846800-1783846800@hikinghoundadventures.com
SUMMARY:HikerBabes Loyalsock-Link Loop: 2 Day\, 1 Night Backpacking Trip
DESCRIPTION:
URL:https://hikinghoundadventures.com/event/pinchot-trial-south-2-day-1-night-backpacking-trip-12/
CATEGORIES:Backpacking Trips
END:VEVENT
BEGIN:VEVENT
DTSTART;TZID=America/New_York:20260713T090000
DTEND;TZID=America/New_York:20260713T090000
DTSTAMP:20260423T201447
CREATED:20251118T164549Z
LAST-MODIFIED:20251229T190052Z
UID:5061-1783933200-1783933200@hikinghoundadventures.com
SUMMARY:Kids Fishing Camp- Upper Providence
DESCRIPTION:
URL:https://hikinghoundadventures.com/event/kids-fishing-camp-upper-providence/
CATEGORIES:Fishing,Summer Camps
END:VEVENT
BEGIN:VEVENT
DTSTART;TZID=America/New_York:20260714T090000
DTEND;TZID=America/New_York:20260714T090000
DTSTAMP:20260423T201447
CREATED:20251118T164549Z
LAST-MODIFIED:20251229T190052Z
UID:5062-1784019600-1784019600@hikinghoundadventures.com
SUMMARY:Kids Fishing Camp- Upper Providence
DESCRIPTION:
URL:https://hikinghoundadventures.com/event/kids-fishing-camp-upper-providence-2/
CATEGORIES:Fishing,Summer Camps
END:VEVENT
BEGIN:VEVENT
DTSTART;TZID=America/New_York:20260714T170000
DTEND;TZID=America/New_York:20260714T170000
DTSTAMP:20260423T201447
CREATED:20251118T164853Z
LAST-MODIFIED:20251118T164853Z
UID:5145-1784048400-1784048400@hikinghoundadventures.com
SUMMARY:Practical Bushcraft- Upper Providence
DESCRIPTION:
URL:https://hikinghoundadventures.com/event/practical-bushcraft-upper-providence-3/
CATEGORIES:Bushcraft
END:VEVENT
BEGIN:VEVENT
DTSTART;TZID=America/New_York:20260714T180000
DTEND;TZID=America/New_York:20260714T180000
DTSTAMP:20260423T201447
CREATED:20251229T185952Z
LAST-MODIFIED:20251229T185952Z
UID:5581-1784052000-1784052000@hikinghoundadventures.com
SUMMARY:Crochet Walk- Upper Providence
DESCRIPTION:
URL:https://hikinghoundadventures.com/event/crochet-walk-upper-providence-4/
CATEGORIES:Crochet
END:VEVENT
BEGIN:VEVENT
DTSTART;TZID=America/New_York:20260715T090000
DTEND;TZID=America/New_York:20260715T090000
DTSTAMP:20260423T201447
CREATED:20251118T164604Z
LAST-MODIFIED:20251229T190107Z
UID:5063-1784106000-1784106000@hikinghoundadventures.com
SUMMARY:Kids Fishing Camp- Upper Providence
DESCRIPTION:
URL:https://hikinghoundadventures.com/event/kids-fishing-camp-upper-providence-3/
CATEGORIES:Fishing,Summer Camps
END:VEVENT
BEGIN:VEVENT
DTSTART;TZID=America/New_York:20260715T170000
DTEND;TZID=America/New_York:20260715T170000
DTSTAMP:20260423T201447
CREATED:20251118T164619Z
LAST-MODIFIED:20251229T190124Z
UID:5072-1784134800-1784134800@hikinghoundadventures.com
SUMMARY:Kids Introduction to Fishing- Radnor
DESCRIPTION:
URL:https://hikinghoundadventures.com/event/kids-introduction-to-fishing-radnor-5/
CATEGORIES:Fishing
END:VEVENT
BEGIN:VEVENT
DTSTART;TZID=America/New_York:20260716T090000
DTEND;TZID=America/New_York:20260716T090000
DTSTAMP:20260423T201447
CREATED:20251118T164604Z
LAST-MODIFIED:20251229T190107Z
UID:5064-1784192400-1784192400@hikinghoundadventures.com
SUMMARY:Kids Fishing Camp- Upper Providence
DESCRIPTION:
URL:https://hikinghoundadventures.com/event/kids-fishing-camp-upper-providence-4/
CATEGORIES:Fishing,Summer Camps
END:VEVENT
BEGIN:VEVENT
DTSTART;TZID=America/New_York:20260716T170000
DTEND;TZID=America/New_York:20260716T170000
DTSTAMP:20260423T201447
CREATED:20251118T164640Z
LAST-MODIFIED:20251229T190152Z
UID:5079-1784221200-1784221200@hikinghoundadventures.com
SUMMARY:Kids Introduction to Fishing- Upper Providence
DESCRIPTION:
URL:https://hikinghoundadventures.com/event/kids-introduction-to-fishing-upper-providence-4/
CATEGORIES:Fishing
END:VEVENT
BEGIN:VEVENT
DTSTART;TZID=America/New_York:20260717T090000
DTEND;TZID=America/New_York:20260717T090000
DTSTAMP:20260423T201447
CREATED:20251118T164604Z
LAST-MODIFIED:20251229T190107Z
UID:5065-1784278800-1784278800@hikinghoundadventures.com
SUMMARY:Kids Fishing Camp- Upper Providence
DESCRIPTION:
URL:https://hikinghoundadventures.com/event/kids-fishing-camp-upper-providence-5/
CATEGORIES:Fishing,Summer Camps
END:VEVENT
BEGIN:VEVENT
DTSTART;TZID=America/New_York:20260719T110000
DTEND;TZID=America/New_York:20260719T110000
DTSTAMP:20260423T201447
CREATED:20251118T164935Z
LAST-MODIFIED:20251118T164935Z
UID:5169-1784458800-1784458800@hikinghoundadventures.com
SUMMARY:Treats on the Trail- Springfield (MontCo)
DESCRIPTION:Ice Cream
URL:https://hikinghoundadventures.com/event/treats-on-the-trail-springfield-montco-2/
CATEGORIES:Treats
END:VEVENT
BEGIN:VEVENT
DTSTART;TZID=America/New_York:20260719T120000
DTEND;TZID=America/New_York:20260719T120000
DTSTAMP:20260423T201447
CREATED:20251118T164712Z
LAST-MODIFIED:20251229T190610Z
UID:5098-1784462400-1784462400@hikinghoundadventures.com
SUMMARY:Little Tykes go on Hikes - Radnor Township
DESCRIPTION:Puzzle Hike
URL:https://hikinghoundadventures.com/event/little-tykes-go-on-hikes-radnor-township-15/
CATEGORIES:Little Tykes
END:VEVENT
BEGIN:VEVENT
DTSTART;TZID=America/New_York:20260719T140000
DTEND;TZID=America/New_York:20260719T140000
DTSTAMP:20260423T201447
CREATED:20251118T164917Z
LAST-MODIFIED:20251118T164917Z
UID:5156-1784469600-1784469600@hikinghoundadventures.com
SUMMARY:Treats on the Trail- Phoenixville
DESCRIPTION:Ice Cream
URL:https://hikinghoundadventures.com/event/treats-on-the-trail-phoenixville/
CATEGORIES:Treats
END:VEVENT
BEGIN:VEVENT
DTSTART;TZID=America/New_York:20260720T000000
DTEND;TZID=America/New_York:20260724T235959
DTSTAMP:20260423T201447
CREATED:20260108T163704Z
LAST-MODIFIED:20260108T163704Z
UID:5720-1784505600-1784937599@hikinghoundadventures.com
SUMMARY:Kids Fishing Camp- Plymouth Township
DESCRIPTION:
URL:https://hikinghoundadventures.com/event/kids-fishing-camp-plymouth-township/
CATEGORIES:Fishing,Summer Camps
END:VEVENT
BEGIN:VEVENT
DTSTART;TZID=America/New_York:20260720T090000
DTEND;TZID=America/New_York:20260720T090000
DTSTAMP:20260423T201447
CREATED:20260117T213812Z
LAST-MODIFIED:20260117T213812Z
UID:5759-1784538000-1784538000@hikinghoundadventures.com
SUMMARY:Kids Fishing Camp- Plymouth Township
DESCRIPTION:
URL:https://hikinghoundadventures.com/event/kids-fishing-camp-plymouth-township-2/
CATEGORIES:Fishing,Summer Camps
END:VEVENT
BEGIN:VEVENT
DTSTART;TZID=America/New_York:20260720T150000
DTEND;TZID=America/New_York:20260720T150000
DTSTAMP:20260423T201447
CREATED:20260117T213810Z
LAST-MODIFIED:20260117T213810Z
UID:5754-1784559600-1784559600@hikinghoundadventures.com
SUMMARY:After Care for Summer Camp
DESCRIPTION:
URL:https://hikinghoundadventures.com/event/after-care-for-summer-camp/
CATEGORIES:Summer Camps
END:VEVENT
BEGIN:VEVENT
DTSTART;TZID=America/New_York:20260721T090000
DTEND;TZID=America/New_York:20260721T090000
DTSTAMP:20260423T201447
CREATED:20260117T213812Z
LAST-MODIFIED:20260117T213812Z
UID:5760-1784624400-1784624400@hikinghoundadventures.com
SUMMARY:Kids Fishing Camp- Plymouth Township
DESCRIPTION:
URL:https://hikinghoundadventures.com/event/kids-fishing-camp-plymouth-township-3/
CATEGORIES:Fishing,Summer Camps
END:VEVENT
BEGIN:VEVENT
DTSTART;TZID=America/New_York:20260721T160000
DTEND;TZID=America/New_York:20260721T160000
DTSTAMP:20260423T201447
CREATED:20260117T213810Z
LAST-MODIFIED:20260117T213810Z
UID:5755-1784649600-1784649600@hikinghoundadventures.com
SUMMARY:After Care for Summer Camp
DESCRIPTION:
URL:https://hikinghoundadventures.com/event/after-care-for-summer-camp-2/
CATEGORIES:Summer Camps
END:VEVENT
BEGIN:VEVENT
DTSTART;TZID=America/New_York:20260721T190000
DTEND;TZID=America/New_York:20260721T190000
DTSTAMP:20260423T201447
CREATED:20260117T213829Z
LAST-MODIFIED:20260117T213829Z
UID:5768-1784660400-1784660400@hikinghoundadventures.com
SUMMARY:SUP Yoga- Schuylkill River
DESCRIPTION:
URL:https://hikinghoundadventures.com/event/sup-yoga-schuylkill-river-25/
CATEGORIES:Paddle,Yoga
END:VEVENT
BEGIN:VEVENT
DTSTART;TZID=America/New_York:20260722T090000
DTEND;TZID=America/New_York:20260722T090000
DTSTAMP:20260423T201447
CREATED:20260117T213812Z
LAST-MODIFIED:20260117T213812Z
UID:5761-1784710800-1784710800@hikinghoundadventures.com
SUMMARY:Kids Fishing Camp- Plymouth Township
DESCRIPTION:
URL:https://hikinghoundadventures.com/event/kids-fishing-camp-plymouth-township-4/
CATEGORIES:Fishing,Summer Camps
END:VEVENT
BEGIN:VEVENT
DTSTART;TZID=America/New_York:20260722T170000
DTEND;TZID=America/New_York:20260722T170000
DTSTAMP:20260423T201447
CREATED:20260117T213810Z
LAST-MODIFIED:20260117T213810Z
UID:5756-1784739600-1784739600@hikinghoundadventures.com
SUMMARY:After Care for Summer Camp
DESCRIPTION:
URL:https://hikinghoundadventures.com/event/after-care-for-summer-camp-3/
CATEGORIES:Summer Camps
END:VEVENT
BEGIN:VEVENT
DTSTART;TZID=America/New_York:20260722T180000
DTEND;TZID=America/New_York:20260722T180000
DTSTAMP:20260423T201447
CREATED:20251118T164941Z
LAST-MODIFIED:20251118T164941Z
UID:5174-1784743200-1784743200@hikinghoundadventures.com
SUMMARY:Treats on the Trail- Upper Providence
DESCRIPTION:Water Ice
URL:https://hikinghoundadventures.com/event/treats-on-the-trail-upper-providence-3/
CATEGORIES:Treats
END:VEVENT
BEGIN:VEVENT
DTSTART;TZID=America/New_York:20260723T090000
DTEND;TZID=America/New_York:20260723T090000
DTSTAMP:20260423T201447
CREATED:20260117T213814Z
LAST-MODIFIED:20260117T213814Z
UID:5762-1784797200-1784797200@hikinghoundadventures.com
SUMMARY:Kids Fishing Camp- Plymouth Township
DESCRIPTION:
URL:https://hikinghoundadventures.com/event/kids-fishing-camp-plymouth-township-5/
CATEGORIES:Fishing,Summer Camps
END:VEVENT
BEGIN:VEVENT
DTSTART;TZID=America/New_York:20260723T180000
DTEND;TZID=America/New_York:20260723T180000
DTSTAMP:20260423T201447
CREATED:20260117T213812Z
LAST-MODIFIED:20260117T213812Z
UID:5757-1784829600-1784829600@hikinghoundadventures.com
SUMMARY:After Care for Summer Camp
DESCRIPTION:
URL:https://hikinghoundadventures.com/event/after-care-for-summer-camp-4/
CATEGORIES:Summer Camps
END:VEVENT
BEGIN:VEVENT
DTSTART;TZID=America/New_York:20260723T200000
DTEND;TZID=America/New_York:20260723T200000
DTSTAMP:20260423T201447
CREATED:20251118T164910Z
LAST-MODIFIED:20251118T164910Z
UID:5153-1784836800-1784836800@hikinghoundadventures.com
SUMMARY:SUPreme Excursions- Phoenixville
DESCRIPTION:
URL:https://hikinghoundadventures.com/event/supreme-excursions-phoenixville-2/
CATEGORIES:Paddle
END:VEVENT
BEGIN:VEVENT
DTSTART;TZID=America/New_York:20260724T090000
DTEND;TZID=America/New_York:20260724T090000
DTSTAMP:20260423T201447
CREATED:20251229T190007Z
LAST-MODIFIED:20251229T190007Z
UID:5584-1784883600-1784883600@hikinghoundadventures.com
SUMMARY:Essentials of Canoeing Skills – ACA Level 2 Course – Schuylkill River
DESCRIPTION:
URL:https://hikinghoundadventures.com/event/essentials-of-canoeing-skills-aca-level-2-course-schuylkill-river/
CATEGORIES:ACA Course
END:VEVENT
BEGIN:VEVENT
DTSTART;TZID=America/New_York:20260724T090000
DTEND;TZID=America/New_York:20260724T090000
DTSTAMP:20260423T201447
CREATED:20260117T213814Z
LAST-MODIFIED:20260117T213814Z
UID:5763-1784883600-1784883600@hikinghoundadventures.com
SUMMARY:Kids Fishing Camp- Plymouth Township
DESCRIPTION:
URL:https://hikinghoundadventures.com/event/kids-fishing-camp-plymouth-township-6/
CATEGORIES:Fishing,Summer Camps
END:VEVENT
BEGIN:VEVENT
DTSTART;TZID=America/New_York:20260724T190000
DTEND;TZID=America/New_York:20260724T190000
DTSTAMP:20260423T201447
CREATED:20260117T213812Z
LAST-MODIFIED:20260117T213812Z
UID:5758-1784919600-1784919600@hikinghoundadventures.com
SUMMARY:After Care for Summer Camp
DESCRIPTION:
URL:https://hikinghoundadventures.com/event/after-care-for-summer-camp-5/
CATEGORIES:Fishing,Summer Camps
END:VEVENT
BEGIN:VEVENT
DTSTART;TZID=America/New_York:20260725T090000
DTEND;TZID=America/New_York:20260725T090000
DTSTAMP:20260423T201447
CREATED:20251229T190208Z
LAST-MODIFIED:20251229T190208Z
UID:5623-1784970000-1784970000@hikinghoundadventures.com
SUMMARY:Leave No Trace Level 1 Instructor Course- 2 Day Canoe Trip
DESCRIPTION:
URL:https://hikinghoundadventures.com/event/leave-no-trace-level-1-instructor-course-2-day-canoe-trip/
CATEGORIES:LNT,paddling trips
END:VEVENT
END:VCALENDAR