BEGIN:VCALENDAR
VERSION:2.0
PRODID:-//Hiking Hound Adventures, LLC - ECPv6.15.20//NONSGML v1.0//EN
CALSCALE:GREGORIAN
METHOD:PUBLISH
X-WR-CALNAME:Hiking Hound Adventures, LLC
X-ORIGINAL-URL:https://hikinghoundadventures.com
X-WR-CALDESC:Events for Hiking Hound Adventures, LLC
REFRESH-INTERVAL;VALUE=DURATION:PT1H
X-Robots-Tag:noindex
X-PUBLISHED-TTL:PT1H
BEGIN:VTIMEZONE
TZID:America/New_York
BEGIN:DAYLIGHT
TZOFFSETFROM:-0500
TZOFFSETTO:-0400
TZNAME:EDT
DTSTART:20230312T070000
END:DAYLIGHT
BEGIN:STANDARD
TZOFFSETFROM:-0400
TZOFFSETTO:-0500
TZNAME:EST
DTSTART:20231105T060000
END:STANDARD
BEGIN:DAYLIGHT
TZOFFSETFROM:-0500
TZOFFSETTO:-0400
TZNAME:EDT
DTSTART:20240310T070000
END:DAYLIGHT
BEGIN:STANDARD
TZOFFSETFROM:-0400
TZOFFSETTO:-0500
TZNAME:EST
DTSTART:20241103T060000
END:STANDARD
BEGIN:DAYLIGHT
TZOFFSETFROM:-0500
TZOFFSETTO:-0400
TZNAME:EDT
DTSTART:20250309T070000
END:DAYLIGHT
BEGIN:STANDARD
TZOFFSETFROM:-0400
TZOFFSETTO:-0500
TZNAME:EST
DTSTART:20251102T060000
END:STANDARD
END:VTIMEZONE
BEGIN:VEVENT
DTSTART;TZID=America/New_York:20241103T130000
DTEND;TZID=America/New_York:20241103T140000
DTSTAMP:20260424T075823
CREATED:20240823T153639Z
LAST-MODIFIED:20240823T153639Z
UID:1549-1730638800-1730642400@hikinghoundadventures.com
SUMMARY:Little Tykes Go on Hikes: An Introduction to Hiking with Kids + Nature BINGO! Hike
DESCRIPTION:Radnor Township Parks & Recreation is excited to partner with Hiking Hound Adventures\, LLC to present Little Tykes go on Hikes a local\, outdoor\, family-friendly activity to do with kids! During this 45-minute course\, Hiking Hound Adventures\, LLC will be on the trail with little ones and their guardians to tackle some of the most asked questions surrounding taking kids into the woods. Through fun games and hands-on activities\, we’ll cover safety (each child will get a safety whistle)\, choosing the right trail\, packing considerations\, leave no trace\, and more\, all while enjoying the trails and nature between the Willows Park and Skunk Hollow Trails. \nAugust 28th 6:00-7:00 – Treats on the Trail: An Ice Cream Adventure \nSeptember 5th 6:00-7:00 – Trailblazers Treasure Hunt \nSeptember 15th 4:00-5:00 – Wander and Wade: A Creekside Expedition \nOctober 6th 4:00-5:00 – Tales on the Trail: A Storybook Journey \nOctober 22nd 5:45-6:45 – Trick or Treat Trek \nNovember 3rd 1:00-2:00 – Nature BINGO! Hike \nNovember 16th 3:00-4:00 – Puzzle Pursuit: A Geocache Quest
URL:https://hikinghoundadventures.com/event/little-tykes-go-on-hikes-an-introduction-to-hiking-with-kids-nature-bingo-hike/
LOCATION:The Willows Park\, 490 Darby Paoli Road\, Villanova\, PA\, 19085\, United States
CATEGORIES:Hike,Partnership Event
ORGANIZER;CN="Radnor Township Parks and Recreation":MAILTO:recreation@radnor.org
END:VEVENT
BEGIN:VEVENT
DTSTART;TZID=America/New_York:20241108T080000
DTEND;TZID=America/New_York:20241110T120000
DTSTAMP:20260424T075823
CREATED:20241013T213958Z
LAST-MODIFIED:20241013T213958Z
UID:1809-1731052800-1731240000@hikinghoundadventures.com
SUMMARY:Explore the Old Loggers Path: 3-Day Guided Backpacking Adventure
DESCRIPTION:11/8/25- 11/10/25 \n\n\n\n\n\n\nExplore the Old Loggers Path: 3-Day Guided Backpacking Adventure with Hiking Hound Adventures\, LLC \nJoin us for an exciting 3-day\, 2-night backpacking trip along the beautiful Old Loggers Path in Pennsylvania’s Loyalsock State Forest! Experience stunning views\, diverse wildlife\, and the rich logging history of the region as our expert guides lead you through this scenic trail. \nThis adventure is perfect for hikers of all skill levels. You’ll have the chance to discover hidden gems\, enjoy breathtaking landscapes\, and unwind in the great outdoors. Whether you’re an experienced backpacker or new to the trails\, Hiking Hound Adventures\, LLC offers an unforgettable experience. \n\n\n\n\n\n\nThe Old Loggers Path is a scenic hiking trail located in the Loyalsock State Forest of Pennsylvania. Spanning approximately 27 miles\, it offers a mix of rugged terrain\, picturesque views\, and a glimpse into the area’s logging history. The Old Loggers Path is a beautiful and historic trail that offers a rewarding hiking experience in Pennsylvania’s natural landscape. Whether you’re a seasoned hiker or a casual outdoor enthusiast\, this trail provides an opportunity to connect with nature and explore the rich history of the region. \nTrail Overview\n\nLocation: Loyalsock State Forest\, Sullivan County\, PA\nLength: About 27 miles\nDifficulty: Moderate to challenging\nTerrain: Varied\, including rocky sections\, steep climbs\, and flat areas\n\n  \n—————————————————————————————————————————– \nHiking Hound Adventures\, LLC offers a variety of overnight and multi-day backpacking excursions. From first timers to seasoned hikers\, these trips offer something for everyone. The trip is fully guided and our skilled instructors are there to offer hands-on learning opportunities if desired. Leave the planning to us\, strap on your boots\, and enjoy your journey! \nWe offer outfitting and gear rentals. \n  \nWe also offer private trips\, team building trips\, bachelor/bachelorette party trips\, and more! If you would like to inquire about private\, custom trip options and pricing\, please contact us directly. \nTrip options: \n\n2 day\, 1 night\n3 day\, 2 night\n4 day\, 3 night\nGuided Laurel Highland Trail Section Hike\nGuided Laurel Highland Trail Thru Hike\n\n  \n***Recommended age is 15 years and older- Anyone under 18 must be registered and be accompanied by a registered adult***
URL:https://hikinghoundadventures.com/event/explore-the-old-loggers-path-3-day-guided-backpacking-adventure/
LOCATION:Loyalsock State Forest\, Pleasant Stream Rd\, Canton\, PA\, 17724\, United States
CATEGORIES:Hike
ATTACH;FMTTYPE=image/png:https://hikinghoundadventures.com/wp-content/uploads/2024/03/Thumbnail-Backpacking-2.png
ORGANIZER;CN="Hiking Hound Adventures%2C LLC":MAILTO:info@hikinghoundadventures.com
END:VEVENT
BEGIN:VEVENT
DTSTART;TZID=America/New_York:20241114T190000
DTEND;TZID=America/New_York:20241114T193000
DTSTAMP:20260424T075823
CREATED:20241111T050549Z
LAST-MODIFIED:20241111T050759Z
UID:1963-1731610800-1731612600@hikinghoundadventures.com
SUMMARY:Virtual Intro to Backpacking Course
DESCRIPTION:Curious about backpacking but not sure where to begin? Join our fun and friendly 30-minute virtual introduction to backpacking class! This session is perfect for anyone looking to dive into the world of outdoor adventures. \nIn this relaxed and interactive class\, you’ll learn the basics of backpacking\, including how to choose the right gear\, pack efficiently\, and stay safe on the trail. Our experienced instructor will share personal tips and tricks to help you feel comfortable and prepared for your first hike. \nYou’ll also get a chance to ask questions and connect with fellow outdoor enthusiasts\, creating a supportive community of future backpackers. Whether you’re planning a short day hike or dreaming of a longer trek\, this class will equip you with the knowledge you need to get started. \nBy the end of our time together\, you’ll have a clearer picture of what backpacking entails and feel inspired to hit the trails. \nDon’t miss out on this opportunity to kickstart your outdoor journey! Sign up today for our virtual introduction to backpacking class and take the first step toward unforgettable adventures in nature. Embrace the wilderness with us and discover the joy of exploring the great outdoors!
URL:https://hikinghoundadventures.com/event/virtual-intro-to-backpacking-course/
LOCATION:Virtual
CATEGORIES:Course
ORGANIZER;CN="Hiking Hound Adventures%2C LLC":MAILTO:info@hikinghoundadventures.com
END:VEVENT
BEGIN:VEVENT
DTSTART;TZID=America/New_York:20241116T090000
DTEND;TZID=America/New_York:20241116T110000
DTSTAMP:20260424T075823
CREATED:20241111T051111Z
LAST-MODIFIED:20241111T051442Z
UID:1969-1731747600-1731754800@hikinghoundadventures.com
SUMMARY:Map and Compass Course
DESCRIPTION:Join Hiking Hound Adventures\, LLC as we present an introduction to topographic map and compass- your gateway to mastering outdoor navigation! \nLearn the essentials of map reading and compass navigation in this 90 minute class. Together we will spend a half an hour in the classroom. There you will learn map components like scale and contour lines\, as well as compass parts and techniques such as taking bearings and finding your location on a map. \nWe will then spend a full hour with hands-on field instruction. Here we will put theory into practice and help you gain confidence navigating diverse terrain using your map and compass. \nJoin us to unlock the skills needed to confidently explore the great outdoors! \nCompasses and classroom materials will be provided for use during the course. If you would like a compass to take home\, we have them available for purchase. Add one to your cart and we will have it for you at the course. COMPASS \n  \n***Recommended age is 12 years and older- Anyone under 18 must be registered accompanied by a registered adult***
URL:https://hikinghoundadventures.com/event/map-and-compass-course/
LOCATION:Louis Scott Memorial Park\, 998 Ridley Creek Road\, Media\, PA\, 19063\, United States
CATEGORIES:Course
ATTACH;FMTTYPE=image/png:https://hikinghoundadventures.com/wp-content/uploads/2024/09/Website-Thumbnail-Compass.png
END:VEVENT
BEGIN:VEVENT
DTSTART;TZID=America/New_York:20241116T150000
DTEND;TZID=America/New_York:20241116T160000
DTSTAMP:20260424T075823
CREATED:20240823T154058Z
LAST-MODIFIED:20240823T154058Z
UID:1551-1731769200-1731772800@hikinghoundadventures.com
SUMMARY:Little Tykes Go on Hikes: An Introduction to Hiking with Kids + Puzzle Pursuit: A Geocache Quest
DESCRIPTION:Radnor Township Parks & Recreation is excited to partner with Hiking Hound Adventures\, LLC to present Little Tykes go on Hikes a local\, outdoor\, family-friendly activity to do with kids! During this 45-minute course\, Hiking Hound Adventures\, LLC will be on the trail with little ones and their guardians to tackle some of the most asked questions surrounding taking kids into the woods. Through fun games and hands-on activities\, we’ll cover safety (each child will get a safety whistle)\, choosing the right trail\, packing considerations\, leave no trace\, and more\, all while enjoying the trails and nature between the Willows Park and Skunk Hollow Trails. \nAugust 28th 6:00-7:00 – Treats on the Trail: An Ice Cream Adventure \nSeptember 5th 6:00-7:00 – Trailblazers Treasure Hunt \nSeptember 15th 4:00-5:00 – Wander and Wade: A Creekside Expedition \nOctober 6th 4:00-5:00 – Tales on the Trail: A Storybook Journey \nOctober 22nd 5:45-6:45 – Trick or Treat Trek \nNovember 3rd 1:00-2:00 – Nature BINGO! Hike \nNovember 16th 3:00-4:00 – Puzzle Pursuit: A Geocache Quest
URL:https://hikinghoundadventures.com/event/little-tykes-go-on-hikes-an-introduction-to-hiking-with-kids-puzzle-pursuit-a-geocache-quest/
LOCATION:The Willows Park\, 490 Darby Paoli Road\, Villanova\, PA\, 19085\, United States
CATEGORIES:Hike,Partnership Event
ORGANIZER;CN="Radnor Township Parks and Recreation":MAILTO:recreation@radnor.org
END:VEVENT
BEGIN:VEVENT
DTSTART;TZID=America/New_York:20241117T090000
DTEND;TZID=America/New_York:20241117T100000
DTSTAMP:20260424T075823
CREATED:20241111T051339Z
LAST-MODIFIED:20241112T154709Z
UID:1971-1731834000-1731837600@hikinghoundadventures.com
SUMMARY:National Hiking Day Nature Hike
DESCRIPTION:Its National Hiking Day \n  \nFall Foliage Fun 🍂\nAs autumn unfolds\, our Fall Hikes offer a spectacular display of color. Experience the invigorating air and breathtaking foliage as we traverse scenic paths through forests adorned with reds\, oranges\, and yellows. Our guides will explain the science behind the changing leaves and highlight the local wildlife preparing for winter. Embrace the tranquil atmosphere and the sound of crunching leaves underfoot while creating cherished memories with your loved ones.
URL:https://hikinghoundadventures.com/event/national-hiking-day-nature-hike/
LOCATION:Louis Scott Memorial Park\, 998 Ridley Creek Road\, Media\, PA\, 19063\, United States
CATEGORIES:Hike
ATTACH;FMTTYPE=image/png:https://hikinghoundadventures.com/wp-content/uploads/2024/09/Thumbnail-Nature-Hike.png
ORGANIZER;CN="Hiking Hound Adventures%2C LLC":MAILTO:info@hikinghoundadventures.com
END:VEVENT
BEGIN:VEVENT
DTSTART;TZID=America/New_York:20241117T150000
DTEND;TZID=America/New_York:20241117T160000
DTSTAMP:20260424T075823
CREATED:20241111T051807Z
LAST-MODIFIED:20241111T051807Z
UID:1974-1731855600-1731859200@hikinghoundadventures.com
SUMMARY:Treasure Hunt Hike
DESCRIPTION:Join Hiking Hound Adventures\, LLC as we search for treasure! This family friendly hike will allow participants to learn and explore as we will follow clues and a map through the woods in search of a treasure. \n***Recommended age is  3-12 years old\, but all ages are welcome- Price is per child. Children must be accompanied by an adult. Children under 3 years old are free when accompanying another registered child***
URL:https://hikinghoundadventures.com/event/treasure-hunt-hike-3/
LOCATION:Louis Scott Memorial Park\, 998 Ridley Creek Road\, Media\, PA\, 19063\, United States
CATEGORIES:Hike
ORGANIZER;CN="Hiking Hound Adventures%2C LLC":MAILTO:info@hikinghoundadventures.com
END:VEVENT
BEGIN:VEVENT
DTSTART;TZID=America/New_York:20241121T190000
DTEND;TZID=America/New_York:20241121T193000
DTSTAMP:20260424T075823
CREATED:20241111T050722Z
LAST-MODIFIED:20241111T051501Z
UID:1966-1732215600-1732217400@hikinghoundadventures.com
SUMMARY:Virtual Intro to Backpacking Course
DESCRIPTION:Curious about backpacking but not sure where to begin? Join our fun and friendly 30-minute virtual introduction to backpacking class! This session is perfect for anyone looking to dive into the world of outdoor adventures. \nIn this relaxed and interactive class\, you’ll learn the basics of backpacking\, including how to choose the right gear\, pack efficiently\, and stay safe on the trail. Our experienced instructor will share personal tips and tricks to help you feel comfortable and prepared for your first hike. \nYou’ll also get a chance to ask questions and connect with fellow outdoor enthusiasts\, creating a supportive community of future backpackers. Whether you’re planning a short day hike or dreaming of a longer trek\, this class will equip you with the knowledge you need to get started. \nBy the end of our time together\, you’ll have a clearer picture of what backpacking entails and feel inspired to hit the trails. \nDon’t miss out on this opportunity to kickstart your outdoor journey! Sign up today for our virtual introduction to backpacking class and take the first step toward unforgettable adventures in nature. Embrace the wilderness with us and discover the joy of exploring the great outdoors!
URL:https://hikinghoundadventures.com/event/1966/
LOCATION:Virtual
CATEGORIES:Course
ORGANIZER;CN="Hiking Hound Adventures%2C LLC":MAILTO:info@hikinghoundadventures.com
END:VEVENT
BEGIN:VEVENT
DTSTART;TZID=America/New_York:20241124T110000
DTEND;TZID=America/New_York:20241124T130000
DTSTAMP:20260424T075823
CREATED:20241111T052016Z
LAST-MODIFIED:20241111T052016Z
UID:1976-1732446000-1732453200@hikinghoundadventures.com
SUMMARY:Backpacking Fundamentals
DESCRIPTION:Are you eager to dive into the world of wilderness backpacking but short on time? Our Backpacking Fundamentals course is the perfect solution! This dynamic two-hour session condenses the essential skills from our comprehensive half-day course\, providing you with the key knowledge you need to confidently embark on your outdoor adventures. \nIn this fast-paced course\, we focus on the fundamentals of wilderness backpacking\, ideal for beginners and seasoned adventurers alike. You’ll learn vital Leave No Trace principles\, helping you preserve the stunning landscapes you explore. Discover how to select and set up a campsite\, ensuring comfort and safety in the great outdoors. Our expert instructors will guide you through crucial water filtration techniques to keep you hydrated on your journey. \nWe’ll also learn effective methods for maintaining camp hygiene and keeping your food secure from wildlife. \nThe Backpacking Fundamentals course is designed to provide you with hands-on experience and actionable insights\, setting you up for success in your outdoor pursuits. By the end of this engaging session\, you’ll have the confidence and competence to hit the trails\, ready for your next adventure! \nDon’t let a busy schedule keep you from experiencing the thrill of the great outdoors. Sign up for our Backpacking Fundamentals course today and take your first step toward unforgettable backpacking experiences! \n  \n***Recommended age is 12 years and older- Anyone under 18 must be registered accompanied by a registered adult***
URL:https://hikinghoundadventures.com/event/backpacking-fundamentals/
LOCATION:Louis Scott Memorial Park\, 998 Ridley Creek Road\, Media\, PA\, 19063\, United States
CATEGORIES:Course
ATTACH;FMTTYPE=image/png:https://hikinghoundadventures.com/wp-content/uploads/2024/09/Website-Thumbnail-Skills-1.png
ORGANIZER;CN="Hiking Hound Adventures%2C LLC":MAILTO:info@hikinghoundadventures.com
END:VEVENT
END:VCALENDAR