BEGIN:VCALENDAR
VERSION:2.0
PRODID:-//Hiking Hound Adventures, LLC - ECPv6.15.20//NONSGML v1.0//EN
CALSCALE:GREGORIAN
METHOD:PUBLISH
X-WR-CALNAME:Hiking Hound Adventures, LLC
X-ORIGINAL-URL:https://hikinghoundadventures.com
X-WR-CALDESC:Events for Hiking Hound Adventures, LLC
REFRESH-INTERVAL;VALUE=DURATION:PT1H
X-Robots-Tag:noindex
X-PUBLISHED-TTL:PT1H
BEGIN:VTIMEZONE
TZID:America/New_York
BEGIN:DAYLIGHT
TZOFFSETFROM:-0500
TZOFFSETTO:-0400
TZNAME:EDT
DTSTART:20240310T070000
END:DAYLIGHT
BEGIN:STANDARD
TZOFFSETFROM:-0400
TZOFFSETTO:-0500
TZNAME:EST
DTSTART:20241103T060000
END:STANDARD
BEGIN:DAYLIGHT
TZOFFSETFROM:-0500
TZOFFSETTO:-0400
TZNAME:EDT
DTSTART:20250309T070000
END:DAYLIGHT
BEGIN:STANDARD
TZOFFSETFROM:-0400
TZOFFSETTO:-0500
TZNAME:EST
DTSTART:20251102T060000
END:STANDARD
BEGIN:DAYLIGHT
TZOFFSETFROM:-0500
TZOFFSETTO:-0400
TZNAME:EDT
DTSTART:20260308T070000
END:DAYLIGHT
BEGIN:STANDARD
TZOFFSETFROM:-0400
TZOFFSETTO:-0500
TZNAME:EST
DTSTART:20261101T060000
END:STANDARD
END:VTIMEZONE
BEGIN:VEVENT
DTSTART;TZID=America/New_York:20250301T000000
DTEND;TZID=America/New_York:20250302T235959
DTSTAMP:20260424T024910
CREATED:20250127T185616Z
LAST-MODIFIED:20250127T185616Z
UID:2835-1740787200-1740959999@hikinghoundadventures.com
SUMMARY:Wilderness First Aid Course (WFA)
DESCRIPTION:Wilderness First Aid Course\nFor those venturing into the outdoors or working in remote environments\, being prepared for medical emergencies is essential. Our Wilderness First Aid Course is designed for scouts\, scout leaders\, outdoor enthusiasts\, and anyone who works in environments where help from professional first responders may be far away. This course teaches essential wilderness first aid skills ensuring you are equipped to handle a variety of emergencies when every second counts. \nCourse Highlights:\n\nCourse Length: 16 hours over 2 days.\nPrerequisites: Must be at least 14 years old and have a valid adult CPR/AED certificate.\nCertification: 2-year certification with digital certificates available upon successful completion.\nMaterials Included: First aid training materials and supplies\, Wilderness and Remote First Aid emergency reference manual\, pocket field guide.\n\nWilderness First Aid Topics:\n\nPrimary and Secondary Assessments: Learn how to assess and prioritize injuries effectively in remote settings.\nHead\, Brain\, Neck\, and Spinal Injuries: Techniques for managing spinal injuries and head trauma.\nHeat-Related Emergencies: Recognize and treat conditions like heat exhaustion and heatstroke.\nHypothermia: Understanding and responding to hypothermic conditions.\nAltitude-Related Illnesses: Identifying and managing altitude sickness.\nAllergies and Anaphylaxis: Treating allergic reactions.\nBurns: First aid for various types of burns.\nBone and Joint Injuries: Stabilizing fractures and sprains in remote environments.\nWounds and Wound Infection: Proper techniques for cleaning\, dressing\, and managing wounds to prevent infection.\n\nBoy Scouts of America Wilderness First Aid Curriculum and Doctrine Guidelines\, this course aligns with OSHA’s Best Practices for Workplace First Aid Training Programs. \n\nThis course is perfect for anyone spending time outdoors or in remote locations. Whether you’re a scout leader\, outdoor educator\, or wilderness enthusiast\, this training ensures that you’re ready to act in any emergency situation. \n \n\nRegister Now for the  Wilderness First Aid Course and gain the critical skills needed to save lives in the backcountry.
URL:https://hikinghoundadventures.com/event/wilderness-first-aid-course-wfa/
LOCATION:Louis Scott Memorial Park\, 998 Ridley Creek Road\, Media\, PA\, 19063\, United States
CATEGORIES:Course
ATTACH;FMTTYPE=image/png:https://hikinghoundadventures.com/wp-content/uploads/2024/12/First-Aid-2.png
ORGANIZER;CN="Hiking Hound Adventures%2C LLC":MAILTO:info@hikinghoundadventures.com
END:VEVENT
BEGIN:VEVENT
DTSTART;TZID=America/New_York:20250301T120000
DTEND;TZID=America/New_York:20250301T140000
DTSTAMP:20260424T024910
CREATED:20241203T173827Z
LAST-MODIFIED:20241203T173827Z
UID:2329-1740830400-1740837600@hikinghoundadventures.com
SUMMARY:Backpacking Fundamentals w/ Lower Makefield Township
DESCRIPTION:Are you eager to dive into the world of wilderness backpacking but short on time? Our Backpacking Fundamentals course is the perfect solution! This dynamic two-hour session condenses the essential skills from our comprehensive half-day course\, providing you with the key knowledge you need to confidently embark on your outdoor adventures. \nIn this course\, we focus on the fundamentals of wilderness backpacking\, ideal for beginners and seasoned adventurers alike. You’ll learn vital Leave No Trace principles\, helping you preserve the stunning landscapes you explore. Discover how to select and set up a campsite\, ensuring comfort and safety in the great outdoors. Our expert instructors will guide you through crucial water filtration techniques to keep you hydrated on your journey. \nWe’ll also learn effective methods for maintaining camp hygiene and keeping your food secure from wildlife. \nThe Backpacking Fundamentals course is designed to provide you with hands-on experience and actionable insights\, setting you up for success in your outdoor pursuits. By the end of this engaging session\, you’ll have the confidence and competence to hit the trails\, ready for your next adventure! \nDon’t let a busy schedule keep you from experiencing the thrill of the great outdoors. Sign up for our Backpacking Fundamentals course today and take your first step toward unforgettable backpacking experiences! \n  \n***Recommended age is 12 years and older- Anyone under 18 must be registered accompanied by a registered adult***
URL:https://hikinghoundadventures.com/event/backpacking-fundamentals-w-lower-makefield-township/
LOCATION:Five Mile Woods\, 1305 Big Oak Rd\, Yardley\, PA\, 19067
CATEGORIES:Course
END:VEVENT
BEGIN:VEVENT
DTSTART;TZID=America/New_York:20250308T140000
DTEND;TZID=America/New_York:20250308T150000
DTSTAMP:20260424T024910
CREATED:20250225T195643Z
LAST-MODIFIED:20250225T195643Z
UID:3012-1741442400-1741446000@hikinghoundadventures.com
SUMMARY:Outdoor Essentials at the Media-UP Free Library
DESCRIPTION:Outdoor Essentials \nHIKE SMARTER\, TREAD LIGHTER \nJoin Hiking Hound Adventures\, LLC as they review the basics of enjoying the outdoors safely and responsibly in this one-hour session. They’ll cover key Leave No Trace principles\, including how to minimize your impact on nature\, and discuss essential skills for safe and sustainable outdoor adventures. Perfect for beginner hikers and nature enthusiasts alike! \n\n\nDate:\nSaturday\, March 8\, 2025\nTime:\n2:00pm – 3:00pm\nLocation:\nCommunity Large Meeting\nMedia-Upper Providence Free Library\nAudience:\n  All Ages \nCategories:\n  Travel 
URL:https://hikinghoundadventures.com/event/outdoor-essentials-at-the-media-up-free-library/
LOCATION:Media- Upper Providence Free Library\, 1 E Front St\, Media\, PA\, 19063\, United States
CATEGORIES:Course,Partnership Event
END:VEVENT
BEGIN:VEVENT
DTSTART;TZID=America/New_York:20250309T110000
DTEND;TZID=America/New_York:20250309T120000
DTSTAMP:20260424T024910
CREATED:20250117T045208Z
LAST-MODIFIED:20250307T204750Z
UID:2693-1741518000-1741521600@hikinghoundadventures.com
SUMMARY:Little Tykes go on Hikes w/ Upper Providence Township
DESCRIPTION:Hiking with kids can be an intimidating topic. During this 45 minute course\, Hiking Hound Adventures\, LLC will be on the trail with little ones and their guardians to tackle some of the most asked questions surrounding taking kids into the woods. Through fun games and hands-on activities\, we cover safety\, choosing the right trail\, packing considerations\, and much more!  \nMain Topics: \n\nSafety\nPacking\nFun on-trail games and activities\nLeave No Trace\n\n***Recommended age is  3-12 years old\, but all ages are welcome- Price is per child. Children must be accompanied by an adult. Children under 3 years old are free when accompanying another registered child***
URL:https://hikinghoundadventures.com/event/little-tykes-go-on-hikes-w-upper-providence-township/
LOCATION:Louis Scott Memorial Park\, 998 Ridley Creek Road\, Media\, PA\, 19063\, United States
CATEGORIES:Hike,Partnership Event
END:VEVENT
BEGIN:VEVENT
DTSTART;TZID=America/New_York:20250309T130000
DTEND;TZID=America/New_York:20250309T140000
DTSTAMP:20260424T024910
CREATED:20241203T174058Z
LAST-MODIFIED:20241203T174058Z
UID:2331-1741525200-1741528800@hikinghoundadventures.com
SUMMARY:Little Tykes go on Hikes! w/ Radnor Parks and Rec.
DESCRIPTION:Hiking with kids can be an intimidating topic. During this 45 minute course\, Hiking Hound Adventures\, LLC will be on the trail with little ones and their guardians to tackle some of the most asked questions surrounding taking kids into the woods. Through fun games and hands-on activities\, we cover safety\, choosing the right trail\, packing considerations\, and much more!  \nMain Topics: \n\nSafety\nPacking\nFun on-trail games and activities\nLeave No Trace\n\n***Recommended age is  3-12 years old\, but all ages are welcome- Price is per child. Children must be accompanied by an adult. Children under 3 years old are free when accompanying another registered child*** \nWinter Dates- Registration OPEN NOW!\nDecember 21st\, 2024- 1:00-2:00 – Winter Wonderland Storybook Hike \nJanuary 18th\, 2025- 1:00-2:00- Hot Chocolate Hike \nFebruary 9th\, 2025- 3:00-4:00- Winter Treasure Hunt \nSpring Dates- Registration coming soon!\nMarch 9th- 1pm – Nature BINGO! Hike \nMarch 29th\, 10am – Trailblazers Treasure Hunt \nApril 12th- 10am – Puzzle Pursuit: A Geocache Quest \nApril 29th- 5pm – Tales on the Trail: A Storybook Journey \nMay 14th- 6pm – Leave no Trace Scavenger Hunt \nMay 28th- 5pm – Wander and Wade: A Creekside Expedition \nJune 8th- 4pm -Treats on the Trail: An Ice Cream Adventure \nSummer Dates- Registration coming soon!\nJune 19th- 6pm – Nature BINGO! Hike \nJuly 12th- 1pm – Trailblazers Treasure Hunt \nJuly 29th- 6pm – Puzzle Pursuit: A Geocache Quest \nAugust 11th- 10am – Tales on the Trail: A Storybook Journey \nAugust 23rd- 7pm – Leave no Trace Scavenger Hunt \nSeptember 14th- Noon – Wander and Wade: A Creekside Expedition \nSeptember 30th- 6pm -Treats on the Trail: An Ice Cream Adventure
URL:https://hikinghoundadventures.com/event/little-tykes-go-on-hikes-w-radnor-parks-and-rec-3/
LOCATION:The Willows Park\, 490 Darby Paoli Road\, Villanova\, PA\, 19085\, United States
CATEGORIES:Hike
ORGANIZER;CN="Radnor Township Parks and Recreation":MAILTO:recreation@radnor.org
END:VEVENT
BEGIN:VEVENT
DTSTART;TZID=America/New_York:20250313T180000
DTEND;TZID=America/New_York:20250313T190000
DTSTAMP:20260424T024910
CREATED:20250225T200009Z
LAST-MODIFIED:20250307T204739Z
UID:3017-1741888800-1741892400@hikinghoundadventures.com
SUMMARY:Treasure Hunt Hike
DESCRIPTION:Join Hiking Hound Adventures\, LLC as we search for treasure! This family friendly hike will allow participants to learn and explore as we will follow clues and a map through the woods in search of a treasure. \n***Recommended age is  3-12 years old\, but all ages are welcome- Price is per child. Children must be accompanied by an adult. Children under 3 years old are free when accompanying another registered child***
URL:https://hikinghoundadventures.com/event/treasure-hunt-hike-4/
LOCATION:Media\, PA\, Media\, PA\, United States
CATEGORIES:Hike
ORGANIZER;CN="Hiking Hound Adventures%2C LLC":MAILTO:info@hikinghoundadventures.com
END:VEVENT
BEGIN:VEVENT
DTSTART;TZID=America/New_York:20250315T100000
DTEND;TZID=America/New_York:20250316T170000
DTSTAMP:20260424T024910
CREATED:20241203T175416Z
LAST-MODIFIED:20241203T175416Z
UID:2333-1742032800-1742144400@hikinghoundadventures.com
SUMMARY:Leave No Trace Level 1 Instructor Course- Virtual
DESCRIPTION:What is a Leave No Trace Level 1 Instructor Course with Hiking Hound Adventures\, LLC?\n\n\n\n\n\n\n\n\n\n\nAt Hiking Hound Adventures\, LLC\, our Level 1 Instructor Course is designed to teach participants the essential Leave No Trace (LNT) skills\, ethics\, and techniques for educating others about responsible outdoor practices. Over the course of two consecutive days\, participants engage in more than half of their training outdoors\, putting theory into practice in real-world environments. \nUpon completion\, graduates are equipped to lead Leave No Trace Skills Courses and Workshops within their communities\, empowering them to share this vital knowledge with others. This course is especially valuable for staff members of organizations who are responsible for teaching Leave No Trace principles to the public\, as well as outdoor educators and guides. In essence\, you’ll be prepared to conduct your own LNT courses and workshops\, spreading sustainable outdoor practices far and wide. \nParticipants who successfully complete the course will receive certification from Leave No Trace (LNT) and must re-certify every two years. As a certified Level 1 Instructor\, you’ll also have the opportunity to serve as a co-instructor on both Level 1 and Level 2 courses and issue completion certificates for LNT Skills Courses and Workshops. \nCourse Structure and Requirements\nThe Level 1 Instructor Course includes 16 total hours of experiential learning\, with a mix of synchronous (live\, interactive) and asynchronous (self-paced) instruction. Specifically\, there are a minimum of 10 hours of synchronous instruction via Zoom and no more than 6 hours of asynchronous instruction. This structure ensures an engaging and effective experience for all participants. \nRequired Course Materials: \n\nDigital Level 1 Instructor Course Packet (Available for free online)\nPhysical Course Packet (Optional purchase available if desired- this is not required)\n\nRequired Equipment: \n\nA computer\, laptop\, or tablet with a stable internet connection\nA forward-facing camera\nA recording device (such as a smartphone) for presentation.\n\nParticipant Expectations\nTo successfully complete the course\, participants are required to: \n\nAttend all synchronous Zoom sessions\nComplete all course assignments\, both synchronous and asynchronous\nTeach a Leave No Trace lesson as part of the course\n\nParticipants must be 18 years or older to enroll. This course is open to anyone passionate about Leave No Trace\, especially outdoor instructors\, guides\, educators\, Scout leaders\, land managers\, and nature enthusiasts. Both US-based and international participants are welcome. \nCourse Registration and Pre-Course Work\nOnce registered\, participants will receive instructions\, pre-course assignments\, course materials\, and Zoom session links. Some assignments must be completed before the first Zoom session\, while others are due by the end of the course. Participants can begin their pre-course work at any time after registration. \nCertification and Outcomes\nUpon successful completion of the course\, participants will become certified Leave No Trace Level 1 Instructors. This certification prepares you to: \n\nDemonstrate and teach Leave No Trace techniques to friends\, family\, and community groups\nLead discussions on outdoor ethics and help others develop their personal outdoor ethics\nLead Leave No Trace Skills Courses and Workshops in a variety of settings\n\nCancellation and Refund Policy\n\nIf you cancel more than two weeks before the course begins\, you will receive a full refund\, minus processing fees.\nCancellations made more than one week before the course will receive a 50% refund.\nNo refunds will be issued for cancellations made within one week of the course start date.\n\nIf unforeseen circumstances require Hiking Hound Adventures\, LLC to cancel the course\, you will receive a full refund. \nMinimum and Maximum Enrollment:\nWe require a minimum of 4 participants to run the course\, with a maximum class size of 10. If the course doesn’t meet the minimum enrollment\, you will have the option to reschedule or receive a full refund. \n\nJoin Hiking Hound Adventures\, LLC for this amazing experience that will empower you to teach Leave No Trace principles and make a lasting impact on the way people experience and protect the outdoors! \n\nQuestions? Reach out directly to lnt@hikinghoundadventures.com
URL:https://hikinghoundadventures.com/event/leave-no-trace-level-1-instructor-course-virtual-6/
LOCATION:Virtual
CATEGORIES:Course
ATTACH;FMTTYPE=image/png:https://hikinghoundadventures.com/wp-content/uploads/2024/11/2.png
ORGANIZER;CN="Hiking Hound Adventures%2C LLC":MAILTO:info@hikinghoundadventures.com
END:VEVENT
BEGIN:VEVENT
DTSTART;TZID=America/New_York:20250318T180000
DTEND;TZID=America/New_York:20250318T193000
DTSTAMP:20260424T024910
CREATED:20250225T202009Z
LAST-MODIFIED:20250307T204723Z
UID:3022-1742320800-1742326200@hikinghoundadventures.com
SUMMARY:Tree Identification Hike
DESCRIPTION:Tree Identification Hike\nDendrology: noun: den·drol·o·gy: /denˈdräləjē/: The study of trees. \nWalking through the woods\, we are surrounded by trees. Ever wonder what they are? Join Hiking Hound Adventures\, LLC as we break down the steps to identifying trees. With us you will learn the basics to tree identification like the parts of a tree\, how trees grow\, and important terminology. Simple vs. compound leaves\, leaf scars\, bark patterns\, growth patters\, fruit\, and more! We will learn several of the species that play important roles in Pennsylvania’s forests like maples\, oaks\, beeches\, and poplars to name a few.  Forests are complex\, living ecosystems and understanding them is a fascinating way to enjoy the outdoors. \nYour instructor\, Andy\, has a B.S. in Forestry from the University of Kentucky and has a great understanding of trees and forest dynamics. He is ready to share his love of the woods with you!
URL:https://hikinghoundadventures.com/event/tree-identification-hike-2/
LOCATION:Media\, PA\, Media\, PA\, United States
CATEGORIES:Course,Hike
ORGANIZER;CN="Hiking Hound Adventures%2C LLC":MAILTO:info@hikinghoundadventures.com
END:VEVENT
BEGIN:VEVENT
DTSTART;TZID=America/New_York:20250322T120000
DTEND;TZID=America/New_York:20250322T130000
DTSTAMP:20260424T024910
CREATED:20241203T175754Z
LAST-MODIFIED:20250127T190200Z
UID:2338-1742644800-1742648400@hikinghoundadventures.com
SUMMARY:Little Tykes go on Hikes! w/ Lower Makefield Township
DESCRIPTION:Hiking with kids can be an intimidating topic. During this 45 minute course\, Hiking Hound Adventures\, LLC will be on the trail with little ones and their guardians to tackle some of the most asked questions surrounding taking kids into the woods. Through fun games and hands-on activities\, we cover safety\, choosing the right trail\, packing considerations\, and much more!  \nMain Topics: \n\nSafety- each child will get a safety whistle to keep\nPacking\nFun on-trail games and activities\nLeave No Trace\n\n***Recommended age is  3-12 years old\, but all ages are welcome- Price is per child. Children must be accompanied by an adult. Children under 3 years old are free when accompanying another registered child***
URL:https://hikinghoundadventures.com/event/little-tykes-go-on-hikes-w-lower-makefield-township-2/
LOCATION:Five Mile Woods\, 1305 Big Oak Rd\, Yardley\, PA\, 19067
CATEGORIES:Hike,Partnership Event
END:VEVENT
BEGIN:VEVENT
DTSTART;TZID=America/New_York:20250327T180000
DTEND;TZID=America/New_York:20250327T190000
DTSTAMP:20260424T024910
CREATED:20250225T202258Z
LAST-MODIFIED:20250307T204911Z
UID:3024-1743098400-1743102000@hikinghoundadventures.com
SUMMARY:Untangled: Essential Outdoor Knots
DESCRIPTION:Join Hiking Hound Adventures\, LLC for our comprehensive knot tying course designed for adventurers\, campers\, and outdoor enthusiasts alike. This program will equip you with essential knot tying skills to navigate any outdoor challenge with confidence. \nDiscover the utility of fundamental knots like the overhand\, figure eight\, bowline\, trucker’s hitch\, and clove hitch—all crucial tools in your outdoor toolkit. Through hands-on demonstrations\, step-by-step tutorials\, and interactive learning\, you’ll learn not just how to tie these knots\, but when and where to use them effectively in various outdoor scenarios. \nLet us help you gain the knowledge and proficiency needed to secure tents\, create makeshift shelters\, hoist gear\, and tackle any outdoor task with ease. Whether you’re planning a weekend camping trip\, embarking on a rugged hiking adventure\, or simply seeking to expand your outdoor skillset\, our knot tying course is your gateway to outdoor independence and confidence. \nDon’t let tangled ropes and unsecured gear hold you back—sign up today and elevate your outdoor experience with our knot tying course! \n***Recommended age is 12 years and older- Anyone under 18 must registered and be accompanied by a registered adult***
URL:https://hikinghoundadventures.com/event/untangled-essential-outdoor-knots/
LOCATION:Media\, PA\, Media\, PA\, United States
CATEGORIES:Course
ATTACH;FMTTYPE=image/png:https://hikinghoundadventures.com/wp-content/uploads/2024/09/Website-Thumbnail-Skills-Knots.png
ORGANIZER;CN="Hiking Hound Adventures%2C LLC":MAILTO:info@hikinghoundadventures.com
END:VEVENT
BEGIN:VEVENT
DTSTART;TZID=America/New_York:20250329T100000
DTEND;TZID=America/New_York:20250329T110000
DTSTAMP:20260424T024910
CREATED:20241203T180041Z
LAST-MODIFIED:20241203T180041Z
UID:2340-1743242400-1743246000@hikinghoundadventures.com
SUMMARY:Little Tykes go on Hikes! w/ Radnor Parks and Rec.
DESCRIPTION:Hiking with kids can be an intimidating topic. During this 45 minute course\, Hiking Hound Adventures\, LLC will be on the trail with little ones and their guardians to tackle some of the most asked questions surrounding taking kids into the woods. Through fun games and hands-on activities\, we cover safety\, choosing the right trail\, packing considerations\, and much more!  \nMain Topics: \n\nSafety\nPacking\nFun on-trail games and activities\nLeave No Trace\n\n***Recommended age is  3-12 years old\, but all ages are welcome- Price is per child. Children must be accompanied by an adult. Children under 3 years old are free when accompanying another registered child*** \nWinter Dates- Registration OPEN NOW!\nDecember 21st\, 2024- 1:00-2:00 – Winter Wonderland Storybook Hike \nJanuary 18th\, 2025- 1:00-2:00- Hot Chocolate Hike \nFebruary 9th\, 2025- 3:00-4:00- Winter Treasure Hunt \nSpring Dates- Registration coming soon!\nMarch 9th- 1pm – Nature BINGO! Hike \nMarch 29th\, 10am – Trailblazers Treasure Hunt \nApril 12th- 10am – Puzzle Pursuit: A Geocache Quest \nApril 29th- 5pm – Tales on the Trail: A Storybook Journey \nMay 14th- 6pm – Leave no Trace Scavenger Hunt \nMay 28th- 5pm – Wander and Wade: A Creekside Expedition \nJune 8th- 4pm -Treats on the Trail: An Ice Cream Adventure \nSummer Dates- Registration coming soon!\nJune 19th- 6pm – Nature BINGO! Hike \nJuly 12th- 1pm – Trailblazers Treasure Hunt \nJuly 29th- 6pm – Puzzle Pursuit: A Geocache Quest \nAugust 11th- 10am – Tales on the Trail: A Storybook Journey \nAugust 23rd- 7pm – Leave no Trace Scavenger Hunt \nSeptember 14th- Noon – Wander and Wade: A Creekside Expedition \nSeptember 30th- 6pm -Treats on the Trail: An Ice Cream Adventure
URL:https://hikinghoundadventures.com/event/little-tykes-go-on-hikes-w-radnor-parks-and-rec-4/
LOCATION:The Willows Park\, 490 Darby Paoli Road\, Villanova\, PA\, 19085\, United States
CATEGORIES:Hike
ORGANIZER;CN="Radnor Township Parks and Recreation":MAILTO:recreation@radnor.org
END:VEVENT
BEGIN:VEVENT
DTSTART;TZID=America/New_York:20250329T130000
DTEND;TZID=America/New_York:20250329T150000
DTSTAMP:20260424T024910
CREATED:20241203T180209Z
LAST-MODIFIED:20241203T180209Z
UID:2342-1743253200-1743260400@hikinghoundadventures.com
SUMMARY:Backpacking Fundamentals w/ Radnor Parks and Rec.
DESCRIPTION:Are you eager to dive into the world of wilderness backpacking but short on time? Our Backpacking Fundamentals course is the perfect solution! This dynamic two-hour session condenses the essential skills from our comprehensive half-day course\, providing you with the key knowledge you need to confidently embark on your outdoor adventures. \nIn this course\, we focus on the fundamentals of wilderness backpacking\, ideal for beginners and seasoned adventurers alike. You’ll learn vital Leave No Trace principles\, helping you preserve the stunning landscapes you explore. Discover how to select and set up a campsite\, ensuring comfort and safety in the great outdoors. Our expert instructors will guide you through crucial water filtration techniques to keep you hydrated on your journey. \nWe’ll also learn effective methods for maintaining camp hygiene and keeping your food secure from wildlife. \nThe Backpacking Fundamentals course is designed to provide you with hands-on experience and actionable insights\, setting you up for success in your outdoor pursuits. By the end of this engaging session\, you’ll have the confidence and competence to hit the trails\, ready for your next adventure! \nDon’t let a busy schedule keep you from experiencing the thrill of the great outdoors. Sign up for our Backpacking Fundamentals course today and take your first step toward unforgettable backpacking experiences! \n  \n***Recommended age is 12 years and older- Anyone under 18 must be registered accompanied by a registered adult***
URL:https://hikinghoundadventures.com/event/backpacking-fundamentals-w-radnor-parks-and-rec/
LOCATION:The Willows Park\, 490 Darby Paoli Road\, Villanova\, PA\, 19085\, United States
CATEGORIES:Course
ORGANIZER;CN="Radnor Township Parks and Recreation":MAILTO:recreation@radnor.org
END:VEVENT
BEGIN:VEVENT
DTSTART;TZID=America/New_York:20250330T130000
DTEND;TZID=America/New_York:20250330T143000
DTSTAMP:20260424T024910
CREATED:20250117T045456Z
LAST-MODIFIED:20250307T204934Z
UID:2695-1743339600-1743345000@hikinghoundadventures.com
SUMMARY:Wilderness Navigation w/ Upper Providence Township
DESCRIPTION:Learn the basics of topographic maps and compass navigation in this 90-minute class. The session includes both classroom instruction and hands-on field practice to build confidence in navigating the outdoors.\nAges: 12+ (under 18 must registered and be accompanied by a registered adult)\nDates: 3/30/25- 1pm | 5/17/25- 5pm | 7/12/25- 6pm | 9/16/25- 5pm
URL:https://hikinghoundadventures.com/event/wilderness-navigation-w-upper-providence-township/
LOCATION:Louis Scott Memorial Park\, 998 Ridley Creek Road\, Media\, PA\, 19063\, United States
CATEGORIES:Course,Partnership Event
END:VEVENT
END:VCALENDAR