BEGIN:VCALENDAR
VERSION:2.0
PRODID:-//Hiking Hound Adventures, LLC - ECPv6.15.20//NONSGML v1.0//EN
CALSCALE:GREGORIAN
METHOD:PUBLISH
X-WR-CALNAME:Hiking Hound Adventures, LLC
X-ORIGINAL-URL:https://hikinghoundadventures.com
X-WR-CALDESC:Events for Hiking Hound Adventures, LLC
REFRESH-INTERVAL;VALUE=DURATION:PT1H
X-Robots-Tag:noindex
X-PUBLISHED-TTL:PT1H
BEGIN:VTIMEZONE
TZID:America/New_York
BEGIN:DAYLIGHT
TZOFFSETFROM:-0500
TZOFFSETTO:-0400
TZNAME:EDT
DTSTART:20240310T070000
END:DAYLIGHT
BEGIN:STANDARD
TZOFFSETFROM:-0400
TZOFFSETTO:-0500
TZNAME:EST
DTSTART:20241103T060000
END:STANDARD
BEGIN:DAYLIGHT
TZOFFSETFROM:-0500
TZOFFSETTO:-0400
TZNAME:EDT
DTSTART:20250309T070000
END:DAYLIGHT
BEGIN:STANDARD
TZOFFSETFROM:-0400
TZOFFSETTO:-0500
TZNAME:EST
DTSTART:20251102T060000
END:STANDARD
BEGIN:DAYLIGHT
TZOFFSETFROM:-0500
TZOFFSETTO:-0400
TZNAME:EDT
DTSTART:20260308T070000
END:DAYLIGHT
BEGIN:STANDARD
TZOFFSETFROM:-0400
TZOFFSETTO:-0500
TZNAME:EST
DTSTART:20261101T060000
END:STANDARD
END:VTIMEZONE
BEGIN:VEVENT
DTSTART;TZID=America/New_York:20250904T183000
DTEND;TZID=America/New_York:20250904T183000
DTSTAMP:20260423T185438
CREATED:20250902T183106Z
LAST-MODIFIED:20250902T183106Z
UID:4445-1757010600-1757010600@hikinghoundadventures.com
SUMMARY:SUP Yoga- Schuylkill River
DESCRIPTION:
URL:https://hikinghoundadventures.com/event/sup-yoga-schuylkill-river-19/
END:VEVENT
BEGIN:VEVENT
DTSTART;TZID=America/New_York:20250906T100000
DTEND;TZID=America/New_York:20250906T100000
DTSTAMP:20260423T185438
CREATED:20250706T141825Z
LAST-MODIFIED:20250804T150425Z
UID:4223-1757152800-1757152800@hikinghoundadventures.com
SUMMARY:Edgemont Community Day
DESCRIPTION:
URL:https://hikinghoundadventures.com/event/edgemont-community-day-2/
END:VEVENT
BEGIN:VEVENT
DTSTART;TZID=America/New_York:20250907T100000
DTEND;TZID=America/New_York:20250907T100000
DTSTAMP:20260423T185438
CREATED:20250902T183107Z
LAST-MODIFIED:20250902T183107Z
UID:4446-1757239200-1757239200@hikinghoundadventures.com
SUMMARY:SUP Yoga- Schuylkill River
DESCRIPTION:
URL:https://hikinghoundadventures.com/event/sup-yoga-schuylkill-river-20/
END:VEVENT
BEGIN:VEVENT
DTSTART;TZID=America/New_York:20250907T170000
DTEND;TZID=America/New_York:20250907T170000
DTSTAMP:20260423T185438
CREATED:20250612T162118Z
LAST-MODIFIED:20250804T150426Z
UID:3883-1757264400-1757264400@hikinghoundadventures.com
SUMMARY:Backpacking Fundamentals - Upper Providence
DESCRIPTION:
URL:https://hikinghoundadventures.com/event/backpacking-fundamentals-upper-providence/
END:VEVENT
BEGIN:VEVENT
DTSTART;TZID=America/New_York:20250909T100000
DTEND;TZID=America/New_York:20250909T100000
DTSTAMP:20260423T185438
CREATED:20250902T183108Z
LAST-MODIFIED:20250902T183108Z
UID:4447-1757412000-1757412000@hikinghoundadventures.com
SUMMARY:Private Event
DESCRIPTION:
URL:https://hikinghoundadventures.com/event/private-event/
END:VEVENT
BEGIN:VEVENT
DTSTART;TZID=America/New_York:20250910T180000
DTEND;TZID=America/New_York:20250910T180000
DTSTAMP:20260423T185438
CREATED:20250804T150426Z
LAST-MODIFIED:20250804T150426Z
UID:4323-1757527200-1757527200@hikinghoundadventures.com
SUMMARY:Springfield Library- Outdoor Safety
DESCRIPTION:
URL:https://hikinghoundadventures.com/event/springfield-library-outdoor-safety-2/
END:VEVENT
BEGIN:VEVENT
DTSTART;TZID=America/New_York:20250913T090000
DTEND;TZID=America/New_York:20250913T090000
DTSTAMP:20260423T185438
CREATED:20250612T162018Z
LAST-MODIFIED:20250804T150427Z
UID:3864-1757754000-1757754000@hikinghoundadventures.com
SUMMARY:Pinchot Trial South: 2 Day\, 1 Night Backpacking Trip
DESCRIPTION:
URL:https://hikinghoundadventures.com/event/pinchot-trial-south-2-day-1-night-backpacking-trip/
END:VEVENT
BEGIN:VEVENT
DTSTART;TZID=America/New_York:20250914T120000
DTEND;TZID=America/New_York:20250914T120000
DTSTAMP:20260423T185438
CREATED:20250612T162048Z
LAST-MODIFIED:20250918T161712Z
UID:3874-1757851200-1757851200@hikinghoundadventures.com
SUMMARY:Little Tykes go on Hikes - Radnor Township
DESCRIPTION:
URL:https://hikinghoundadventures.com/event/little-tykes-go-on-hikes-radnor-township-6/
CATEGORIES:Little Tykes
END:VEVENT
BEGIN:VEVENT
DTSTART;TZID=America/New_York:20250914T160000
DTEND;TZID=America/New_York:20250914T160000
DTSTAMP:20260423T185438
CREATED:20250612T162204Z
LAST-MODIFIED:20250918T161703Z
UID:3899-1757865600-1757865600@hikinghoundadventures.com
SUMMARY:Lower Makefield Little Tykes
DESCRIPTION:
URL:https://hikinghoundadventures.com/event/lower-makefield-little-tykes/
CATEGORIES:Little Tykes
END:VEVENT
BEGIN:VEVENT
DTSTART;TZID=America/New_York:20250916T180000
DTEND;TZID=America/New_York:20250916T180000
DTSTAMP:20260423T185438
CREATED:20250612T162119Z
LAST-MODIFIED:20250804T150626Z
UID:3887-1758045600-1758045600@hikinghoundadventures.com
SUMMARY:Wilderness Navigation: Learning Map and Compass - Upper Providence
DESCRIPTION:
URL:https://hikinghoundadventures.com/event/wilderness-navigation-learning-map-and-compass-upper-providence-2/
END:VEVENT
BEGIN:VEVENT
DTSTART;TZID=America/New_York:20250916T180000
DTEND;TZID=America/New_York:20250916T180000
DTSTAMP:20260423T185438
CREATED:20250804T150626Z
LAST-MODIFIED:20250918T161650Z
UID:4326-1758045600-1758045600@hikinghoundadventures.com
SUMMARY:Little Tykes go on Hikes - Westtown Township
DESCRIPTION:
URL:https://hikinghoundadventures.com/event/little-tykes-go-on-hikes-westtown-township-6/
CATEGORIES:Little Tykes
END:VEVENT
BEGIN:VEVENT
DTSTART;TZID=America/New_York:20250917T180000
DTEND;TZID=America/New_York:20250917T180000
DTSTAMP:20260423T185438
CREATED:20250612T162118Z
LAST-MODIFIED:20250804T150627Z
UID:3885-1758132000-1758132000@hikinghoundadventures.com
SUMMARY:Wilderness Navigation: Learning Map and Compass - Radnor Township
DESCRIPTION:
URL:https://hikinghoundadventures.com/event/wilderness-navigation-learning-map-and-compass-radnor-township-2/
END:VEVENT
BEGIN:VEVENT
DTSTART;TZID=America/New_York:20250917T180000
DTEND;TZID=America/New_York:20250917T180000
DTSTAMP:20260423T185438
CREATED:20250804T150627Z
LAST-MODIFIED:20250804T150627Z
UID:4327-1758132000-1758132000@hikinghoundadventures.com
SUMMARY:Kids Introduction to Fishing
DESCRIPTION:
URL:https://hikinghoundadventures.com/event/kids-introduction-to-fishing-7/
END:VEVENT
BEGIN:VEVENT
DTSTART;TZID=America/New_York:20250918T180000
DTEND;TZID=America/New_York:20250918T180000
DTSTAMP:20260423T185438
CREATED:20250902T183109Z
LAST-MODIFIED:20250902T183109Z
UID:4448-1758218400-1758218400@hikinghoundadventures.com
SUMMARY:SUP Yoga- Schuylkill River
DESCRIPTION:
URL:https://hikinghoundadventures.com/event/sup-yoga-schuylkill-river-21/
END:VEVENT
BEGIN:VEVENT
DTSTART;TZID=America/New_York:20250918T190000
DTEND;TZID=America/New_York:20250918T190000
DTSTAMP:20260423T185438
CREATED:20250612T162103Z
LAST-MODIFIED:20250918T161643Z
UID:3879-1758222000-1758222000@hikinghoundadventures.com
SUMMARY:Little Tykes go on Hikes - Upper Providence
DESCRIPTION:
URL:https://hikinghoundadventures.com/event/little-tykes-go-on-hikes-upper-providence-4/
CATEGORIES:Little Tykes
END:VEVENT
BEGIN:VEVENT
DTSTART;TZID=America/New_York:20250919T180000
DTEND;TZID=America/New_York:20250919T180000
DTSTAMP:20260423T185438
CREATED:20250612T162229Z
LAST-MODIFIED:20250918T161627Z
UID:3905-1758304800-1758304800@hikinghoundadventures.com
SUMMARY:Lower Merion Little Tykes
DESCRIPTION:
URL:https://hikinghoundadventures.com/event/lower-merion-little-tykes-3/
CATEGORIES:Little Tykes
END:VEVENT
BEGIN:VEVENT
DTSTART;TZID=America/New_York:20250920T080000
DTEND;TZID=America/New_York:20250920T080000
DTSTAMP:20260423T185438
CREATED:20250612T162618Z
LAST-MODIFIED:20250804T150828Z
UID:3924-1758355200-1758355200@hikinghoundadventures.com
SUMMARY:Adult CPR/AED Certification- Blended Learning
DESCRIPTION:
URL:https://hikinghoundadventures.com/event/adult-cpr-aed-certification-blended-learning-3/
END:VEVENT
BEGIN:VEVENT
DTSTART;TZID=America/New_York:20250920T090000
DTEND;TZID=America/New_York:20250920T090000
DTSTAMP:20260423T185438
CREATED:20250612T161957Z
LAST-MODIFIED:20250804T150828Z
UID:3857-1758358800-1758358800@hikinghoundadventures.com
SUMMARY:Wilderness First Aid Course
DESCRIPTION:
URL:https://hikinghoundadventures.com/event/wilderness-first-aid-course-2/
END:VEVENT
BEGIN:VEVENT
DTSTART;TZID=America/New_York:20250921T090000
DTEND;TZID=America/New_York:20250921T090000
DTSTAMP:20260423T185438
CREATED:20250612T162455Z
LAST-MODIFIED:20250804T151027Z
UID:3920-1758445200-1758445200@hikinghoundadventures.com
SUMMARY:Mindfulness and Meditation Hike - Phoenixville
DESCRIPTION:
URL:https://hikinghoundadventures.com/event/mindfulness-and-meditation-hike-phoenixville/
END:VEVENT
BEGIN:VEVENT
DTSTART;TZID=America/New_York:20250921T090000
DTEND;TZID=America/New_York:20250921T090000
DTSTAMP:20260423T185438
CREATED:20250804T150828Z
LAST-MODIFIED:20250804T150828Z
UID:4329-1758445200-1758445200@hikinghoundadventures.com
SUMMARY:Greenways and Trails Summit
DESCRIPTION:
URL:https://hikinghoundadventures.com/event/greenways-and-trails-summit/
END:VEVENT
BEGIN:VEVENT
DTSTART;TZID=America/New_York:20250922T090000
DTEND;TZID=America/New_York:20250922T090000
DTSTAMP:20260423T185438
CREATED:20250804T151028Z
LAST-MODIFIED:20250804T151028Z
UID:4330-1758531600-1758531600@hikinghoundadventures.com
SUMMARY:Greenways and Trails Summit
DESCRIPTION:
URL:https://hikinghoundadventures.com/event/greenways-and-trails-summit-2/
END:VEVENT
BEGIN:VEVENT
DTSTART;TZID=America/New_York:20250923T000000
DTEND;TZID=America/New_York:20250925T235959
DTSTAMP:20260423T185438
CREATED:20250612T162148Z
LAST-MODIFIED:20250728T185427Z
UID:3893-1758585600-1758844799@hikinghoundadventures.com
SUMMARY:3 Day Virtual Leave No Trace Level 1 Instructor Course
DESCRIPTION:
URL:https://hikinghoundadventures.com/event/3-day-virtual-leave-no-trace-level-1-instructor-course/
END:VEVENT
BEGIN:VEVENT
DTSTART;TZID=America/New_York:20250923T090000
DTEND;TZID=America/New_York:20250923T090000
DTSTAMP:20260423T185438
CREATED:20250804T151028Z
LAST-MODIFIED:20250804T151028Z
UID:4332-1758618000-1758618000@hikinghoundadventures.com
SUMMARY:Greenways and Trails Summit
DESCRIPTION:
URL:https://hikinghoundadventures.com/event/greenways-and-trails-summit-3/
END:VEVENT
BEGIN:VEVENT
DTSTART;TZID=America/New_York:20250923T170000
DTEND;TZID=America/New_York:20250923T170000
DTSTAMP:20260423T185438
CREATED:20250804T151028Z
LAST-MODIFIED:20250804T151028Z
UID:4331-1758646800-1758646800@hikinghoundadventures.com
SUMMARY:3 Day Virtual Leave No Trace Level 1 Instructor Course
DESCRIPTION:
URL:https://hikinghoundadventures.com/event/3-day-virtual-leave-no-trace-level-1-instructor-course-2/
END:VEVENT
BEGIN:VEVENT
DTSTART;TZID=America/New_York:20250925T180000
DTEND;TZID=America/New_York:20250925T180000
DTSTAMP:20260423T185438
CREATED:20250612T162229Z
LAST-MODIFIED:20250804T151028Z
UID:3906-1758823200-1758823200@hikinghoundadventures.com
SUMMARY:Lower Merion Tails on Trails
DESCRIPTION:
URL:https://hikinghoundadventures.com/event/lower-merion-tails-on-trails-2/
END:VEVENT
BEGIN:VEVENT
DTSTART;TZID=America/New_York:20250927T090000
DTEND;TZID=America/New_York:20250927T090000
DTSTAMP:20260423T185438
CREATED:20250612T162017Z
LAST-MODIFIED:20250804T152611Z
UID:3863-1758963600-1758963600@hikinghoundadventures.com
SUMMARY:Tranquil Trails: A Yoga and Meditation Hiking Adventure
DESCRIPTION:
URL:https://hikinghoundadventures.com/event/tranquil-trails-a-yoga-and-meditation-hiking-adventure/
END:VEVENT
BEGIN:VEVENT
DTSTART;TZID=America/New_York:20250927T104500
DTEND;TZID=America/New_York:20250927T104500
DTSTAMP:20260423T185438
CREATED:20250804T152611Z
LAST-MODIFIED:20250918T161559Z
UID:4335-1758969900-1758969900@hikinghoundadventures.com
SUMMARY:Haverford Township Little Tykes
DESCRIPTION:
URL:https://hikinghoundadventures.com/event/haverford-township-little-tykes/
CATEGORIES:Little Tykes
END:VEVENT
BEGIN:VEVENT
DTSTART;TZID=America/New_York:20250930T180000
DTEND;TZID=America/New_York:20250930T180000
DTSTAMP:20260423T185438
CREATED:20250612T162048Z
LAST-MODIFIED:20250918T160803Z
UID:3875-1759255200-1759255200@hikinghoundadventures.com
SUMMARY:Little Tykes go on Hikes - Radnor Township
DESCRIPTION:
URL:https://hikinghoundadventures.com/event/little-tykes-go-on-hikes-radnor-township-7/
CATEGORIES:Little Tykes
END:VEVENT
END:VCALENDAR