BEGIN:VCALENDAR
VERSION:2.0
PRODID:-//Hiking Hound Adventures, LLC - ECPv6.15.20//NONSGML v1.0//EN
CALSCALE:GREGORIAN
METHOD:PUBLISH
X-ORIGINAL-URL:https://hikinghoundadventures.com
X-WR-CALDESC:Events for Hiking Hound Adventures, LLC
REFRESH-INTERVAL;VALUE=DURATION:PT1H
X-Robots-Tag:noindex
X-PUBLISHED-TTL:PT1H
BEGIN:VTIMEZONE
TZID:America/New_York
BEGIN:DAYLIGHT
TZOFFSETFROM:-0500
TZOFFSETTO:-0400
TZNAME:EDT
DTSTART:20240310T070000
END:DAYLIGHT
BEGIN:STANDARD
TZOFFSETFROM:-0400
TZOFFSETTO:-0500
TZNAME:EST
DTSTART:20241103T060000
END:STANDARD
BEGIN:DAYLIGHT
TZOFFSETFROM:-0500
TZOFFSETTO:-0400
TZNAME:EDT
DTSTART:20250309T070000
END:DAYLIGHT
BEGIN:STANDARD
TZOFFSETFROM:-0400
TZOFFSETTO:-0500
TZNAME:EST
DTSTART:20251102T060000
END:STANDARD
BEGIN:DAYLIGHT
TZOFFSETFROM:-0500
TZOFFSETTO:-0400
TZNAME:EDT
DTSTART:20260308T070000
END:DAYLIGHT
BEGIN:STANDARD
TZOFFSETFROM:-0400
TZOFFSETTO:-0500
TZNAME:EST
DTSTART:20261101T060000
END:STANDARD
END:VTIMEZONE
BEGIN:VEVENT
DTSTART;TZID=America/New_York:20251211T100000
DTEND;TZID=America/New_York:20251211T100000
DTSTAMP:20260423T144558
CREATED:20251013T173325Z
LAST-MODIFIED:20251013T173325Z
UID:4594-1765447200-1765447200@hikinghoundadventures.com
SUMMARY:2 Day Virtual Leave No Trace Level 1 Instructor Course
DESCRIPTION:
URL:https://hikinghoundadventures.com/event/2-day-virtual-leave-no-trace-level-1-instructor-course-7/
CATEGORIES:LNT
END:VEVENT
BEGIN:VEVENT
DTSTART;TZID=America/New_York:20251212T100000
DTEND;TZID=America/New_York:20251212T100000
DTSTAMP:20260423T144558
CREATED:20251013T173326Z
LAST-MODIFIED:20251013T174042Z
UID:4595-1765533600-1765533600@hikinghoundadventures.com
SUMMARY:2 Day Virtual Leave No Trace Level 1 Instructor Course
DESCRIPTION:
URL:https://hikinghoundadventures.com/event/2-day-virtual-leave-no-trace-level-1-instructor-course-8/
CATEGORIES:LNT
END:VEVENT
BEGIN:VEVENT
DTSTART;TZID=America/New_York:20251213T104500
DTEND;TZID=America/New_York:20251213T104500
DTSTAMP:20260423T144558
CREATED:20251013T173355Z
LAST-MODIFIED:20251015T170102Z
UID:4596-1765622700-1765622700@hikinghoundadventures.com
SUMMARY:Little Tykes go on Hikes - Haverford Township
DESCRIPTION:Hot Chocolate
URL:https://hikinghoundadventures.com/event/little-tykes-go-on-hikes-haverford-township-2/
CATEGORIES:Little Tykes
END:VEVENT
BEGIN:VEVENT
DTSTART;TZID=America/New_York:20251213T120000
DTEND;TZID=America/New_York:20251213T120000
DTSTAMP:20260423T144558
CREATED:20250804T152822Z
LAST-MODIFIED:20250804T152822Z
UID:4362-1765627200-1765627200@hikinghoundadventures.com
SUMMARY:Haverford Township Sensory Hike
DESCRIPTION:
URL:https://hikinghoundadventures.com/event/haverford-township-sensory-hike-3/
END:VEVENT
BEGIN:VEVENT
DTSTART;TZID=America/New_York:20251213T130000
DTEND;TZID=America/New_York:20251213T130000
DTSTAMP:20260423T144558
CREATED:20250804T152821Z
LAST-MODIFIED:20251015T170136Z
UID:4360-1765630800-1765630800@hikinghoundadventures.com
SUMMARY:Little Tykes go on Hikes - Westtown Township
DESCRIPTION:Hot Chocolate
URL:https://hikinghoundadventures.com/event/little-tykes-go-on-hikes-westtown-township-10/
CATEGORIES:Little Tykes
END:VEVENT
BEGIN:VEVENT
DTSTART;TZID=America/New_York:20251213T150000
DTEND;TZID=America/New_York:20251213T150000
DTSTAMP:20260423T144558
CREATED:20250902T183131Z
LAST-MODIFIED:20251015T170141Z
UID:4455-1765638000-1765638000@hikinghoundadventures.com
SUMMARY:Little Tykes go on Hikes - Radnor Township
DESCRIPTION:Hot Chocolate
URL:https://hikinghoundadventures.com/event/little-tykes-go-on-hikes-radnor-township-9/
CATEGORIES:Little Tykes
END:VEVENT
BEGIN:VEVENT
DTSTART;TZID=America/New_York:20251214T150000
DTEND;TZID=America/New_York:20251214T150000
DTSTAMP:20260423T144558
CREATED:20251013T173357Z
LAST-MODIFIED:20251015T170217Z
UID:4597-1765724400-1765724400@hikinghoundadventures.com
SUMMARY:Treats on the Trail - Lower Merion
DESCRIPTION:Hot Chocolate
URL:https://hikinghoundadventures.com/event/little-tykes-go-on-hikes-lower-merion-2/
CATEGORIES:Treats
END:VEVENT
END:VCALENDAR