BEGIN:VCALENDAR
VERSION:2.0
PRODID:-//Hiking Hound Adventures, LLC - ECPv6.15.20//NONSGML v1.0//EN
CALSCALE:GREGORIAN
METHOD:PUBLISH
X-WR-CALNAME:Hiking Hound Adventures, LLC
X-ORIGINAL-URL:https://hikinghoundadventures.com
X-WR-CALDESC:Events for Hiking Hound Adventures, LLC
REFRESH-INTERVAL;VALUE=DURATION:PT1H
X-Robots-Tag:noindex
X-PUBLISHED-TTL:PT1H
BEGIN:VTIMEZONE
TZID:America/New_York
BEGIN:DAYLIGHT
TZOFFSETFROM:-0500
TZOFFSETTO:-0400
TZNAME:EDT
DTSTART:20250309T070000
END:DAYLIGHT
BEGIN:STANDARD
TZOFFSETFROM:-0400
TZOFFSETTO:-0500
TZNAME:EST
DTSTART:20251102T060000
END:STANDARD
BEGIN:DAYLIGHT
TZOFFSETFROM:-0500
TZOFFSETTO:-0400
TZNAME:EDT
DTSTART:20260308T070000
END:DAYLIGHT
BEGIN:STANDARD
TZOFFSETFROM:-0400
TZOFFSETTO:-0500
TZNAME:EST
DTSTART:20261101T060000
END:STANDARD
BEGIN:DAYLIGHT
TZOFFSETFROM:-0500
TZOFFSETTO:-0400
TZNAME:EDT
DTSTART:20270314T070000
END:DAYLIGHT
BEGIN:STANDARD
TZOFFSETFROM:-0400
TZOFFSETTO:-0500
TZNAME:EST
DTSTART:20271107T060000
END:STANDARD
END:VTIMEZONE
BEGIN:VEVENT
DTSTART;TZID=America/New_York:20260205T160000
DTEND;TZID=America/New_York:20260205T160000
DTSTAMP:20260423T120841
CREATED:20251118T164405Z
LAST-MODIFIED:20251229T185837Z
UID:5037-1770307200-1770307200@hikinghoundadventures.com
SUMMARY:Afterschool Program- Wayne Elementary
DESCRIPTION:
URL:https://hikinghoundadventures.com/event/afterschool-program-wayne-elementary-4/
CATEGORIES:Afterschool
END:VEVENT
BEGIN:VEVENT
DTSTART;TZID=America/New_York:20260207T120000
DTEND;TZID=America/New_York:20260207T120000
DTSTAMP:20260423T120841
CREATED:20251118T164941Z
LAST-MODIFIED:20251118T164941Z
UID:5172-1770465600-1770465600@hikinghoundadventures.com
SUMMARY:Treats on the Trail- Upper Providence
DESCRIPTION:Hot Chocolate
URL:https://hikinghoundadventures.com/event/treats-on-the-trail-upper-providence/
CATEGORIES:Treats
END:VEVENT
BEGIN:VEVENT
DTSTART;TZID=America/New_York:20260212T160000
DTEND;TZID=America/New_York:20260212T160000
DTSTAMP:20260423T120841
CREATED:20251118T164421Z
LAST-MODIFIED:20251229T185837Z
UID:5038-1770912000-1770912000@hikinghoundadventures.com
SUMMARY:Afterschool Program- Wayne Elementary
DESCRIPTION:
URL:https://hikinghoundadventures.com/event/afterschool-program-wayne-elementary-5/
CATEGORIES:Afterschool
END:VEVENT
BEGIN:VEVENT
DTSTART;TZID=America/New_York:20260215T110000
DTEND;TZID=America/New_York:20260215T110000
DTSTAMP:20260423T120841
CREATED:20251118T164853Z
LAST-MODIFIED:20260128T163046Z
UID:5143-1771153200-1771153200@hikinghoundadventures.com
SUMMARY:Practical Bushcraft- Upper Providence
DESCRIPTION:
URL:https://hikinghoundadventures.com/event/practical-bushcraft-upper-providence/
CATEGORIES:Bushcraft
END:VEVENT
BEGIN:VEVENT
DTSTART;TZID=America/New_York:20260219T100000
DTEND;TZID=America/New_York:20260219T100000
DTSTAMP:20260423T120841
CREATED:20251118T164302Z
LAST-MODIFIED:20251229T185639Z
UID:5005-1771495200-1771495200@hikinghoundadventures.com
SUMMARY:2 Day Virtual Leave No Trace Level 1 Instructor Course
DESCRIPTION:
URL:https://hikinghoundadventures.com/event/2-day-virtual-leave-no-trace-level-1-instructor-course-12/
CATEGORIES:LNT
END:VEVENT
BEGIN:VEVENT
DTSTART;TZID=America/New_York:20260219T160000
DTEND;TZID=America/New_York:20260219T160000
DTSTAMP:20260423T120841
CREATED:20251118T164421Z
LAST-MODIFIED:20251229T185837Z
UID:5039-1771516800-1771516800@hikinghoundadventures.com
SUMMARY:Afterschool Program- Wayne Elementary
DESCRIPTION:
URL:https://hikinghoundadventures.com/event/afterschool-program-wayne-elementary-6/
CATEGORIES:Afterschool
END:VEVENT
BEGIN:VEVENT
DTSTART;TZID=America/New_York:20260220T100000
DTEND;TZID=America/New_York:20260220T100000
DTSTAMP:20260423T120841
CREATED:20251118T164302Z
LAST-MODIFIED:20251229T185639Z
UID:5006-1771581600-1771581600@hikinghoundadventures.com
SUMMARY:2 Day Virtual Leave No Trace Level 1 Instructor Course
DESCRIPTION:
URL:https://hikinghoundadventures.com/event/2-day-virtual-leave-no-trace-level-1-instructor-course-13/
CATEGORIES:LNT
END:VEVENT
BEGIN:VEVENT
DTSTART;TZID=America/New_York:20260221T120000
DTEND;TZID=America/New_York:20260221T120000
DTSTAMP:20260423T120841
CREATED:20251013T173402Z
LAST-MODIFIED:20251118T164910Z
UID:4599-1771675200-1771675200@hikinghoundadventures.com
SUMMARY:Treats on the Trail- Lower Merion
DESCRIPTION:Hot Chocolate
URL:https://hikinghoundadventures.com/event/treats-on-the-trail-lower-merion-2/
CATEGORIES:Treats
END:VEVENT
BEGIN:VEVENT
DTSTART;TZID=America/New_York:20260222T150000
DTEND;TZID=America/New_York:20260222T150000
DTSTAMP:20260423T120841
CREATED:20251118T164943Z
LAST-MODIFIED:20251118T164943Z
UID:5179-1771772400-1771772400@hikinghoundadventures.com
SUMMARY:Treats on the Trail- Westtown
DESCRIPTION:Hot Chocolate
URL:https://hikinghoundadventures.com/event/treats-on-the-trail-westtown-3/
CATEGORIES:Treats
END:VEVENT
BEGIN:VEVENT
DTSTART;TZID=America/New_York:20260226T160000
DTEND;TZID=America/New_York:20260226T160000
DTSTAMP:20260423T120841
CREATED:20251118T164421Z
LAST-MODIFIED:20251229T185852Z
UID:5040-1772121600-1772121600@hikinghoundadventures.com
SUMMARY:Afterschool Program- Wayne Elementary
DESCRIPTION:
URL:https://hikinghoundadventures.com/event/afterschool-program-wayne-elementary-7/
CATEGORIES:Afterschool
END:VEVENT
BEGIN:VEVENT
DTSTART;TZID=America/New_York:20260228T103000
DTEND;TZID=America/New_York:20260228T103000
DTSTAMP:20260423T120841
CREATED:20251229T191012Z
LAST-MODIFIED:20251229T191012Z
UID:5641-1772274600-1772274600@hikinghoundadventures.com
SUMMARY:Little Tykes go on Hikes- Haverford Township
DESCRIPTION:Storybook
URL:https://hikinghoundadventures.com/event/little-tykes-go-on-hikes-haverford-township-3/
CATEGORIES:Little Tykes
END:VEVENT
BEGIN:VEVENT
DTSTART;TZID=America/New_York:20260228T120000
DTEND;TZID=America/New_York:20260228T120000
DTSTAMP:20260423T120841
CREATED:20251118T164918Z
LAST-MODIFIED:20251118T164918Z
UID:5160-1772280000-1772280000@hikinghoundadventures.com
SUMMARY:Treats on the Trail- Radnor
DESCRIPTION:Hot Chocolate
URL:https://hikinghoundadventures.com/event/treats-on-the-trail-radnor-2/
CATEGORIES:Treats
END:VEVENT
END:VCALENDAR