BEGIN:VCALENDAR
VERSION:2.0
PRODID:-//Hiking Hound Adventures, LLC - ECPv6.15.20//NONSGML v1.0//EN
CALSCALE:GREGORIAN
METHOD:PUBLISH
X-ORIGINAL-URL:https://hikinghoundadventures.com
X-WR-CALDESC:Events for Hiking Hound Adventures, LLC
REFRESH-INTERVAL;VALUE=DURATION:PT1H
X-Robots-Tag:noindex
X-PUBLISHED-TTL:PT1H
BEGIN:VTIMEZONE
TZID:America/New_York
BEGIN:DAYLIGHT
TZOFFSETFROM:-0500
TZOFFSETTO:-0400
TZNAME:EDT
DTSTART:20250309T070000
END:DAYLIGHT
BEGIN:STANDARD
TZOFFSETFROM:-0400
TZOFFSETTO:-0500
TZNAME:EST
DTSTART:20251102T060000
END:STANDARD
BEGIN:DAYLIGHT
TZOFFSETFROM:-0500
TZOFFSETTO:-0400
TZNAME:EDT
DTSTART:20260308T070000
END:DAYLIGHT
BEGIN:STANDARD
TZOFFSETFROM:-0400
TZOFFSETTO:-0500
TZNAME:EST
DTSTART:20261101T060000
END:STANDARD
BEGIN:DAYLIGHT
TZOFFSETFROM:-0500
TZOFFSETTO:-0400
TZNAME:EDT
DTSTART:20270314T070000
END:DAYLIGHT
BEGIN:STANDARD
TZOFFSETFROM:-0400
TZOFFSETTO:-0500
TZNAME:EST
DTSTART:20271107T060000
END:STANDARD
END:VTIMEZONE
BEGIN:VEVENT
DTSTART;TZID=America/New_York:20261107T080000
DTEND;TZID=America/New_York:20261107T080000
DTSTAMP:20260423T185449
CREATED:20251229T185729Z
LAST-MODIFIED:20251229T185729Z
UID:5550-1794038400-1794038400@hikinghoundadventures.com
SUMMARY:Adult CPR/AED Certification- Blended Learning
DESCRIPTION:
URL:https://hikinghoundadventures.com/event/adult-cpr-aed-certification-blended-learning-10/
CATEGORIES:WFA
END:VEVENT
BEGIN:VEVENT
DTSTART;TZID=America/New_York:20261108T120000
DTEND;TZID=America/New_York:20261108T120000
DTSTAMP:20260423T185449
CREATED:20251118T164943Z
LAST-MODIFIED:20251118T164943Z
UID:5177-1794139200-1794139200@hikinghoundadventures.com
SUMMARY:Treats on the Trail- Upper Providence
DESCRIPTION:Costume
URL:https://hikinghoundadventures.com/event/treats-on-the-trail-upper-providence-6/
CATEGORIES:Treats
END:VEVENT
BEGIN:VEVENT
DTSTART;TZID=America/New_York:20261112T100000
DTEND;TZID=America/New_York:20261112T100000
DTSTAMP:20260423T185449
CREATED:20251118T164335Z
LAST-MODIFIED:20251229T185658Z
UID:5024-1794477600-1794477600@hikinghoundadventures.com
SUMMARY:2 Day Virtual Leave No Trace Level 1 Instructor Course
DESCRIPTION:
URL:https://hikinghoundadventures.com/event/2-day-virtual-leave-no-trace-level-1-instructor-course-26/
CATEGORIES:LNT
END:VEVENT
BEGIN:VEVENT
DTSTART;TZID=America/New_York:20261113T100000
DTEND;TZID=America/New_York:20261113T100000
DTSTAMP:20260423T185449
CREATED:20251118T164335Z
LAST-MODIFIED:20251229T185658Z
UID:5025-1794564000-1794564000@hikinghoundadventures.com
SUMMARY:2 Day Virtual Leave No Trace Level 1 Instructor Course
DESCRIPTION:
URL:https://hikinghoundadventures.com/event/2-day-virtual-leave-no-trace-level-1-instructor-course-27/
CATEGORIES:LNT
END:VEVENT
BEGIN:VEVENT
DTSTART;TZID=America/New_York:20261114T100000
DTEND;TZID=America/New_York:20261114T100000
DTSTAMP:20260423T185449
CREATED:20260317T184148Z
LAST-MODIFIED:20260317T184148Z
UID:6143-1794650400-1794650400@hikinghoundadventures.com
SUMMARY:Girl Scout Cooking Event
DESCRIPTION:
URL:https://hikinghoundadventures.com/event/girl-scout-cooking-event/
CATEGORIES:Scouts
END:VEVENT
BEGIN:VEVENT
DTSTART;TZID=America/New_York:20261114T120000
DTEND;TZID=America/New_York:20261114T120000
DTSTAMP:20260423T185449
CREATED:20251118T164935Z
LAST-MODIFIED:20251118T164935Z
UID:5166-1794657600-1794657600@hikinghoundadventures.com
SUMMARY:Treats on the Trail- Radnor
DESCRIPTION:Hot Chocolate
URL:https://hikinghoundadventures.com/event/treats-on-the-trail-radnor-8/
CATEGORIES:Treats
END:VEVENT
BEGIN:VEVENT
DTSTART;TZID=America/New_York:20261120T090000
DTEND;TZID=America/New_York:20261120T090000
DTSTAMP:20260423T185449
CREATED:20251229T185907Z
LAST-MODIFIED:20251229T185907Z
UID:5565-1795165200-1795165200@hikinghoundadventures.com
SUMMARY:Allegheny Front Trail: 4 Day\, 3 Night Backpacking Trip
DESCRIPTION:
URL:https://hikinghoundadventures.com/event/allegheny-front-trail-4-day-3-night-backpacking-trip/
CATEGORIES:Backpacking Trips
END:VEVENT
BEGIN:VEVENT
DTSTART;TZID=America/New_York:20261121T090000
DTEND;TZID=America/New_York:20261121T090000
DTSTAMP:20260423T185449
CREATED:20251229T185907Z
LAST-MODIFIED:20251229T185907Z
UID:5566-1795251600-1795251600@hikinghoundadventures.com
SUMMARY:Allegheny Front Trail: 4 Day\, 3 Night Backpacking Trip
DESCRIPTION:
URL:https://hikinghoundadventures.com/event/allegheny-front-trail-4-day-3-night-backpacking-trip-2/
CATEGORIES:Backpacking Trips
END:VEVENT
BEGIN:VEVENT
DTSTART;TZID=America/New_York:20261122T090000
DTEND;TZID=America/New_York:20261122T090000
DTSTAMP:20260423T185449
CREATED:20251229T185922Z
LAST-MODIFIED:20251229T185922Z
UID:5567-1795338000-1795338000@hikinghoundadventures.com
SUMMARY:Allegheny Front Trail: 4 Day\, 3 Night Backpacking Trip
DESCRIPTION:
URL:https://hikinghoundadventures.com/event/allegheny-front-trail-4-day-3-night-backpacking-trip-3/
CATEGORIES:Backpacking Trips
END:VEVENT
BEGIN:VEVENT
DTSTART;TZID=America/New_York:20261123T090000
DTEND;TZID=America/New_York:20261123T090000
DTSTAMP:20260423T185449
CREATED:20251229T185922Z
LAST-MODIFIED:20251229T185922Z
UID:5568-1795424400-1795424400@hikinghoundadventures.com
SUMMARY:Allegheny Front Trail: 4 Day\, 3 Night Backpacking Trip
DESCRIPTION:
URL:https://hikinghoundadventures.com/event/allegheny-front-trail-4-day-3-night-backpacking-trip-4/
CATEGORIES:Backpacking Trips
END:VEVENT
BEGIN:VEVENT
DTSTART;TZID=America/New_York:20261129T110000
DTEND;TZID=America/New_York:20261129T110000
DTSTAMP:20260423T185449
CREATED:20251118T164941Z
LAST-MODIFIED:20251118T164941Z
UID:5171-1795950000-1795950000@hikinghoundadventures.com
SUMMARY:Treats on the Trail- Springfield (MontCo)
DESCRIPTION:Hot Chocolate
URL:https://hikinghoundadventures.com/event/treats-on-the-trail-springfield-montco-4/
CATEGORIES:Treats
END:VEVENT
END:VCALENDAR